BEGIN:VCALENDAR
VERSION:2.0
PRODID:-//ZephyrHall【ゼファーホール】 - ECPv6.15.20//NONSGML v1.0//EN
CALSCALE:GREGORIAN
METHOD:PUBLISH
X-WR-CALNAME:ZephyrHall【ゼファーホール】
X-ORIGINAL-URL:https://zephyrhall.xyz
X-WR-CALDESC:ZephyrHall【ゼファーホール】 のイベント
REFRESH-INTERVAL;VALUE=DURATION:PT1H
X-Robots-Tag:noindex
X-PUBLISHED-TTL:PT1H
BEGIN:VTIMEZONE
TZID:Asia/Tokyo
BEGIN:STANDARD
TZOFFSETFROM:+0900
TZOFFSETTO:+0900
TZNAME:JST
DTSTART:20240101T000000
END:STANDARD
END:VTIMEZONE
BEGIN:VEVENT
DTSTART;TZID=Asia/Tokyo:20250629T150000
DTEND;TZID=Asia/Tokyo:20250629T220000
DTSTAMP:20260425T201214
CREATED:20250630T040913Z
LAST-MODIFIED:20250630T040913Z
UID:1819-1751209200-1751234400@zephyrhall.xyz
SUMMARY:FES☆TIVE miniツアー〜新体制御挨拶祭〜
DESCRIPTION:【FES☆TIVE新体制御挨拶祭miniツアー】 \n6.1福岡?\n6.8東京?\n6.22広島?\n6.29名古屋?\n6.30大阪? \n5月9日(金)20:00よりFC先行発売??\nhttps://fstv.rizepro.net/news/public/_/gsjgma6aah66c5x2.html \n5月16日(金)20:00より一般発売??\nhttps://r-t.jp/festive-mini-tour
URL:https://zephyrhall.xyz/event/fes%e2%98%86tive-mini%e3%83%84%e3%82%a2%e3%83%bc%e3%80%9c%e6%96%b0%e4%bd%93%e5%88%b6%e5%be%a1%e6%8c%a8%e6%8b%b6%e7%a5%ad%e3%80%9c/
LOCATION:Zephyr Hall\, 愛知県名古屋市中区錦3丁目14-21\, 日本
ATTACH;FMTTYPE=image/jpeg:https://zephyrhall.xyz/wp-content/uploads/2025/06/GuqQt_oWMAAlybB.jpeg
END:VEVENT
BEGIN:VEVENT
DTSTART;TZID=Asia/Tokyo:20250628T120000
DTEND;TZID=Asia/Tokyo:20250628T220000
DTSTAMP:20260425T201214
CREATED:20250628T010917Z
LAST-MODIFIED:20250628T010917Z
UID:1815-1751112000-1751148000@zephyrhall.xyz
SUMMARY:AKTIE TOUR 2025 - NAGOYA -
DESCRIPTION:所属事務所が違うアーティストを揃え、まずはこの渋谷界隈から展開していこうという目的のもと立ち上がったイベント。\n時間の共有、ファンの共有、感情の共有という意味を込めてドイツ語で “AKTIE” (アクティ) \n2025.06.28 (SAT)\nAKTIE TOUR 2025 – NAGOYA –\nDAY https://t.livepocket.jp/e/xzqko\nNIGHT https://t.livepocket.jp/e/ump4i
URL:https://zephyrhall.xyz/event/aktie-tour-2025-nagoya/
LOCATION:Zephyr Hall\, 愛知県名古屋市中区錦3丁目14-21\, 日本
ATTACH;FMTTYPE=image/jpeg:https://zephyrhall.xyz/wp-content/uploads/2025/06/PEwVks1wEB2UT0dIgn6Wns5szlssjxypAxOiBsmEoTGPkWbT5KjVeGeeL6YdvPbA.jpg
END:VEVENT
BEGIN:VEVENT
DTSTART;TZID=Asia/Tokyo:20250627T170000
DTEND;TZID=Asia/Tokyo:20250627T220000
DTSTAMP:20260425T201214
CREATED:20250628T010804Z
LAST-MODIFIED:20250628T010804Z
UID:1812-1751043600-1751061600@zephyrhall.xyz
SUMMARY:Twilight BlooM.DebutLIVE!!
DESCRIPTION:出演者	こえだNTきたせ \, Dear Moon \, 愛※ぱんでみっく \, 世界で1番シンデレラ \, mofu/mofu \, AMOmillion \, Twilight BlooM. \, Stella!\n日　程\n2025/6/27(金)\n開場日時 17:40　 開演日時 18:00　\n会　場\nZephyr HALL (愛知県)\n販売元\n株式会社HYPER MEDIA NEET
URL:https://zephyrhall.xyz/event/twilight-bloom-debutlive/
LOCATION:Zephyr Hall\, 愛知県名古屋市中区錦3丁目14-21\, 日本
ATTACH;FMTTYPE=image/jpeg:https://zephyrhall.xyz/wp-content/uploads/2025/06/OaY8vQzXzKr5rXx2F2AgChhstPA5ZheONfk36fHibNbVIIr5qDzW2JHGtrJUvNZP.jpeg
END:VEVENT
BEGIN:VEVENT
DTSTART;TZID=Asia/Tokyo:20250626T170000
DTEND;TZID=Asia/Tokyo:20250626T220000
DTSTAMP:20260425T201214
CREATED:20250626T114624Z
LAST-MODIFIED:20250626T114624Z
UID:1807-1750957200-1750975200@zephyrhall.xyz
SUMMARY:Girls ONEPEACE PREMIUM
DESCRIPTION:6/26(木) \n『Girls ONEPEACE PREMIUM』 \n場所　Zephyr Hall\n時間　OPEN17:00/START17:20\n料金　優先3\,000円/一般1\,000円 \nタイムテーブル\nOPEN17:00/START17:20\n17:20-17:30 ややまる\n17:30-17:40 夢咲のどか\n17:40-17:50 パク・モモ\n17:50-18:00 甘依あう\n18:00-18:10 るかぴ\n18:10-18:20 東雲結愛\n18:20-18:30 柊かなめ\n18:30-18:40 いろね\n18:40-18:50 迦楼羅あられ\n18:50-19:00 恋麦める\n19:00-19:10 梅田サラサ\n19:10-19:25 兎月もも(並行19:35-21:40)\n19:25-19:35 早乙女りいち(並行19:45-21:40)\n19:35-19:45 南ことの(19:55-21:45)\n19:45-19:55 氷菓にこ\n19:55-20:05 有栖はるか\n20:05-20:15 こまり \nhttps://tiget.net/events/408707
URL:https://zephyrhall.xyz/event/girls-onepeace-premium/
LOCATION:Zephyr Hall\, 愛知県名古屋市中区錦3丁目14-21\, 日本
ATTACH;FMTTYPE=image/jpeg:https://zephyrhall.xyz/wp-content/uploads/2025/06/S__4383128.jpg
END:VEVENT
BEGIN:VEVENT
DTSTART;TZID=Asia/Tokyo:20250622T163000
DTEND;TZID=Asia/Tokyo:20250622T213000
DTSTAMP:20260425T201214
CREATED:20250621T010924Z
LAST-MODIFIED:20250621T010924Z
UID:1804-1750609800-1750627800@zephyrhall.xyz
SUMMARY:サークルライチ主催『サブカル』NAGOYA
DESCRIPTION:公演日時\n2025/6/22(日)\n開場時刻 16:15 / 開演時刻 16:35\n会場\nzephyr HALL\n出演\nマーキュロ / べロティカ / クララ・マグラ / VILLAINS HOUSE / クライセカイ / ギミック / うとゆに / セクト \nhttps://ticketdive.com/event/250622n
URL:https://zephyrhall.xyz/event/%e3%82%b5%e3%83%bc%e3%82%af%e3%83%ab%e3%83%a9%e3%82%a4%e3%83%81%e4%b8%bb%e5%82%ac%e3%80%8e%e3%82%b5%e3%83%96%e3%82%ab%e3%83%ab%e3%80%8fnagoya/
LOCATION:Zephyr Hall\, 愛知県名古屋市中区錦3丁目14-21\, 日本
ATTACH;FMTTYPE=image/jpeg:https://zephyrhall.xyz/wp-content/uploads/2025/06/GtZi96GaEAAkMfq_0.jpg
END:VEVENT
BEGIN:VEVENT
DTSTART;TZID=Asia/Tokyo:20250622T103000
DTEND;TZID=Asia/Tokyo:20250622T153000
DTSTAMP:20260425T201214
CREATED:20250621T010823Z
LAST-MODIFIED:20250621T010823Z
UID:1801-1750588200-1750606200@zephyrhall.xyz
SUMMARY:サークルライチ主催『サブカル』お試し編
DESCRIPTION:公演日時\n2025/6/22(日)\n開場時刻 10:30 / 開演時刻 10:50\n会場\nzephyr HALL\n出演\nマーキュロ / べロティカ / クララ・マグラ / VILLAINS HOUSE / クライセカイ / ギミック / うとゆに / セクト \nhttps://ticketdive.com/event/250622o
URL:https://zephyrhall.xyz/event/%e3%82%b5%e3%83%bc%e3%82%af%e3%83%ab%e3%83%a9%e3%82%a4%e3%83%81%e4%b8%bb%e5%82%ac%e3%80%8e%e3%82%b5%e3%83%96%e3%82%ab%e3%83%ab%e3%80%8f%e3%81%8a%e8%a9%a6%e3%81%97%e7%b7%a8/
LOCATION:Zephyr Hall\, 愛知県名古屋市中区錦3丁目14-21\, 日本
ATTACH;FMTTYPE=image/jpeg:https://zephyrhall.xyz/wp-content/uploads/2025/06/Gs1fy7ga0AApFo8_0.jpg
END:VEVENT
BEGIN:VEVENT
DTSTART;TZID=Asia/Tokyo:20250621T150000
DTEND;TZID=Asia/Tokyo:20250621T213000
DTSTAMP:20260425T201214
CREATED:20250620T070040Z
LAST-MODIFIED:20250620T070040Z
UID:1798-1750518000-1750541400@zephyrhall.xyz
SUMMARY:アナフェス名古屋mini 〜梅雨SP!!〜
DESCRIPTION:「アナフェス名古屋mini 〜梅雨SP!!〜」\n▼日時：6/21(土)OPEN14:50/START15:10\n▼会場：名古屋Zephyr Hall\n名古屋市中区錦3-14-21\n▼出演：ネコプラpixx.、君に、胸キュン。、ワッツ◎さーくる、のらりくらり、THE ENCORE、dela、アステリア、究極人形、グランダルメ、あたまのなかは8ビット!?、ふぇありーているず！、Ｏ₂、フロアキッチン\n▼料金：各 前方チケット3900円/通常チケット1000円/当日+500円(各D別)\n▼入場順：各①前方チケ整理番号順②通常チケ整理番号順③当日券整列順\nhttps://t.livepocket.jp/e/0621nagoya_
URL:https://zephyrhall.xyz/event/%e3%82%a2%e3%83%8a%e3%83%95%e3%82%a7%e3%82%b9%e5%90%8d%e5%8f%a4%e5%b1%8bmini-%e3%80%9c%e6%a2%85%e9%9b%a8sp%e3%80%9c/
LOCATION:Zephyr Hall\, 愛知県名古屋市中区錦3丁目14-21\, 日本
ATTACH;FMTTYPE=image/jpeg:https://zephyrhall.xyz/wp-content/uploads/2025/06/messageImage_1750164082786.jpg
END:VEVENT
BEGIN:VEVENT
DTSTART;TZID=Asia/Tokyo:20250621T123000
DTEND;TZID=Asia/Tokyo:20250621T170000
DTSTAMP:20260425T201214
CREATED:20250620T065935Z
LAST-MODIFIED:20250620T065935Z
UID:1795-1750509000-1750525200@zephyrhall.xyz
SUMMARY:シンデレラ宣言！RICO卒業ツアー『魔法が解けてしまう前に』in NAGOYA
DESCRIPTION:※公演中止の場合を除き、チケットの払い戻しは行いませんのでご了承下さい。\n※不正防止の為、スクリーンショットでのご入場はスタッフの裁量でお断りさせて頂く場合がございます。正規のチケット画面のご提示をお願いします。 \n【6/21(土) Zephyr Hall】 \n公演名：シンデレラ宣言！RICO卒業ツアー『魔法が解けてしまう前に』in NAGOYA\n出演：シンデレラ宣言！\n料金：前方エリア ¥6\,000 / 一般 ¥2\,000 / 女性 ¥1\,000\n※入場順：前方エリア⇒一般⇒女性\nhttps://t.livepocket.jp/e/rico_last_tour_nagoya  \n【TT】\n12:30 開場\n13:00 開演\n14:45-17:00 特典会
URL:https://zephyrhall.xyz/event/%e3%82%b7%e3%83%b3%e3%83%87%e3%83%ac%e3%83%a9%e5%ae%a3%e8%a8%80%ef%bc%81rico%e5%8d%92%e6%a5%ad%e3%83%84%e3%82%a2%e3%83%bc%e3%80%8e%e9%ad%94%e6%b3%95%e3%81%8c%e8%a7%a3%e3%81%91%e3%81%a6%e3%81%97/
LOCATION:Zephyr Hall\, 愛知県名古屋市中区錦3丁目14-21\, 日本
ATTACH;FMTTYPE=image/jpeg:https://zephyrhall.xyz/wp-content/uploads/2025/06/gbIRC0K2Df2tKiKw75nSi1hUEPfDKvau9yIrm3uk4cvP6DJcR9VnZg8sGPNqmH7v.jpg
END:VEVENT
BEGIN:VEVENT
DTSTART;TZID=Asia/Tokyo:20250620T163000
DTEND;TZID=Asia/Tokyo:20250620T213000
DTSTAMP:20260425T201214
CREATED:20250620T063702Z
LAST-MODIFIED:20250620T063702Z
UID:1792-1750437000-1750455000@zephyrhall.xyz
SUMMARY:AGE FES NAGOYA
DESCRIPTION:公演日時\n2025/6/20(金)\n開場時刻 16:30 / 開演時刻 16:50\n会場\nZephyr Hall\n出演\nchuLa / THE ENCORE / テンシンランマン / シャニムニ＝パレード / #ジューロック / Lollipop♡CHU / ネコプラpixx. / ぜろから☆すた→と \nhttps://ticketdive.com/event/ZulF6PdGoK4asGDzTz3U
URL:https://zephyrhall.xyz/event/age-fes-nagoya/
LOCATION:Zephyr Hall\, 愛知県名古屋市中区錦3丁目14-21\, 日本
ATTACH;FMTTYPE=image/webp:https://zephyrhall.xyz/wp-content/uploads/2025/06/sSSquGk1zHwL3xIekLpX_930826_1749626797214.webp
END:VEVENT
BEGIN:VEVENT
DTSTART;TZID=Asia/Tokyo:20250615T123000
DTEND;TZID=Asia/Tokyo:20250615T210000
DTSTAMP:20260425T201214
CREATED:20250612T133954Z
LAST-MODIFIED:20250612T133954Z
UID:1789-1749990600-1750021200@zephyrhall.xyz
SUMMARY:夢喰充電中! vol.101％ 名古屋公演
DESCRIPTION:『夢喰充電中! 』\n◾会場: zephyr hall\n◾料金:前売4000円(+1D)　当日券4500円(+1D)\n◾入場順：ライブポケット番号順→当日券\nチケットはライブポケットでの販売のみとなります。取り置きはございません。\nhttps://t.livepocket.jp/e/yumezyu250615_1 \nhttps://t.livepocket.jp/e/yumezyu250615_2 \n※抽選販売のチケットは本人確認あり、譲渡不可です。\nチケット画面はスクリーンショット不可となります。正規の画面での提示をお願いしております。\n各部OPEN時間15分前より整列、本人開始致します。 \n整列開始後到着されたお客さまは、最後尾での案内となります。\nまた必ず顔つき身分証明書をご用意ください。（コピー不可）\n顔付き身分証をお持ちでない場合は\n・顔なし身分証（例：健康保険証、住民基本台帳カード等）2点どちらも生年月日確認できた場合→Bチケット最後尾\n・１点のみ→当日券でのご案内\n・身分証をお持ちでない場合→当日券でのご案内 \n※前売り券完売の場合は当日券の販売はございません。 \n⚫︎特典会の際の接触は禁止となります。\n⚫︎スタッフの指示に従っていただけない場合は退場の処置を取らせていただく場合がございます。ご了承ください。\n⚫︎37.5℃を超えるお客様は入場をお断りしております。\n⚫︎お客様都合の返金、出入り禁止措置等による返金は致しかねます。ご了承ください。
URL:https://zephyrhall.xyz/event/%e5%a4%a2%e5%96%b0%e5%85%85%e9%9b%bb%e4%b8%ad-vol-101%ef%bc%85-%e5%90%8d%e5%8f%a4%e5%b1%8b%e5%85%ac%e6%bc%94/
LOCATION:Zephyr Hall\, 愛知県名古屋市中区錦3丁目14-21\, 日本
ATTACH;FMTTYPE=image/jpeg:https://zephyrhall.xyz/wp-content/uploads/2025/06/Gq4XipAW8AEjJCC_0_0-scaled.jpg
END:VEVENT
BEGIN:VEVENT
DTSTART;TZID=Asia/Tokyo:20250614T150000
DTEND;TZID=Asia/Tokyo:20250614T203000
DTSTAMP:20260425T201214
CREATED:20250612T132736Z
LAST-MODIFIED:20250612T132736Z
UID:1786-1749913200-1749933000@zephyrhall.xyz
SUMMARY:【名古屋】『唸れハイエース☆走れハイウェイ☆爆走1700km うぇーい！』＠名古屋Zephyr Hall
DESCRIPTION:「ファンの皆様の投票で決まるリクエストアワー！CDTVのように20位から1位の曲を順にやります！」 \n・日時\n2025年6月14日　土曜日\nOpen 15:00 　/　Start 16:00 \n・会場\n名古屋Zephyr Hall\n(https://zephyrhall.xyz/access/) \n・料金\nS席(前方エリア)  7\,000円\n一般  3\,000円 \nhttps://t.livepocket.jp/e/z74tg \n※小学生以下無料\n※別途１ドリンク(＋600円)\n※WEDチケットは別途購入手数料\n※オールスタンディング\n※会場内にエレベーターはございません。車いすでお越しの方はチケットご購入前に仮面女子公式ツイッターのDMへご相談ください。 \n※事前物販を予定しております。詳細は追ってお知らせします。
URL:https://zephyrhall.xyz/event/%e3%80%90%e5%90%8d%e5%8f%a4%e5%b1%8b%e3%80%91%e3%80%8e%e5%94%b8%e3%82%8c%e3%83%8f%e3%82%a4%e3%82%a8%e3%83%bc%e3%82%b9%e2%98%86%e8%b5%b0%e3%82%8c%e3%83%8f%e3%82%a4%e3%82%a6%e3%82%a7%e3%82%a4%e2%98%86/
LOCATION:Zephyr Hall\, 愛知県名古屋市中区錦3丁目14-21\, 日本
ATTACH;FMTTYPE=image/jpeg:https://zephyrhall.xyz/wp-content/uploads/2025/06/スクリーンショット-2025-06-12-22.24.39.jpg
END:VEVENT
BEGIN:VEVENT
DTSTART;TZID=Asia/Tokyo:20250613T153000
DTEND;TZID=Asia/Tokyo:20250613T223000
DTSTAMP:20260425T201214
CREATED:20250612T131959Z
LAST-MODIFIED:20250612T131959Z
UID:1783-1749828600-1749853800@zephyrhall.xyz
SUMMARY:RAD JAM前夜祭
DESCRIPTION:出演者	シャニムニ＝パレード \, #ジューロック \, STAiNY \, feelNEO \, Finally \, 蜜兎 \, HIBANA \, どーぴんぐ疑惑 \, Stella! \, 夏空のオリオン \, 雨模様のソラリス\n日　程\n2025/6/13(金)\n開演日時 16:00　\n会　場\nZephyr Hall (愛知県)\n販売元\nRAD LIVE株式会社 \nhttps://t.livepocket.jp/e/jam_zenya
URL:https://zephyrhall.xyz/event/rad-jam%e5%89%8d%e5%a4%9c%e7%a5%ad/
LOCATION:Zephyr Hall\, 愛知県名古屋市中区錦3丁目14-21\, 日本
ATTACH;FMTTYPE=image/jpeg:https://zephyrhall.xyz/wp-content/uploads/2025/06/S__16195609-scaled.jpg
END:VEVENT
BEGIN:VEVENT
DTSTART;TZID=Asia/Tokyo:20250612T173000
DTEND;TZID=Asia/Tokyo:20250612T220000
DTSTAMP:20260425T201214
CREATED:20250612T073811Z
LAST-MODIFIED:20250612T073811Z
UID:1780-1749749400-1749765600@zephyrhall.xyz
SUMMARY:OSUFES 〜清瀬真帆からありがとうを届けたい〜
DESCRIPTION:■公演概要\nOSUFES 〜清瀬真帆からありがとうを届けたい〜\n日時 2025年6月12日(木)\n会場 名古屋栄Zephyr Hall\n時間 17:30オープン/18:00スタート\n料金 一般1\,500円/前方3\,500円(各種+1D/当日+900円)\nチケットサイト https://t.livepocket.jp/e/s2fb_\n一般発売 2025年05月24日(土) 20:00  〜  2025年06月11日(水) 23:59\n出演 OS☆U / Ｏ₂ / おちゃメンタル☆パーティー / ふぇありーているず！ / ぜろから☆すた→と / サクヤコノハナ / THE ENCORE / 蜜兎 / 福沢杏純 / 堀梨恵 / 月島彩
URL:https://zephyrhall.xyz/event/osufes-%e3%80%9c%e6%b8%85%e7%80%ac%e7%9c%9f%e5%b8%86%e3%81%8b%e3%82%89%e3%81%82%e3%82%8a%e3%81%8c%e3%81%a8%e3%81%86%e3%82%92%e5%b1%8a%e3%81%91%e3%81%9f%e3%81%84%e3%80%9c/
LOCATION:Zephyr Hall\, 愛知県名古屋市中区錦3丁目14-21\, 日本
ATTACH;FMTTYPE=image/jpeg:https://zephyrhall.xyz/wp-content/uploads/2025/06/GrjjtekboAAt_FC.jpg
END:VEVENT
BEGIN:VEVENT
DTSTART;TZID=Asia/Tokyo:20250609T190000
DTEND;TZID=Asia/Tokyo:20250609T213000
DTSTAMP:20260425T201214
CREATED:20250606T085606Z
LAST-MODIFIED:20250606T085606Z
UID:1776-1749495600-1749504600@zephyrhall.xyz
SUMMARY:OS☆U 定期LIVE at Zephyr Hall
DESCRIPTION:【日時】\n6月9日(月)\n18:40　OPEN\n19:00　START  \n【会場】\nZephyr Hall\n〒460-0003\n愛知県名古屋市中区錦３丁目１４−２１ \n【チケット】\n前方エリア\n2\,000円(別途1D) \n一般\n0円(別途1D) \n【当日券】\n前方エリア\n3\,000円(別途1D) \n一般\n500円(別途1D) \n入場順\n前方エリア→一般 \nチケットはこちら\nhttps://t.livepocket.jp/e/gr56i \n【OS☆U 出演メンバー】\n香田リン/ 出雲やえ/水沢桃々  / 清瀬真帆 / 板垣 有砂 / 幸村望叶/ 秋原かなみ/ 佐伯茉菜美/ 桃川ひの/幸村一花/橘華夜/花咲璃里華\n※メンバーは急遽変更になる場合がございます。
URL:https://zephyrhall.xyz/event/os%e2%98%86u-%e5%ae%9a%e6%9c%9flive-at-zephyr-hall-9/
LOCATION:Zephyr Hall\, 愛知県名古屋市中区錦3丁目14-21\, 日本
ATTACH;FMTTYPE=image/jpeg:https://zephyrhall.xyz/wp-content/uploads/2025/06/Gq4g-clbAAIwU3E.jpg
END:VEVENT
BEGIN:VEVENT
DTSTART;TZID=Asia/Tokyo:20250608T150000
DTEND;TZID=Asia/Tokyo:20250608T210000
DTSTAMP:20260425T201214
CREATED:20250606T085437Z
LAST-MODIFIED:20250606T085437Z
UID:1773-1749394800-1749416400@zephyrhall.xyz
SUMMARY:fav me東名阪ツアー「We're fav me♡」
DESCRIPTION:日時：2025年6月1日（日）\n　　　開場15:00／開演16:00\n会場：大阪府 amHALL\nチケット先着販売：〜5月31日（土）23:59 \n日時：2025年6月8日（日）\n　　　開場15:00／開演16:00\n会場：愛知県 Zephyr Hall\nチケット先着販売：～6月7日(土) 23:59 \n日時：2025年7月8日（火）\n　　　開場18:00／開演19:00\n会場：東京都 LIQUIDROOM\nチケット先着販売：5月7日(水) 21:00より発売 \n【チケット一般発売】\n料金：前方 ￥6\,000（税込）／一般 ￥3\,000（税込）※ドリンク代別途\n▼販売URL\nhttp://w.pia.jp/t/favme-tour2025/
URL:https://zephyrhall.xyz/event/fav-me%e6%9d%b1%e5%90%8d%e9%98%aa%e3%83%84%e3%82%a2%e3%83%bc%e3%80%8cwere-fav-me%e2%99%a1%e3%80%8d/
LOCATION:Zephyr Hall\, 愛知県名古屋市中区錦3丁目14-21\, 日本
ATTACH;FMTTYPE=image/jpeg:https://zephyrhall.xyz/wp-content/uploads/2025/06/favmeツアーフライヤー.jpg
END:VEVENT
BEGIN:VEVENT
DTSTART;TZID=Asia/Tokyo:20250607T140000
DTEND;TZID=Asia/Tokyo:20250607T190000
DTSTAMP:20260425T201214
CREATED:20250606T082416Z
LAST-MODIFIED:20250606T082416Z
UID:1770-1749304800-1749322800@zephyrhall.xyz
SUMMARY:手羽先センセーション新体制お披露目公演-名古屋-
DESCRIPTION:『手羽先センセーション新体制お披露目公演-名古屋-』\n■日程　2025年6月7日(土)\n■時間　15:00開場 / 15:30開演\n■会場  Zephyr Hall\n■料金　前売2000円 / 当日2500円 +1D\n※前売券完売の場合当日券販売なし\n■出演　手羽先センセーション\n■販売方法・入場順\n①先行抽選販売（A-01～）　5/11(日) 22:00～5/17(土) 12:00\n②一般先着販売（B-01～）　5/18(日) 22:00～6/6（金）23:59\n■入場　整理番号順（A-01~ → B-01~ → C-01~ → 当日券）\nhttps://ticketdive.com/event/tebasen_0607\n■タイムテーブル\n14:00- 事前物販（開演まで）\n14:45- 入場列の整列開始\n15:00 開場\n15:30 開演\n15:30-16:15 ライブ\n16:30- 物販（列が途切れたメンバーから終了） \n■購入及び入場に関するご注意\n・チケットはお一人様1枚まで購入可能です。必ずご本人様がお申込ください。全てのチケット共通して譲渡不可です。\n・ライブ当日、本人確認のため身分証明証をご提示いただく場合がございます。ご面倒をおかけしますがご協力よろしくお願いします。 \n■注意事項\n・リフト、ダイブ、サーフ、モッシュ等の禁止。\n・他のお客様の迷惑となる行為は全面禁止です。ルールをお守り頂けないお客様に対しては、退場処分とさせて頂きます。\n・アルコール類の持ち込み及び飲酒をされてのご入場は禁止です。\n・チケットの番号順を守り、走らず歩いてご入場ください。\n・席取り(荷物やタオルを床に置くなど)、割込み、威圧的な観覧場所交換の交渉等、他のお客様に迷惑になることはお止めください。\n・整理番号や整列順を無視し、番号の遅い知人の為に場所を取る等の行為は絶対におやめください。発覚した場合、参加をお断りさせて頂きます。\n・イベント中の盗難・紛失等についての一切の責任は負いません。\n・LIVE中の録画録音撮影は禁止とさせて頂きます。 \nその他、スタッフが禁止行為と判断したことに関してはお声掛け致します。
URL:https://zephyrhall.xyz/event/%e6%89%8b%e7%be%bd%e5%85%88%e3%82%bb%e3%83%b3%e3%82%bb%e3%83%bc%e3%82%b7%e3%83%a7%e3%83%b3%e6%96%b0%e4%bd%93%e5%88%b6%e3%81%8a%e6%8a%ab%e9%9c%b2%e7%9b%ae%e5%85%ac%e6%bc%94-%e5%90%8d%e5%8f%a4%e5%b1%8b/
LOCATION:Zephyr Hall\, 愛知県名古屋市中区錦3丁目14-21\, 日本
ATTACH;FMTTYPE=image/webp:https://zephyrhall.xyz/wp-content/uploads/2025/06/I5lzzZ0I12iGRdAHN9A5_137709_1746960520714.webp
END:VEVENT
BEGIN:VEVENT
DTSTART;TZID=Asia/Tokyo:20250606T173000
DTEND;TZID=Asia/Tokyo:20250606T223000
DTSTAMP:20260425T201214
CREATED:20250606T060203Z
LAST-MODIFIED:20250606T060203Z
UID:1767-1749231000-1749249000@zephyrhall.xyz
SUMMARY:キミの主人公デビューライブ
DESCRIPTION:キミの主人公デビューライブ \n日時 : 2025年6月6日(金)\n会場 : Zephyr Hall\n金額 : 優先エリア3000円  一般100円 当日＋500円\nhttps://t.livepocket.jp/e/c1hvf \n17:30 開場\n17:50-18:10 AMO milliomnn（18:20-19:20）\n18:10-18:30 いざ参らん(18:40-19:40)\n18:30-18:50  金星☆ジュリエッタ(19:00-20:00)\n18:50-19:10  Star☆T (19:20-20:20)\n19:10-19:20  キミの主人公 \n19:25-19:45 Le☆miel (終演後特典会)\n19:45-20:05 メリーミューズ (終演後特典会)\n20:05-20:25  なないろ∞ミルキーウェイ(終演後特典会)\n20:25-20:45  キミの主人公(終演後特典会) \n20:50-21:50  終演後特典会
URL:https://zephyrhall.xyz/event/%e3%82%ad%e3%83%9f%e3%81%ae%e4%b8%bb%e4%ba%ba%e5%85%ac%e3%83%87%e3%83%93%e3%83%a5%e3%83%bc%e3%83%a9%e3%82%a4%e3%83%96/
LOCATION:Zephyr Hall\, 愛知県名古屋市中区錦3丁目14-21\, 日本
ATTACH;FMTTYPE=image/jpeg:https://zephyrhall.xyz/wp-content/uploads/2025/06/E1RMC93E9vtPfwFa10sOiL0Z8IBoptEzmO8R3N0kBPiQ0PVcIONZkRc4R5WG6eUA.jpeg
END:VEVENT
BEGIN:VEVENT
DTSTART;TZID=Asia/Tokyo:20250531T093000
DTEND;TZID=Asia/Tokyo:20250601T223000
DTSTAMP:20260425T201214
CREATED:20250530T055511Z
LAST-MODIFIED:20250530T055511Z
UID:1764-1748683800-1748817000@zephyrhall.xyz
SUMMARY:mistFES2025
DESCRIPTION:5月31日（土）、6月1日（日）\n「mistFES2025」 \n名古屋に1000人以上のアイドルが終結！\n名古屋の中心部をアイドルとファン駆け回る2日間！\n初夏の恒例行事mistFES！！ \nチケット好評発売中です！\n【2日通し券※前売のみ】税込14\,200円（2D代1200円含む）\n【1日券】前売 税込7\,600円（1D代600円含む）\nhttps://funity.jp/tickets/andcore2/showlist
URL:https://zephyrhall.xyz/event/mistfes2025/
LOCATION:Zephyr Hall\, 愛知県名古屋市中区錦3丁目14-21\, 日本
ATTACH;FMTTYPE=image/jpeg:https://zephyrhall.xyz/wp-content/uploads/2025/05/GrM_wbxWYAA81aX-scaled.jpeg
END:VEVENT
BEGIN:VEVENT
DTSTART;TZID=Asia/Tokyo:20250530T170000
DTEND;TZID=Asia/Tokyo:20250530T220000
DTSTAMP:20260425T201214
CREATED:20250530T055105Z
LAST-MODIFIED:20250530T055105Z
UID:1761-1748624400-1748642400@zephyrhall.xyz
SUMMARY:WHO IS HERO!? in NAGOYA vol.2
DESCRIPTION:開催日：5月30日(金)\n会場：Zephyr Hall\n時間：OPEN 17:00 / START 17:30\n出演者：SE7ENTH SENSE / LokuRok / ALL IN / NEWTREND / iPASS / LIT\n料金：\n①優先エリア ¥4\,000\n・優先エリアスペースのみご案内\n②一般エリア ¥2\,000\n※チケット代とは別に当日入場時に別途ドリンク代がかかります。\n https://t.livepocket.jp/e/vwcz5 \n〈入場順〉\n①優先エリア→②一般エリア→③当日券 \n⚫︎全組終演後特典会実施！
URL:https://zephyrhall.xyz/event/who-is-hero-in-nagoya-vol-2/
LOCATION:Zephyr Hall\, 愛知県名古屋市中区錦3丁目14-21\, 日本
ATTACH;FMTTYPE=image/jpeg:https://zephyrhall.xyz/wp-content/uploads/2025/05/txjo28bp8TrA7k5d7HG4GOxLRaCQSxwhZyRFhKkDMVtNN6edziS3idgEjMxqrCWm_0-scaled.jpg
END:VEVENT
BEGIN:VEVENT
DTSTART;TZID=Asia/Tokyo:20250527T190000
DTEND;TZID=Asia/Tokyo:20250527T213000
DTSTAMP:20260425T201214
CREATED:20250527T082136Z
LAST-MODIFIED:20250527T082136Z
UID:1758-1748372400-1748381400@zephyrhall.xyz
SUMMARY:君キュン定期公演-名古屋編- Vol.17 ~優歌・はるか3周年SP
DESCRIPTION:■会場　Zephyr Hall\n■時間　OPEN 19:00/ START 19:30\n■料金　優先エリア2\,000円 / 一般前売500円 / 女性限定0円 ※当日一般+500円（別途1D）\n■出演　君に、胸キュン。\nhttps://tiget.net/events/400701\n【入場順】\n①優先→②一般→③女性→④当日 \n【チケット発売スケジュール】\n優先エリア(抽選)　・5/12 21:00 – 5/16 20:00締切 ※5/15 20:30 結果発表\n前売り一般(先着)　・5/15 21:00~\n女性限定(先着)　・5/15 21:30~ \n【ご来場の皆様へお願いと注意事項】\n優先エリアチケットご購入のお客様は入場時に以下の《顔写真付き身分証明書》によるご本人確認をさせていただきます。\n　・運転免許証\n　・パスポート\n　・在留カードまたは外国人登録証明書\n　・特別永住者証明書\n　・障害者手帳\n　・顔写真付きクレジットカード\n　・マイナンバーカード\n　・顔写真付き住民基本台帳カード（住基カード）
URL:https://zephyrhall.xyz/event/%e5%90%9b%e3%82%ad%e3%83%a5%e3%83%b3%e5%ae%9a%e6%9c%9f%e5%85%ac%e6%bc%94-%e5%90%8d%e5%8f%a4%e5%b1%8b%e7%b7%a8-vol-17-%e5%84%aa%e6%ad%8c%e3%83%bb%e3%81%af%e3%82%8b%e3%81%8b3%e5%91%a8%e5%b9%b4sp/
LOCATION:Zephyr Hall\, 愛知県名古屋市中区錦3丁目14-21\, 日本
ATTACH;FMTTYPE=image/jpeg:https://zephyrhall.xyz/wp-content/uploads/2025/05/Grnx4LMWAAA2ypi.jpg
END:VEVENT
BEGIN:VEVENT
DTSTART;TZID=Asia/Tokyo:20250525T110000
DTEND;TZID=Asia/Tokyo:20250525T213000
DTSTAMP:20260425T201214
CREATED:20250522T055930Z
LAST-MODIFIED:20250522T055930Z
UID:1749-1748170800-1748208600@zephyrhall.xyz
SUMMARY:RAD iD LIVE
DESCRIPTION:出演者	THE ORCHESTRA TOKYO \, Merry BAD TUNE. \, feelNEO \, MADMED \, マザリ \, 蜜兎 \, HIBANA \, 逆転ねこぱんちっ！ \, SiLENT←NOiSE \, シャニムニパレード \, #ジューロック \, エイアイカ \, SHIROMIZAKANA \, GRiED\n日　程\n2025/5/25(日)\n開演日時 11:30　\n会　場\nZephyr Hall (東京都)\n販売元\nRAD LIVE株式会社 \nhttps://t.livepocket.jp/e/0525_z
URL:https://zephyrhall.xyz/event/rad-id-live-4/
LOCATION:Zephyr Hall\, 愛知県名古屋市中区錦3丁目14-21\, 日本
ATTACH;FMTTYPE=image/jpeg:https://zephyrhall.xyz/wp-content/uploads/2025/05/EVrRxHAhrCuGcVmckRy6NyBBwEt7Ud9Mz7uj1Oa1CpbGLAb4MkZbB4fnRcGcyvAs-scaled.jpeg
END:VEVENT
BEGIN:VEVENT
DTSTART;TZID=Asia/Tokyo:20250524T153000
DTEND;TZID=Asia/Tokyo:20250524T213000
DTSTAMP:20260425T201214
CREATED:20250522T055803Z
LAST-MODIFIED:20250522T055803Z
UID:1746-1748100600-1748122200@zephyrhall.xyz
SUMMARY:うぇるかむにゃんだふぉー 〜Nyanderful Half Anniversary Tour 〜
DESCRIPTION:出演者	にゃんだふる！\n日　程\n2025/5/24(土)\n開演日時 15:30　\n会　場\nZephyrHall (愛知県)\n販売元\nにゃんだふる！ \nhttps://t.livepocket.jp/e/nyan0524
URL:https://zephyrhall.xyz/event/%e3%81%86%e3%81%87%e3%82%8b%e3%81%8b%e3%82%80%e3%81%ab%e3%82%83%e3%82%93%e3%81%a0%e3%81%b5%e3%81%89%e3%83%bc-%e3%80%9cnyanderful-half-anniversary-tour-%e3%80%9c/
LOCATION:Zephyr Hall\, 愛知県名古屋市中区錦3丁目14-21\, 日本
ATTACH;FMTTYPE=image/jpeg:https://zephyrhall.xyz/wp-content/uploads/2025/05/t4u42wl0Y4qmzbvbjVKzbil5nccUTnTdm1J3gJOH0aAuv7eu5UIdDgFWQRqOazQn.jpeg
END:VEVENT
BEGIN:VEVENT
DTSTART;TZID=Asia/Tokyo:20250523T180000
DTEND;TZID=Asia/Tokyo:20250523T213000
DTSTAMP:20260425T201214
CREATED:20250522T062024Z
LAST-MODIFIED:20250522T062024Z
UID:1752-1748023200-1748035800@zephyrhall.xyz
SUMMARY:SKE48 プリマステラ1/2？ ふぁいなるらいぶ
DESCRIPTION:SKE48 プリマステラ1/2？ ふぁいなるらいぶ \n【会場】Zephyr Hall \n【公演時間】 開場18:00／開演19:00 \n【出演】 SKE48 プリマステラ\n(坂本真凛、浅井裕華、上村亜柚香）\n※出演メンバーはスケジュール、体調などにより変更になる場合があります。\n※出演メンバー変更による払い戻しはございませんのであらかじめご了承ください。 \n【公演に関するお問い合わせ】\nサンデーフォークプロモーション　052-320-9100 (12:00～18:00)
URL:https://zephyrhall.xyz/event/ske48-%e3%83%97%e3%83%aa%e3%83%9e%e3%82%b9%e3%83%86%e3%83%a91-2%ef%bc%9f-%e3%81%b5%e3%81%81%e3%81%84%e3%81%aa%e3%82%8b%e3%82%89%e3%81%84%e3%81%b6/
LOCATION:Zephyr Hall\, 愛知県名古屋市中区錦3丁目14-21\, 日本
ATTACH;FMTTYPE=image/png:https://zephyrhall.xyz/wp-content/uploads/2025/05/画像.png
END:VEVENT
BEGIN:VEVENT
DTSTART;TZID=Asia/Tokyo:20250522T173000
DTEND;TZID=Asia/Tokyo:20250522T213000
DTSTAMP:20260425T201214
CREATED:20250522T055622Z
LAST-MODIFIED:20250522T055622Z
UID:1743-1747935000-1747949400@zephyrhall.xyz
SUMMARY:天使あんじゅ生誕祭〜あんじゅと一緒に人生歩もう♡〜
DESCRIPTION:【表題】天使あんじゅ生誕祭〜あんじゅと一緒に人生歩もう♡〜\n【日程】５月22日木曜日\n【会場】Zephyr Hall\n【時間】OPEN17:30/START18:00\n【チケット】Sチケット(限定Tシャツ、Sエリア/あんじゅファストパス付き)¥12000優先エリア¥3500/一般¥2000/当日券+¥500/+1D \n※エリア分け Sエリア/優先/一般\n※入場順　S→優先→一般→当日 \n【出演】\nぜろから☆すた→と\nSTARRY×NIGHT↗︎\nSiLENT←NOiSE\nあたまのなかは８ビット!? \nhttps://t.livepocket.jp/e/rrz2k \n【タイムテーブル】 \n18:00〜18:20 SiLENT←NOiSE \n18:20〜18:40 天使あんじゅ　ユニット、ソロ \n18:40〜19:00 あたまのなかは８ビット!? \n19:00〜19:20 STARRY×NIGHT↗ \n19:20〜19:50 ぜろから☆すた→と \n20:00～21:30 終演後物販
URL:https://zephyrhall.xyz/event/%e5%a4%a9%e4%bd%bf%e3%81%82%e3%82%93%e3%81%98%e3%82%85%e7%94%9f%e8%aa%95%e7%a5%ad%e3%80%9c%e3%81%82%e3%82%93%e3%81%98%e3%82%85%e3%81%a8%e4%b8%80%e7%b7%92%e3%81%ab%e4%ba%ba%e7%94%9f%e6%ad%a9%e3%82%82/
LOCATION:Zephyr Hall\, 愛知県名古屋市中区錦3丁目14-21\, 日本
ATTACH;FMTTYPE=image/jpeg:https://zephyrhall.xyz/wp-content/uploads/2025/05/SrvdFvMn1jiQRkPLnTwcUgzk5bIYZizyvpeDmEuxnDakTtOL1iZLHevfLS8oXNBt.jpg
END:VEVENT
BEGIN:VEVENT
DTSTART;TZID=Asia/Tokyo:20250519T183000
DTEND;TZID=Asia/Tokyo:20250519T210000
DTSTAMP:20260425T201214
CREATED:20250517T011111Z
LAST-MODIFIED:20250517T011111Z
UID:1740-1747679400-1747688400@zephyrhall.xyz
SUMMARY:OS☆U 定期LIVE at Zephyr Hall〜届け 全力パフォーマンス!!!〜
DESCRIPTION:【日時】\n5月19日(月)\n18:40　OPEN\n19:00　START  \n【会場】\nZephyr Hall\n〒460-0003\n愛知県名古屋市中区錦３丁目１４−２１ \n【チケット】\n前方エリア\n2\,000円(別途1D) \n一般\n0円(別途1D) \n【当日券】\n前方エリア\n3\,000円(別途1D) \n一般\n500円(別途1D) \n入場順\n前方エリア→一般 \nチケットはこちら\nhttps://t.livepocket.jp/e/leoy2 \n販売期間\n2025年04月13日(日) 21:00  〜  2025年05月19日(月) 18:00
URL:https://zephyrhall.xyz/event/os%e2%98%86u-%e5%ae%9a%e6%9c%9flive-at-zephyr-hall%e3%80%9c%e5%b1%8a%e3%81%91-%e5%85%a8%e5%8a%9b%e3%83%91%e3%83%95%e3%82%a9%e3%83%bc%e3%83%9e%e3%83%b3%e3%82%b9%e3%80%9c/
LOCATION:Zephyr Hall\, 愛知県名古屋市中区錦3丁目14-21\, 日本
ATTACH;FMTTYPE=image/jpeg:https://zephyrhall.xyz/wp-content/uploads/2025/05/kWtxa4f95lhndbJuWiYxmvMwQwTzUCY4AFRFhjEQkuHfeDtSZM5iicm34WtlxVpG.jpeg
END:VEVENT
BEGIN:VEVENT
DTSTART;TZID=Asia/Tokyo:20250518T110000
DTEND;TZID=Asia/Tokyo:20250518T220000
DTSTAMP:20260425T201214
CREATED:20250517T010908Z
LAST-MODIFIED:20250517T010908Z
UID:1737-1747566000-1747605600@zephyrhall.xyz
SUMMARY:GIRLS☆DELIGHT#342
DESCRIPTION:5月18日(日)\n『GIRLS☆DELIGHT#342』 \n▪会場：Zephyr Hall\n愛知県名古屋市中区錦3-14-21 Zephyr Hall\n▪時間：開場11:00／開演11:20\n▪料金：前売前方エリア3\,000円／前売一般エリア1\,000円／当日各+1\,000円（D代別）\n▪出演者：アステリア／あたまのなかは8ビット⁉／究極人形／THE ENCORE／いつかの夜に僕たちが、／Ep:ChouChou／OS☆U／おちゃメンタル☆パーティー／お願い!!フルハウス／カリスマめんざいふっ！／金星☆ジュリエッタ／CLEAR’S／グランダルメ／Sweet Alley／Star☆T／STARRY×NIGHT↗／Cent Heaven／dela／ナト☆カン／HIGH SPIRITS／+Alpha／BABY BUBBLE／マイノリティアラート／ゆめポケ／LOTUS MARRY \n▪チケット\nhttps://t.livepocket.jp/e/girlsdelight342\n販売期間：4月30日(水)23:00-5月18日(日)9:00 \n▪特記事項\n※再入場可
URL:https://zephyrhall.xyz/event/girls%e2%98%86delight342/
LOCATION:Zephyr Hall\, 愛知県名古屋市中区錦3丁目14-21\, 日本
ATTACH;FMTTYPE=image/jpeg:https://zephyrhall.xyz/wp-content/uploads/2025/05/ZE2OtB7ZY0reYChvRi39sRDMwOfO6UMA9uo99qSJCPl85aAWnG2pygKeMAYQ6Ni6.jpg
END:VEVENT
BEGIN:VEVENT
DTSTART;TZID=Asia/Tokyo:20250517T140000
DTEND;TZID=Asia/Tokyo:20250517T220000
DTSTAMP:20260425T201214
CREATED:20250517T010811Z
LAST-MODIFIED:20250517T010811Z
UID:1734-1747490400-1747519200@zephyrhall.xyz
SUMMARY:GIRLS☆DELIGHT#341
DESCRIPTION:5月17日(土)\n『GIRLS☆DELIGHT#341』 \n▪会場：Zephyr Hall\n愛知県名古屋市中区錦3-14-21 Zephyr Hall\n▪時間：開場14:00／開演14:30\n▪料金：前売前方エリア3\,000円／前売一般エリア1\,000円／当日各+1\,000円（D代別）\n▪出演者：Ep:ChouChou／お願い!!フルハウス／カラフルスクリーム／カリスマめんざいふっ！／金星☆ジュリエッタ／CLEAR’S／サクヤコノハナ／SHIROMIZAKANA／Star☆T／すーぱーぷーばぁー!!／Cent Heaven／どーぴんぐ疑惑／HIGH SPIRITS／P-Loco／BABY BUBBLE／マイノリティアラート／Re:Clash／LOTUS MARRY \n▪チケット\nhttps://t.livepocket.jp/e/girlsdelight341\n販売期間：4月30日(水)22:00-5月17日(土)12:00 \n▪特記事項\n※再入場可
URL:https://zephyrhall.xyz/event/girls%e2%98%86delight341/
LOCATION:Zephyr Hall\, 愛知県名古屋市中区錦3丁目14-21\, 日本
ATTACH;FMTTYPE=image/jpeg:https://zephyrhall.xyz/wp-content/uploads/2025/05/ursYvOuHeNnuNQ3OnGazUsyXlyDx3K6EvzFtlp6NrdPOf8Troi25DuAG4eDubCBQ.jpg
END:VEVENT
BEGIN:VEVENT
DTSTART;TZID=Asia/Tokyo:20250517T110000
DTEND;TZID=Asia/Tokyo:20250517T150000
DTSTAMP:20260425T201214
CREATED:20250517T010710Z
LAST-MODIFIED:20250517T010710Z
UID:1731-1747479600-1747494000@zephyrhall.xyz
SUMMARY:SWEET PARTY NAGOYA
DESCRIPTION:5月17日(土)\n『SWEET PARTY NAGOYA』 \n▪会場：Zephyr Hall\n愛知県名古屋市中区錦3-14-21 Zephyr Hall\n▪時間：開場11:00／開演11:40\n▪料金：前売前方エリア2\,500円／前売一般エリア500円／当日各+500円（D代別）\n▪出演者：Sweet Alley／カラフルスクリーム／煌めき☆アンフォレント／サクヤコノハナ \n▪チケット\nhttps://t.livepocket.jp/e/sweetparty_nagoya\n販売期間：4月28日(月)21:00-5月17日(土)9:00 \n▪特記事項\n※再入場不可
URL:https://zephyrhall.xyz/event/sweet-party-nagoya-3/
LOCATION:Zephyr Hall\, 愛知県名古屋市中区錦3丁目14-21\, 日本
ATTACH;FMTTYPE=image/jpeg:https://zephyrhall.xyz/wp-content/uploads/2025/05/uZ2Jh4Tx20CfRW30w6FaJ55SzudWGMkBfq1Y38EgegcqiwE1Nm1RO88OH05y3p4h.jpeg
END:VEVENT
BEGIN:VEVENT
DTSTART;TZID=Asia/Tokyo:20250512T173000
DTEND;TZID=Asia/Tokyo:20250512T220000
DTSTAMP:20260425T201214
CREATED:20250512T071236Z
LAST-MODIFIED:20250512T071236Z
UID:1727-1747071000-1747087200@zephyrhall.xyz
SUMMARY:星が降る夜に vol.6
DESCRIPTION:5/12(月)\n「星が降る夜に vol.6」\n会場:Zephyr Hall\n料金:優先¥3000/一般¥500/当日+¥500(各1D別)\n出演者:夏空のオリオン、Cent Heaven、ぜろから☆すた→と、STARRY×NIGHT↗、Beloved、image、アステリア、OS☆U\nhttps://tiget.net/events/392223 \n【タイムテーブル】\n17:30 OPEN\n17:55 image\n18:15 Beloved\n18:35 STARRY×NIGHT↗\n18:55 Cent Heaven\n19:15 アステリア\n19:35 OS☆U\n19:55 ぜろから☆すた→と\n20:15 夏空のオリオン\n20:40 終演後特典会\n21:50 特典会終了
URL:https://zephyrhall.xyz/event/%e6%98%9f%e3%81%8c%e9%99%8d%e3%82%8b%e5%a4%9c%e3%81%ab-vol-6/
LOCATION:Zephyr Hall\, 愛知県名古屋市中区錦3丁目14-21\, 日本
ATTACH;FMTTYPE=image/png:https://zephyrhall.xyz/wp-content/uploads/2025/05/ddc4cd1d-8ad7-4de6-ab6b-47a4b33291f7.png
END:VEVENT
BEGIN:VEVENT
DTSTART;TZID=Asia/Tokyo:20250511T170000
DTEND;TZID=Asia/Tokyo:20250511T213000
DTSTAMP:20260425T201214
CREATED:20250510T005526Z
LAST-MODIFIED:20250510T005526Z
UID:1724-1746982800-1746999000@zephyrhall.xyz
SUMMARY:MyDearDarlin’ 東名阪ツアー『LIVE THE LIVE』in名古屋
DESCRIPTION:【公演概要】\n公演名：MyDearDarlin’ 東名阪ツアー『LIVE THE LIVE』in名古屋\n日程：2024年5月11日(日)\n時間：OPEN 17:00／START 17:30\n会場： Zephyr Hall（〒460-0003 愛知県名古屋市中区錦3丁目14-21）\nチケット代：前方￥5\,000／一般￥1\,500（別途ドリンク代）\n※女性限定エリアあり！ \n【タイムテーブル】\n17:00 OPEN／17:30 START\n17:30-18:30 LIVE\n18:45-20:15 終演後特典会 \n【チケット詳細】\nhttps://ticketdive.com/event/LIVETHELIVE_nagoya\n◎前方チケット【先着】前方￥5\,000（別途ドリンク代）\n決済方法：クレジットカード／コンビニ払い\n受付期間：5/3 21:45-5/10 23:59 \n◎一般チケット【先着】￥1\,500（別途ドリンク代）\n決済方法：クレジットカード／コンビニ払い\n受付期間：5/3 22:45-5/10 23:59 \n■入場順\n入場はお申し込み整理番号順となります（前方チケット→一般チケット）。\n※再入場不可
URL:https://zephyrhall.xyz/event/mydeardarlin-%e6%9d%b1%e5%90%8d%e9%98%aa%e3%83%84%e3%82%a2%e3%83%bc%e3%80%8elive-the-live%e3%80%8fin%e5%90%8d%e5%8f%a4%e5%b1%8b/
LOCATION:Zephyr Hall\, 愛知県名古屋市中区錦3丁目14-21\, 日本
ATTACH;FMTTYPE=image/jpeg:https://zephyrhall.xyz/wp-content/uploads/2025/05/S__44294306_0_0.jpg
END:VEVENT
END:VCALENDAR