BEGIN:VCALENDAR
VERSION:2.0
PRODID:-//ZephyrHall【ゼファーホール】 - ECPv6.15.20//NONSGML v1.0//EN
CALSCALE:GREGORIAN
METHOD:PUBLISH
X-WR-CALNAME:ZephyrHall【ゼファーホール】
X-ORIGINAL-URL:https://zephyrhall.xyz
X-WR-CALDESC:ZephyrHall【ゼファーホール】 のイベント
REFRESH-INTERVAL;VALUE=DURATION:PT1H
X-Robots-Tag:noindex
X-PUBLISHED-TTL:PT1H
BEGIN:VTIMEZONE
TZID:Asia/Tokyo
BEGIN:STANDARD
TZOFFSETFROM:+0900
TZOFFSETTO:+0900
TZNAME:JST
DTSTART:20240101T000000
END:STANDARD
END:VTIMEZONE
BEGIN:VEVENT
DTSTART;TZID=Asia/Tokyo:20250923T110000
DTEND;TZID=Asia/Tokyo:20250923T213000
DTSTAMP:20260425T201444
CREATED:20250921T015940Z
LAST-MODIFIED:20250921T015940Z
UID:2002-1758625200-1758663000@zephyrhall.xyz
SUMMARY:iDOL BANQUET in ZephyrHall
DESCRIPTION:9月23日（火祝）\n「iDOL BANQUET in ZephyrHall」\n【出演】\n《BOYS》UNWHITE／カラフルダイヤモンド／STELLAθ／ボイメンエリア研究生／Merry Bad End／LIT／\n《GIRLS》IDOL★ST∀R MINE／アクリム／Ep:ChouChou／Ｏ₂／お願い!!フルハウス／きっと大切だった／グランダルメ／CLEAR’S／SAKURA GRADUATION／Star☆T／SnowComp/ex／溺愛／dela／ブルーなままで／MERUCHU／Lovelys／らじお女子／Re:Clash／Lollipop♡CHU\n【料金】\n◆前方優先エリア入場前売￥4\,000\n（前方優先エリア入場販売開始日：9月2日（火）20:00～9月23日（火祝）11:00）\n◆一般エリア入場前売￥2\,000\n（前方優先エリア入場販売開始日：9月2日（火）20:30～9月23日（火祝）11:00）\n◆当日各エリア＋￥1\,000\n【会場】Zephyr Hall（〒460-0003 名古屋市中区錦3-14-21） \nhttps://t.livepocket.jp/e/j24n6
URL:https://zephyrhall.xyz/event/idol-banquet-in-zephyrhall/
LOCATION:Zephyr Hall\, 愛知県名古屋市中区錦3丁目14-21\, 日本
ATTACH;FMTTYPE=image/jpeg:https://zephyrhall.xyz/wp-content/uploads/2025/09/S__46227498_0_0.jpg
END:VEVENT
BEGIN:VEVENT
DTSTART;TZID=Asia/Tokyo:20250921T180000
DTEND;TZID=Asia/Tokyo:20250921T213000
DTSTAMP:20260425T201444
CREATED:20250920T004557Z
LAST-MODIFIED:20250920T004557Z
UID:1999-1758477600-1758490200@zephyrhall.xyz
SUMMARY:サークルライチ主催『サブカル』
DESCRIPTION:公演日時\n2025/9/21(日)\n開場時刻 17:40 / 開演時刻 18:00\n会場\nZephyr Hall\n出演\nマーキュロ / ベロティカ / ギミック / セクト \nhttps://ticketdive.com/event/250921z
URL:https://zephyrhall.xyz/event/%e3%82%b5%e3%83%bc%e3%82%af%e3%83%ab%e3%83%a9%e3%82%a4%e3%83%81%e4%b8%bb%e5%82%ac%e3%80%8e%e3%82%b5%e3%83%96%e3%82%ab%e3%83%ab%e3%80%8f-4/
LOCATION:Zephyr Hall\, 愛知県名古屋市中区錦3丁目14-21\, 日本
ATTACH;FMTTYPE=image/jpeg:https://zephyrhall.xyz/wp-content/uploads/2025/09/S__7028743_0.jpg
END:VEVENT
BEGIN:VEVENT
DTSTART;TZID=Asia/Tokyo:20250921T100000
DTEND;TZID=Asia/Tokyo:20250921T190000
DTSTAMP:20260425T201444
CREATED:20250920T004430Z
LAST-MODIFIED:20250920T004430Z
UID:1996-1758448800-1758481200@zephyrhall.xyz
SUMMARY:名古屋事変
DESCRIPTION:公演日時\n2025/9/21(日)\n開場時刻 10:10 / 開演時刻 10:30\n会場\nZephyr Hall\n出演\nマーキュロ / ベロティカ / ギミック / セクト / テンシンランマン / マザリ / めっ！ / STARRY×NIGHT↗︎ / SHOWDOWN / 蜜兎 / 夏空のオリオン / AQA / 逆転ねこぱんちっ！ / MATANAGOYA / SnowComp/ex \nhttps://ticketdive.com/event/250921n
URL:https://zephyrhall.xyz/event/%e5%90%8d%e5%8f%a4%e5%b1%8b%e4%ba%8b%e5%a4%89-4/
LOCATION:Zephyr Hall\, 愛知県名古屋市中区錦3丁目14-21\, 日本
ATTACH;FMTTYPE=image/png:https://zephyrhall.xyz/wp-content/uploads/2025/09/スクリーンショット-2025-09-20-9.43.56.png
END:VEVENT
BEGIN:VEVENT
DTSTART;TZID=Asia/Tokyo:20250920T110000
DTEND;TZID=Asia/Tokyo:20250920T213000
DTSTAMP:20260425T201444
CREATED:20250920T004255Z
LAST-MODIFIED:20250920T004255Z
UID:1993-1758366000-1758403800@zephyrhall.xyz
SUMMARY:GIRLS☆DELIGHT#357
DESCRIPTION:『GIRLS☆DELIGHT#357』 \n会場：Zephyr Hall\n時間：開場11:00/開演11:20\n料金：S(前方エリア)¥3\,000/A(後方エリア)︎¥1\,000/各当日+¥1\,000\n※入場時別途1D代必要\n※ご本人様確認書類必須\n※再入場可\n※録画・録音・撮影禁止\n※入場順：①S整理番号順→②S当日券整列順→③A整理番号順→④A当日券整列順 \n出演者(五十音順)：アステリア / UPローチ / Ep:ChouChou / OS☆U / Ｏ₂ / カリスマめんざいふっ！ / Qu♡Aly / 金星☆ジュリエッタ / CLEAR’S / サクヤコノハナ / 新生★大阪24区ガールズ / Cent Heaven / DREAMING MONSTER / ナト☆カン / NEO BREAK / HIGH SPIRITS / P-Loco / マイノリティアラート / めっ！ / Y∀KiN / 4次元コンパス / Re:Clash  / LOTUS MARRY / Lollipop♡CHU \n※開場30分前頃より整列開始。\n※お一人様お申込みは1回のみ \nチケット：https://t.livepocket.jp/e/girls_delight357\n販売期間：9月4日(木)22:00〜9月20日(土)8:00
URL:https://zephyrhall.xyz/event/girls%e2%98%86delight357/
LOCATION:Zephyr Hall\, 愛知県名古屋市中区錦3丁目14-21\, 日本
ATTACH;FMTTYPE=image/jpeg:https://zephyrhall.xyz/wp-content/uploads/2025/09/G046YbYaQAIUopg-scaled.jpeg
END:VEVENT
BEGIN:VEVENT
DTSTART;TZID=Asia/Tokyo:20250919T180000
DTEND;TZID=Asia/Tokyo:20250919T210000
DTSTAMP:20260425T201444
CREATED:20250918T115957Z
LAST-MODIFIED:20250918T115957Z
UID:1990-1758304800-1758315600@zephyrhall.xyz
SUMMARY:OS☆U 定期LIVE at Zephyr Hall〜INISHIE〜
DESCRIPTION:【日時】\n9月19日(金)\n18:15　OPEN\n18:45　START  \n【会場】\nZephyr Hall\n〒460-0003\n愛知県名古屋市中区錦３丁目１４−２１ \n【チケット】\n前方エリア\n2\,000円(別途1D) \n一般\n0円(別途1D) \n【当日券】\n前方エリア\n3\,000円(別途1D) \n一般\n500円(別途1D) \n入場順\n前方エリア→一般 \nチケットはこちら\nhttps://t.livepocket.jp/e/60nmo \n販売期間\n2025年07月23日(水) 21:00  〜  2025年09月19日(金) 18:00 \n【OS☆U 出演メンバー】\n香田リン/ 出雲やえ/水沢桃々 / 幸村望叶/ 秋原かなみ/ 佐伯茉菜美/ 桃川ひの/幸村一花/橘華夜/花咲璃里華\n※メンバーは急遽変更になる場合がございます。
URL:https://zephyrhall.xyz/event/os%e2%98%86u-%e5%ae%9a%e6%9c%9flive-at-zephyr-hall%e3%80%9cinishie%e3%80%9c/
LOCATION:Zephyr Hall\, 愛知県名古屋市中区錦3丁目14-21\, 日本
ATTACH;FMTTYPE=image/jpeg:https://zephyrhall.xyz/wp-content/uploads/2025/09/XnWKY1chPbm9RFBsNwSRpswwCDVHEm1rJ3sQfpAR2iZxY0fWCwjtII7LkumgfpEW.jpeg
END:VEVENT
BEGIN:VEVENT
DTSTART;TZID=Asia/Tokyo:20250918T170000
DTEND;TZID=Asia/Tokyo:20250918T213000
DTSTAMP:20260425T201444
CREATED:20250918T063217Z
LAST-MODIFIED:20250918T063217Z
UID:1987-1758214800-1758231000@zephyrhall.xyz
SUMMARY:大須コンカフェスタ4
DESCRIPTION:出演者	mofu/mofu \, project muse \, リボンの宮殿カフェ \, リボンの古城カフェ \, シャルロッテ \, SHUGAR&SPICE \, EclaiR \, DcD\n日　程\n2025/9/18(木)\n開演日時 17:30　\n会　場\nzephyr hall (愛知県)\n販売元\nmofu/mofu \nhttps://t.livepocket.jp/e/va37u
URL:https://zephyrhall.xyz/event/%e5%a4%a7%e9%a0%88%e3%82%b3%e3%83%b3%e3%82%ab%e3%83%95%e3%82%a7%e3%82%b9%e3%82%bf4/
LOCATION:Zephyr Hall\, 愛知県名古屋市中区錦3丁目14-21\, 日本
ATTACH;FMTTYPE=image/jpeg:https://zephyrhall.xyz/wp-content/uploads/2025/09/QyOCvhUyhPUeUsMvCpQ6Ctx9tW7sO06hG96Hm3ayLy4HBmXuBujlMGpplpaqstAQ-scaled.jpeg
END:VEVENT
BEGIN:VEVENT
DTSTART;TZID=Asia/Tokyo:20250915T120000
DTEND;TZID=Asia/Tokyo:20250915T180000
DTSTAMP:20260425T201444
CREATED:20250913T004453Z
LAST-MODIFIED:20250913T004453Z
UID:1984-1757937600-1757959200@zephyrhall.xyz
SUMMARY:SPROUT DANCE FES supported by AI Tech Solutions
DESCRIPTION:◼️タイトル：SPROUT DANCE FES supported by AI Tech Solutions\n◼️日程：2025年9月15日(祝月)\n◼️会場：名古屋栄Zephyr Hall\n◼️時間：12:00~18:00頃\n◼️料金：一般3\,500円/中学生以下1\,000円(各1D込)\n※小学生以上チケット必要 \n・SPROUT DANCE FES supported by AI Tech Solutions(8/18、18時発売）\n https://t.livepocket.jp/e/hbbrs
URL:https://zephyrhall.xyz/event/sprout-dance-fes-supported-by-ai-tech-solutions/
LOCATION:Zephyr Hall\, 愛知県名古屋市中区錦3丁目14-21\, 日本
ATTACH;FMTTYPE=image/jpeg:https://zephyrhall.xyz/wp-content/uploads/2025/09/jHxII6HrQgVDXh1HJfSZpOl48AZkBOBlB7171qbKruMNtNRt3fUSJrNskMu89fmP-scaled.jpeg
END:VEVENT
BEGIN:VEVENT
DTSTART;TZID=Asia/Tokyo:20250914T160000
DTEND;TZID=Asia/Tokyo:20250914T213000
DTSTAMP:20260425T201444
CREATED:20250913T004345Z
LAST-MODIFIED:20250913T004345Z
UID:1981-1757865600-1757885400@zephyrhall.xyz
SUMMARY:iPASS TSUYOSHI生誕祭2025
DESCRIPTION:iPASS TSUYOSHI生誕祭2025 \n2025年9月14日（日） \n▪️OPEN 16：00　 START 16：20 \n▪️会場\nZephyr Hall \n▪️料金\n￥3\,400＋D代 \n※スクショ画面禁止\n※お目当てグループ選択必須 \n出演者\niPASS / Gogosan -553- / ボクとキミ / Reborn / キミだけの天使！ / UNWHITE / INLIMICTION \nhttps://tiget.net/events/426370
URL:https://zephyrhall.xyz/event/ipass-tsuyoshi%e7%94%9f%e8%aa%95%e7%a5%ad2025/
LOCATION:Zephyr Hall\, 愛知県名古屋市中区錦3丁目14-21\, 日本
ATTACH;FMTTYPE=image/jpeg:https://zephyrhall.xyz/wp-content/uploads/2025/09/f80ee492-e73c-409f-b7e4-a85f925bff17.jpeg
END:VEVENT
BEGIN:VEVENT
DTSTART;TZID=Asia/Tokyo:20250914T110000
DTEND;TZID=Asia/Tokyo:20250914T153000
DTSTAMP:20260425T201444
CREATED:20250913T004237Z
LAST-MODIFIED:20250913T004237Z
UID:1978-1757847600-1757863800@zephyrhall.xyz
SUMMARY:TSUYOSHI生誕祭2025 前昼祭
DESCRIPTION:TSUYOSHI生誕祭2025 前昼祭 \n2025年9月14日（日） \n▪️OPEN 11:00　 START 11:20 \n▪️会場\nZephyr Hall \n▪️料金\n￥2\,900＋D代 \n※スクショ画面禁止 \n出演者\niPASS / Gogosan -553- / ボクとキミ / Reborn / INLIMICTION / キミだけの天使！ \nhttps://tiget.net/events/425999
URL:https://zephyrhall.xyz/event/tsuyoshi%e7%94%9f%e8%aa%95%e7%a5%ad2025-%e5%89%8d%e6%98%bc%e7%a5%ad/
LOCATION:Zephyr Hall\, 愛知県名古屋市中区錦3丁目14-21\, 日本
ATTACH;FMTTYPE=image/jpeg:https://zephyrhall.xyz/wp-content/uploads/2025/09/b5de0683-f644-48cb-b697-d5ae5d176c25.jpeg
END:VEVENT
BEGIN:VEVENT
DTSTART;TZID=Asia/Tokyo:20250913T103000
DTEND;TZID=Asia/Tokyo:20250913T213000
DTSTAMP:20260425T201444
CREATED:20250913T004056Z
LAST-MODIFIED:20250913T004056Z
UID:1975-1757759400-1757799000@zephyrhall.xyz
SUMMARY:idol FES@Zephyr
DESCRIPTION:idol FES @ Zephyr\n〜まだまだ暑いし、アイドルは熱い！〜\n《日程》\n2025/9月13日（土）\n《場所》　\nZephyr Hall\n《時間》\n-１部-\n10:30 開場　11:00 開演\nhttps://tiget.net/events/427683\n-２部-\n16:15 開場　16:35 開演\nhttps://tiget.net/events/427685\n《料金》\nVIPエリア\n予約5000円（1D別）/当日6000円（1D別）\nAエリア\n予約2500円（1D別）/当日3000円（1D別）
URL:https://zephyrhall.xyz/event/idol-feszephyr/
LOCATION:Zephyr Hall\, 愛知県名古屋市中区錦3丁目14-21\, 日本
ATTACH;FMTTYPE=image/jpeg:https://zephyrhall.xyz/wp-content/uploads/2025/09/S__11894788_0.jpg
END:VEVENT
BEGIN:VEVENT
DTSTART;TZID=Asia/Tokyo:20250910T150000
DTEND;TZID=Asia/Tokyo:20250910T210000
DTSTAMP:20260425T201444
CREATED:20250913T003914Z
LAST-MODIFIED:20250913T003914Z
UID:1973-1757516400-1757538000@zephyrhall.xyz
SUMMARY:MA55IVE THE RAMPAGE 2nd Album『EMPIRE CODE』リリース記念イベント
DESCRIPTION:▼2025/9/10(水)\n[愛知] Zephyr Hall\n〒460-0003 愛知県名古屋市中区錦3丁目14-21 Zephyr Hall \nTOP \n\n※会場へのお問い合わせはご遠慮ください。 \nCD販売時間：9:30～会場特設ブースにて\n※販売開始時刻が予告なしに変更になる場合がございます。\n※各特典会抽選および参加券、抽選券の発行は予定数量に達し次第、早期に終了する場合がございます。予めご了承ください。\n※会場の状況や運営上の理由により一時的に販売を中断する場合もございます。ご了承ください。\n※混雑状況等により予定が変更になる場合がございます。\n※ご購入後のキャンセル、商品の変更や返金、数量の変更、参加ご希望イベントの変更は、理由を問わずお受け付けいたしかねます。 \n＜1部＞\nOPEN15:00 / START15:30 \n＜2部＞\nOPEN18:00 / START18:30\n※各部90分予定
URL:https://zephyrhall.xyz/event/ma55ive-the-rampage-2nd-album%e3%80%8eempire-code%e3%80%8f%e3%83%aa%e3%83%aa%e3%83%bc%e3%82%b9%e8%a8%98%e5%bf%b5%e3%82%a4%e3%83%99%e3%83%b3%e3%83%88/
LOCATION:Zephyr Hall\, 愛知県名古屋市中区錦3丁目14-21\, 日本
END:VEVENT
BEGIN:VEVENT
DTSTART;TZID=Asia/Tokyo:20250907T103000
DTEND;TZID=Asia/Tokyo:20250907T213000
DTSTAMP:20260425T201444
CREATED:20250905T043820Z
LAST-MODIFIED:20250905T043820Z
UID:1970-1757241000-1757280600@zephyrhall.xyz
SUMMARY:NAGOYA DREAMBOX DAY2
DESCRIPTION:公演日時\n2025/9/7(日)\n開場時刻 10:30 / 開演時刻 10:50\n会場\nZephyr HALL\n出演\nLって何のLですか？ / 青山Rabness / Ｏ₂ / ふるふるしっぽ？ / ガブっと！ひゃっきおとめ / wonderchannel / 学歴の暴力 / AMO million / Fortuness / Route258 / スプラウト学園名古屋 / このアイドルはフィクションです。 / SnowComplex / キミの主人公 / Tool to / FandL / フロアキッチン。 / 星屑ラビリンス / Quest Ship / ビビきたッ！！ / More Sisters / ハウツー世界征服 / LuvHz / ちゅ～るちゅーぶ / 雨宮ここ / 白川ゆな / アイドル教室NEW / アイｘレク / ふぁいなるえぴろーぐ \nhttps://ticketdive.com/event/DREAMBOX0907-ZephyrHALL
URL:https://zephyrhall.xyz/event/nagoya-dreambox-day2/
LOCATION:Zephyr Hall\, 愛知県名古屋市中区錦3丁目14-21\, 日本
ATTACH;FMTTYPE=image/jpeg:https://zephyrhall.xyz/wp-content/uploads/2025/09/messageImage_1756545206568-scaled.jpg
END:VEVENT
BEGIN:VEVENT
DTSTART;TZID=Asia/Tokyo:20250906T103000
DTEND;TZID=Asia/Tokyo:20250906T213000
DTSTAMP:20260425T201444
CREATED:20250905T043717Z
LAST-MODIFIED:20250905T043717Z
UID:1967-1757154600-1757194200@zephyrhall.xyz
SUMMARY:NAGOYA DREAMBOX DAY1
DESCRIPTION:公演日時\n2025/9/6(土)\n開場時刻 10:30 / 開演時刻 10:50\n会場\nZephyr HALL\n出演\nLって何のLですか？ / 青山Rabness / 神薙-時うさぎ- / ガブっと！ひゃっきおとめ / wonderchannel / 輝きぱにっく / 学歴の暴力 / AMO million / Fortuness / TIGHT / スプラウト学園名古屋 / リリシック学園 / ふれふれフレーバー / FandL / Tool to / 異次元ポケットドール / 星屑ラビリンス / Quest Ship / ビビきたッ！！ / More Sisters / 宝石娘 / 今日から推しじゃだめですか？ / アイドル教室NEW / きみぷり / なうろ〜でぃんぐ！ / Amaryllis / Love it ice \nhttps://ticketdive.com/event/DREAMBOX0906-ZephyrHALL
URL:https://zephyrhall.xyz/event/nagoya-dreambox-day1/
LOCATION:Zephyr Hall\, 愛知県名古屋市中区錦3丁目14-21\, 日本
ATTACH;FMTTYPE=image/webp:https://zephyrhall.xyz/wp-content/uploads/2025/09/Knf5WNBsh2bKOneV1mDy_202508291523371756481017818.webp
END:VEVENT
BEGIN:VEVENT
DTSTART;TZID=Asia/Tokyo:20250905T113000
DTEND;TZID=Asia/Tokyo:20250905T223000
DTSTAMP:20260425T201444
CREATED:20250905T011927Z
LAST-MODIFIED:20250905T011927Z
UID:1964-1757071800-1757111400@zephyrhall.xyz
SUMMARY:NAGOYA GIRLS GIRLS extra!!
DESCRIPTION:9/5(金)\nNAGOYA GIRLS GIRLS extra!! \n会場：Zephyr Hall\n開場：11:40\n開演：12:00 \n料金：前方5000円 通常2000円 当日+1000円\n(入場時1ドリンク必須) \nhttps://ticketdive.com/event/ngg_0905 \n出演者\n手羽先センセーション / MADMED / TEAR DROP! / THE ENCORE / サクヤコノハナ / #ジューロック / シャニムニ＝パレード / Melty BeaR / MyDresscode / 蜜兎 / ぜろから☆すた→と / ナト☆カン / めっ！ / アステリア / STARRY×NIGHT↗︎ / SiLENT←NOiSE / 夏空のオリオン / MiX BeRRY / 輝きぱにっく / 8°世界が変われば、 / むげんこんぜ / Beloved / ドゥラ・ムーン / HATEandTEARS / Tiara Palette \n■主催：GIRLS GIRLS 事務局\n■企画：株式会社R&D\n■制作：株式会社R&D
URL:https://zephyrhall.xyz/event/nagoya-girls-girls-extra/
LOCATION:Zephyr Hall\, 愛知県名古屋市中区錦3丁目14-21\, 日本
ATTACH;FMTTYPE=image/webp:https://zephyrhall.xyz/wp-content/uploads/2025/09/wWGrU5hKC34GVkZquhEE_167127_1756530031136.webp
END:VEVENT
BEGIN:VEVENT
DTSTART;TZID=Asia/Tokyo:20250831T130000
DTEND;TZID=Asia/Tokyo:20250831T190000
DTSTAMP:20260425T201444
CREATED:20250829T123322Z
LAST-MODIFIED:20250829T123332Z
UID:1959-1756645200-1756666800@zephyrhall.xyz
SUMMARY:D-iVE.
DESCRIPTION:[日程]\n8/31（日）\nOPEN13:00 START13:30 \n[会場]\nZephyr Hall\n（名古屋市中区錦3-14-21） \n[チケット料金]\n3000円+1D600円
URL:https://zephyrhall.xyz/event/d-ive/
LOCATION:Zephyr Hall\, 愛知県名古屋市中区錦3丁目14-21\, 日本
ATTACH;FMTTYPE=image/jpeg:https://zephyrhall.xyz/wp-content/uploads/2025/08/IMG_3185.jpeg
END:VEVENT
BEGIN:VEVENT
DTSTART;TZID=Asia/Tokyo:20250830T193000
DTEND;TZID=Asia/Tokyo:20250830T220000
DTSTAMP:20260425T201444
CREATED:20250829T015629Z
LAST-MODIFIED:20250829T015629Z
UID:1956-1756582200-1756591200@zephyrhall.xyz
SUMMARY:サークルライチ主催『サブカル』
DESCRIPTION:公演日時\n2025/8/30(土)\n開場時刻 17:30 / 開演時刻 17:45\n会場\nZephyr HALL\n出演\nマーキュロ / ベロティカ / クララ・マグラ / VILLAINS HOUSE / クライセカイ / ギミック / 閻魔ちゃん / セクト / サークルライチ塾生二期\nhttps://ticketdive.com/event/250830z
URL:https://zephyrhall.xyz/event/%e3%82%b5%e3%83%bc%e3%82%af%e3%83%ab%e3%83%a9%e3%82%a4%e3%83%81%e4%b8%bb%e5%82%ac%e3%80%8e%e3%82%b5%e3%83%96%e3%82%ab%e3%83%ab%e3%80%8f-3/
LOCATION:Zephyr Hall\, 愛知県名古屋市中区錦3丁目14-21\, 日本
ATTACH;FMTTYPE=image/jpeg:https://zephyrhall.xyz/wp-content/uploads/2025/08/GyWmLbJa4AM1jNi_0.jpg
END:VEVENT
BEGIN:VEVENT
DTSTART;TZID=Asia/Tokyo:20250830T100000
DTEND;TZID=Asia/Tokyo:20250830T170000
DTSTAMP:20260425T201444
CREATED:20250829T015452Z
LAST-MODIFIED:20250829T015452Z
UID:1953-1756548000-1756573200@zephyrhall.xyz
SUMMARY:名古屋事変
DESCRIPTION:公演日時\n2025/8/30(土)\n開場時刻 10:10 / 開演時刻 10:30\n会場\nZephyr HALL\n出演\nマーキュロ / ベロティカ / クララ・マグラ / VILLAINS HOUSE / クライセカイ / ギミック / セクト / 閻魔ちゃん / サークルライチ塾生二期 / MADMED / マザリ / 神様の言う通り / めっ！ / DIAVEL / カミサマパレード / ココロシンドローム / 夏空のオリオン / AQA / 逆転ねこぱんちっ！\nhttps://ticketdive.com/event/250830n
URL:https://zephyrhall.xyz/event/%e5%90%8d%e5%8f%a4%e5%b1%8b%e4%ba%8b%e5%a4%89-3/
LOCATION:Zephyr Hall\, 愛知県名古屋市中区錦3丁目14-21\, 日本
ATTACH;FMTTYPE=image/jpeg:https://zephyrhall.xyz/wp-content/uploads/2025/08/GxqfeXwawAAm0jD_0-scaled.jpg
END:VEVENT
BEGIN:VEVENT
DTSTART;TZID=Asia/Tokyo:20250829T143000
DTEND;TZID=Asia/Tokyo:20250829T203000
DTSTAMP:20260425T201444
CREATED:20250829T005202Z
LAST-MODIFIED:20250829T005202Z
UID:1950-1756477800-1756499400@zephyrhall.xyz
SUMMARY:Seven.5
DESCRIPTION:2025.08.29.Fri.DAY\nSeven.5 NGY at ZephyrHall\nOPEN：14：30　START：15：30\nDOOR ¥3\,500 + 1D ADV ¥3\,000 + 1D \n【SPECIAL GUEST】\nAOI+Yuuki+Ryoga from GANMI\nMomoca.+RYOCHELL \n【GUEST】\nbenign Sword\nBad Bitch Energy \n【CREATOR】\nSOUND P@RK\n分離ヨーグルト\nまじっくあわー \n【PICK UP SOLO】\nHIKA SunFlower \n【STUDIO】\nEXPG STUDIO NAGOYA\nBIB PICKUP DANCERS クラス \n【NUMBER / CREW】\nHiROKi NUMBER\nHonojime CREW\nJ-SWAGZ\nkatsu NUMBER\nKOHARU crew\nKOTONE NUMBER\nMTK CREW\nn0ah NUMBER\nNacchi NUMBER\nSora NUMBER\nteam yy\nyuttaaan NUMBER\nサンちゃん\n果恋 NUMBER \n【TEAM / UNIT】\nAbcg\nAmuse 清林館高等学校 ダンス部\nDookie’s\nDoubt\nEyes\nHOz+\nLani\nmiu.\nNanon + 陽音\nNoiG’s\nnyoro + YUKI\nPlelehua\nRMJ\nSaŸaKa + MiO\nXELUNE from TGDC\nうた+はるめ\nしなしな\nたくみの深み\nふたりぼっち。\nёxIδνα \n【MC】\nYOU-KID
URL:https://zephyrhall.xyz/event/seven-5/
LOCATION:Zephyr Hall\, 愛知県名古屋市中区錦3丁目14-21\, 日本
ATTACH;FMTTYPE=image/jpeg:https://zephyrhall.xyz/wp-content/uploads/2025/08/S__71770120.jpg
END:VEVENT
BEGIN:VEVENT
DTSTART;TZID=Asia/Tokyo:20250828T170000
DTEND;TZID=Asia/Tokyo:20250828T213000
DTSTAMP:20260425T201444
CREATED:20250828T070940Z
LAST-MODIFIED:20250828T070940Z
UID:1947-1756400400-1756416600@zephyrhall.xyz
SUMMARY:かなでる☆みらい
DESCRIPTION:【表題】かなでる☆みらい\n【日程】8月28日(木曜日)\n【会場】Zephyr Hall\n【時間】OPEN17:00/START17:20\n【チケット】優先エリア¥3000/一般¥1000/当日券+¥500/+1D\nhttps://t.livepocket.jp/e/35gcc\n【出演】\nぜろから☆すた→と\nSTARRY×NIGHT↗︎\nSiLENT←NOiSE\nBeloved\nCent Heaven\nPULSAR_CLIMAX\nリンカ\nアクリム
URL:https://zephyrhall.xyz/event/%e3%81%8b%e3%81%aa%e3%81%a7%e3%82%8b%e2%98%86%e3%81%bf%e3%82%89%e3%81%84-9/
LOCATION:Zephyr Hall\, 愛知県名古屋市中区錦3丁目14-21\, 日本
ATTACH;FMTTYPE=image/jpeg:https://zephyrhall.xyz/wp-content/uploads/2025/08/GyyN-sXbgAE9Xn9.jpg
END:VEVENT
BEGIN:VEVENT
DTSTART;TZID=Asia/Tokyo:20250827T183000
DTEND;TZID=Asia/Tokyo:20250827T213000
DTSTAMP:20260425T201444
CREATED:20250827T051600Z
LAST-MODIFIED:20250827T051600Z
UID:1941-1756319400-1756330200@zephyrhall.xyz
SUMMARY:名古屋合同定期公演vol.1
DESCRIPTION:名古屋合同定期公演vol.1 \n■日程　2025月8月27日(水)\n■時間　開場18:30・開演18:55\n■会場　Zephyr Hall\n■料金　前方チケット 2\,000円/前売券500円/当日＋500円(各別途1D代)\nhttps://ticketdive.com/event/nagoyagodo_vol1 \n■出演　手羽先センセーション/THE ENCORE/カラフルスクリーム \n■タイムテーブル\n18:30 開場\n18:55~19:00 出番決め\n19:00~19:25 LIVE1\n19:25~19:50 LIVE2\n19:50~20:20 LIVE3\n20:20~20:30 エンディング\n20:30~21:45 特典会 \n■販売方法\n一般先着:7月30日(水)22:00～8月26日(火)23:59 \n■入場順\n前方チケット→前売券→当日券 \n■購入及び入場に関するご注意\n・チケットはお一人様1枚まで購入可能です。必ずご本人様がお申込ください。全てのチケット共通して譲渡不可です。\n・ライブ当日、本人確認のため身分証明証をご提示いただく場合がございます。ご面倒をおかけしますがご協力よろしくお願いします。 \n■注意事項\n・リフト、ダイブ、サーフ、モッシュ等の禁止。\n・他のお客様の迷惑となる行為は全面禁止です。ルールをお守り頂けないお客様に対しては、退場処分とさせて頂きます。\n・アルコール類の持ち込み及び飲酒をされてのご入場は禁止です。\n・チケットの番号順を守り、走らず歩いてご入場ください。\n・席取り(荷物やタオルを床に置くなど)、割込み、威圧的な観覧場所交換の交渉等、他のお客様に迷惑になることはお止めください。\n・整理番号や整列順を無視し、番号の遅い知人の為に場所を取る等の行為は絶対におやめください。発覚した場合、参加をお断りさせて頂きます。\n・イベント中の盗難・紛失等についての一切の責任は負いません。\n・LIVE中の録画録音撮影は禁止とさせて頂きます。 \nその他、スタッフが禁止行為と判断したことに関してはお声掛け致します。
URL:https://zephyrhall.xyz/event/%e5%90%8d%e5%8f%a4%e5%b1%8b%e5%90%88%e5%90%8c%e5%ae%9a%e6%9c%9f%e5%85%ac%e6%bc%94vol-1/
LOCATION:Zephyr Hall\, 愛知県名古屋市中区錦3丁目14-21\, 日本
ATTACH;FMTTYPE=image/jpeg:https://zephyrhall.xyz/wp-content/uploads/2025/08/GxBuEhebUAIvGfa-scaled.jpg
END:VEVENT
BEGIN:VEVENT
DTSTART;TZID=Asia/Tokyo:20250826T150000
DTEND;TZID=Asia/Tokyo:20250826T213000
DTSTAMP:20260425T201444
CREATED:20250827T051729Z
LAST-MODIFIED:20250827T051729Z
UID:1944-1756220400-1756243800@zephyrhall.xyz
SUMMARY:MAD'S iNKどら縁日
DESCRIPTION:8月26(火)\n『MAD’S iNKどら縁日』 \n会場 : 名古屋Zephyr Hall\n入場料 : ¥2\,000(写メ券付き)\n※再入場無料 \n?本日23:59まで販売\nhttp://t-dv.com/mads_dora\n※当日券もございます(¥3\,000) \n[出演]\nMADMED / マザリ / めっ！/ 神様の言う通り \n15:00 入場・販売開始\n15:30 イベント開始
URL:https://zephyrhall.xyz/event/mads-ink%e3%81%a9%e3%82%89%e7%b8%81%e6%97%a5/
LOCATION:Zephyr Hall\, 愛知県名古屋市中区錦3丁目14-21\, 日本
ATTACH;FMTTYPE=image/jpeg:https://zephyrhall.xyz/wp-content/uploads/2025/08/GwruZWpaYAAmp36-scaled.jpg
END:VEVENT
BEGIN:VEVENT
DTSTART;TZID=Asia/Tokyo:20250824T153000
DTEND;TZID=Asia/Tokyo:20250824T213000
DTSTAMP:20260425T201444
CREATED:20250821T064552Z
LAST-MODIFIED:20250821T064552Z
UID:1938-1756049400-1756071000@zephyrhall.xyz
SUMMARY:New Generations!! in NAGOYA Summer
DESCRIPTION:※公演中止の場合を除き、チケットの払い戻しは行いませんのでご了承下さい。\n※不正防止の為、スクリーンショットでのご入場はスタッフの裁量でお断りさせて頂く場合がございます。正規のチケット画面のご提示をお願いします。 \n【8/24(日) Zephyr Hall】 \n公演名：New Generations!! in NAGOYA Summer\n出演：シュレーディンガーの犬 / マザリ / 神様の言う通り / 白黒アリス / GRiED / めっ！/ Y∀KiN\n料金：前方エリア ¥5\,000 / 一般 ¥2\,000 / 女性 ¥1\,000（当日 各¥1\,000up）\n※入場順：前方エリア⇒一般⇒女性 \n【TT】\n15:30 開場\n15:45 開演\n15:45-16:15 Y∀KiN【並行① 16:30-18:00】\n16:15-16:45 GRiED【並行② 17:00-18:30】\n16:45-17:15 めっ！【並行③ 17:30-19:00】\n17:15-17:45 白黒アリス【並行① 18:00-19:30】\n17:45-18:15 神様の言う通り\n18:15-18:45 マザリ\n18:45-19:15 シュレーディンガーの犬 \nhttps://t.livepocket.jp/e/new_generations_nagoya_summer
URL:https://zephyrhall.xyz/event/new-generations-in-nagoya-summer/
LOCATION:Zephyr Hall\, 愛知県名古屋市中区錦3丁目14-21\, 日本
ATTACH;FMTTYPE=image/png:https://zephyrhall.xyz/wp-content/uploads/2025/08/Q1LLakd6BPpKXRx82pDU83mogZg4or6P0pRpWL2ioepdeUEEpRbG9vEDnjD851cj_0.png
END:VEVENT
BEGIN:VEVENT
DTSTART;TZID=Asia/Tokyo:20250824T110000
DTEND;TZID=Asia/Tokyo:20250824T153000
DTSTAMP:20260425T201444
CREATED:20250821T064415Z
LAST-MODIFIED:20250821T064415Z
UID:1935-1756033200-1756049400@zephyrhall.xyz
SUMMARY:『まって、推しの顔が良すぎる・・・』in NAGOYA
DESCRIPTION:※公演中止の場合を除き、チケットの払い戻しは行いませんのでご了承下さい。\n※不正防止の為、スクリーンショットでのご入場はスタッフの裁量でお断りさせて頂く場合がございます。正規のチケット画面のご提示をお願いします。 \n【8/24(日) Zephyr Hall】 \n公演名：『 まって、推しの顔が良すぎる・・・』in NAGOYA\n出演：シンデレラ宣言！/ 君に、胸キュン。/ Alcute！/ ゆめのうさぎ\n料金：前方エリア ¥5\,000 / 一般 ¥1\,000（当日 各¥1\,000up）\n※入場順：前方エリア⇒一般⇒女性 \n【TT】\n11:00 開場\n11:30 開演\n11:30-12:00 Alcute！\n12:00-12:30 ゆめのうさぎ\n12:30-13:00 君に、胸キュン。\n13:00-13:30 シンデレラ宣言！\n13:45-15:30 特典会 \nhttps://t.livepocket.jp/e/oshikao_nagoya
URL:https://zephyrhall.xyz/event/%e3%80%8e%e3%81%be%e3%81%a3%e3%81%a6%e3%80%81%e6%8e%a8%e3%81%97%e3%81%ae%e9%a1%94%e3%81%8c%e8%89%af%e3%81%99%e3%81%8e%e3%82%8b%e3%83%bb%e3%83%bb%e3%83%bb%e3%80%8fin-nagoya/
LOCATION:Zephyr Hall\, 愛知県名古屋市中区錦3丁目14-21\, 日本
ATTACH;FMTTYPE=image/png:https://zephyrhall.xyz/wp-content/uploads/2025/08/YoO01uDBpSV8V2Rt45VLjt2zkujRwShvcEyTdlOnRcfk6It9nei6UMtDjWG0mnbx_0.png
END:VEVENT
BEGIN:VEVENT
DTSTART;TZID=Asia/Tokyo:20250823T113000
DTEND;TZID=Asia/Tokyo:20250823T213000
DTSTAMP:20260425T201444
CREATED:20250821T064220Z
LAST-MODIFIED:20250821T064220Z
UID:1932-1755948600-1755984600@zephyrhall.xyz
SUMMARY:『GIRLS☆DELIGHT#355-浴衣SP-』
DESCRIPTION:8月23日(土)\n『GIRLS☆DELIGHT#355-浴衣SP-』 \n▪会場：Zephyr Hall\n愛知県名古屋市中区錦3-14-21\n▪時間：開場11:30／開演12:00\n▪料金：前売前方エリア5\,000円／前売一般エリア1\,000円／当日各+1\,000円（D代別）\n▪出演者：アキシブproject／DREAMING MONSTER／HIGH SPIRITS／サクヤコノハナ／Sweet Alley／Cent Heaven／カリスマめんざいふっ！／マイノリティアラート／ja惹句ck／4次元コンパス／LOTUS MARRY／AISTEAL \n▪チケット\nhttps://t.livepocket.jp/e/girlsdelight355\n販売期間：7月27日(日)22:00-8月23日(土)9:00 \n▪特記事項\n※再入場可
URL:https://zephyrhall.xyz/event/%e3%80%8egirls%e2%98%86delight355-%e6%b5%b4%e8%a1%a3sp-%e3%80%8f/
LOCATION:Zephyr Hall\, 愛知県名古屋市中区錦3丁目14-21\, 日本
ATTACH;FMTTYPE=image/png:https://zephyrhall.xyz/wp-content/uploads/2025/08/スクリーンショット-2025-08-21-15.41.29.png
END:VEVENT
BEGIN:VEVENT
DTSTART;TZID=Asia/Tokyo:20250822T180000
DTEND;TZID=Asia/Tokyo:20250822T210000
DTSTAMP:20260425T201444
CREATED:20250821T064011Z
LAST-MODIFIED:20250821T064011Z
UID:1929-1755885600-1755896400@zephyrhall.xyz
SUMMARY:OS☆U 定期LIVE at Zephyr Hall〜遅れてきた七夕伝説〜
DESCRIPTION:夏休みSP！\n入口にて学生証の提示でトーク券つき写メ券をプレゼント！\n(中学、高校、大学、大学院生に限ります) \n【日時】\n8月22日(金)\n18:15　OPEN\n18:45　START  \n【会場】\nZephyr Hall\n〒460-0003\n愛知県名古屋市中区錦３丁目１４−２１ \n【チケット】\n前方エリア\n2\,000円(別途1D) \n一般\n0円(別途1D) \n【当日券】\n前方エリア\n3\,000円(別途1D) \n一般\n500円(別途1D) \n入場順\n前方エリア→一般 \nチケットはこちら\nhttps://t.livepocket.jp/e/ptglk \n販売期間\n2025年07月20日(日) 21:00  〜  2025年08月22日(金) 18:00 \n【OS☆U 出演メンバー】\n香田リン/ 出雲やえ/水沢桃々 / 幸村望叶/ 秋原かなみ/ 佐伯茉菜美/ 桃川ひの/幸村一花/橘華夜/花咲璃里華\n※メンバーは急遽変更になる場合がございます。
URL:https://zephyrhall.xyz/event/os%e2%98%86u-%e5%ae%9a%e6%9c%9flive-at-zephyr-hall%e3%80%9c%e9%81%85%e3%82%8c%e3%81%a6%e3%81%8d%e3%81%9f%e4%b8%83%e5%a4%95%e4%bc%9d%e8%aa%ac%e3%80%9c/
LOCATION:Zephyr Hall\, 愛知県名古屋市中区錦3丁目14-21\, 日本
ATTACH;FMTTYPE=image/jpeg:https://zephyrhall.xyz/wp-content/uploads/2025/08/Gym-VUmbcAA6Hwi.jpg
END:VEVENT
BEGIN:VEVENT
DTSTART;TZID=Asia/Tokyo:20250821T143000
DTEND;TZID=Asia/Tokyo:20250821T213000
DTSTAMP:20260425T201444
CREATED:20250821T025334Z
LAST-MODIFIED:20250821T025334Z
UID:1925-1755786600-1755811800@zephyrhall.xyz
SUMMARY:【8月】HEROINES LEAGUEⅡin NAGOYA
DESCRIPTION:公演日時\n2025/8/21(木)\n開場時刻 14:20 / 開演時刻 15:00\n会場\nZephyr Hall\n出演\nパラレルサイダー / ナナコロビヤオキ / CAL&RES / パラディーク / ポンコツコンポ / ZUTTOMOTTO / LADYBABY / ヒロインズ研究生 / ヒロインズ研究生大阪 / chuLa / テンシンランマン \nhttps://ticketdive.com/event/league2_nagoya
URL:https://zephyrhall.xyz/event/%e3%80%908%e6%9c%88%e3%80%91heroines-league%e2%85%b1in-nagoya/
LOCATION:Zephyr Hall\, 愛知県名古屋市中区錦3丁目14-21\, 日本
ATTACH;FMTTYPE=image/jpeg:https://zephyrhall.xyz/wp-content/uploads/2025/08/S__125304845.jpg
END:VEVENT
BEGIN:VEVENT
DTSTART;TZID=Asia/Tokyo:20250820T200000
DTEND;TZID=Asia/Tokyo:20250820T213000
DTSTAMP:20260425T201444
CREATED:20250819T093757Z
LAST-MODIFIED:20250819T093757Z
UID:1922-1755720000-1755725400@zephyrhall.xyz
SUMMARY:UMA LIVE in名古屋
DESCRIPTION:【ライブ参加の方】\n開場：18時00分\n開始：18時30分～20時30分\n終了退場：21時30分 \n【チケット代】\n※タオルは完売しました\n一般・・5\,000円（ドリンク別）\n※中学生まで無料（ドリンク別）\n※会場支払ドリンク代(1杯/600円）\nタオルは会場でお渡しします。\nhttps://wednesday88.thebase.in/items/113650316 \n【会場 】\nZephyrHall（ゼファーホール） \n【ホームページ】 \nTOP \n \n【住所】\n460-0003 愛知県名古屋市中区錦３丁目１４−２１ \n【アクセス】\n名古屋駅から東山線に乗り換え\n栄駅10A出口徒歩1分
URL:https://zephyrhall.xyz/event/uma-live-in%e5%90%8d%e5%8f%a4%e5%b1%8b/
LOCATION:Zephyr Hall\, 愛知県名古屋市中区錦3丁目14-21\, 日本
ATTACH;FMTTYPE=image/jpeg:https://zephyrhall.xyz/wp-content/uploads/2025/08/845db971b5622f85ffff80f3fbbe5956.jpg
END:VEVENT
BEGIN:VEVENT
DTSTART;TZID=Asia/Tokyo:20250817T180000
DTEND;TZID=Asia/Tokyo:20250817T213000
DTSTAMP:20260425T201444
CREATED:20250816T042901Z
LAST-MODIFIED:20250816T042901Z
UID:1919-1755453600-1755466200@zephyrhall.xyz
SUMMARY:THE ENCORE 生誕衣装公演 2024-2025
DESCRIPTION:日程：8/17(日)\n時間：OPEN18:00 / START18:30\n会場：Zephyr Hall\n料金：前方2500円 / 一般1000円 / 当日各+500円(D別)\n入場順：①前方チケット整理番号順②一般チケット整理番号順③当日券(整列順) \n【タイムテーブル】\n18:00 開場\n18:30 開演\n19:20 終了\n19:25- 終演後物販 \nhttps://ticketdive.com/event/enc_0817
URL:https://zephyrhall.xyz/event/the-encore-%e7%94%9f%e8%aa%95%e8%a1%a3%e8%a3%85%e5%85%ac%e6%bc%94-2024-2025/
LOCATION:Zephyr Hall\, 愛知県名古屋市中区錦3丁目14-21\, 日本
ATTACH;FMTTYPE=image/jpeg:https://zephyrhall.xyz/wp-content/uploads/2025/08/Gwdb7IHW4AAn8bb_0.jpg
END:VEVENT
BEGIN:VEVENT
DTSTART;TZID=Asia/Tokyo:20250817T103000
DTEND;TZID=Asia/Tokyo:20250817T190000
DTSTAMP:20260425T201444
CREATED:20250816T042740Z
LAST-MODIFIED:20250816T042740Z
UID:1916-1755426600-1755457200@zephyrhall.xyz
SUMMARY:THE ENCORE presents「ラブコール vol.11」
DESCRIPTION:日程：8月17日(日)\n場所：Zephyr Hall\n時間：OPEN10:30 / START10:50\n料金：前方3000円 / 一般1000円 / 当日各+500円(各+1D)\n出演：THE ENCORE / あたまのなかは8ビット!? / Ｏ₂ / 輝きぱにっく / SiLENT←NOiSE / シャニムニ=パレード / #ジューロック / ぜろから☆すた→と / 手羽先センセーション / なないろ∞ミルキーウェイ / Beloved / ミラクルファンファーレ！ / Y∀KiN（五十音順）\n入場順：①前方チケット整理番号順②一般チケット当整理番号順③当日券(整列順) \nhttps://ticketdive.com/event/lc_vol11
URL:https://zephyrhall.xyz/event/the-encore-presents%e3%80%8c%e3%83%a9%e3%83%96%e3%82%b3%e3%83%bc%e3%83%ab-vol-11%e3%80%8d/
LOCATION:Zephyr Hall\, 愛知県名古屋市中区錦3丁目14-21\, 日本
ATTACH;FMTTYPE=image/png:https://zephyrhall.xyz/wp-content/uploads/2025/08/スクリーンショット-2025-08-16-13.27.11.png
END:VEVENT
BEGIN:VEVENT
DTSTART;TZID=Asia/Tokyo:20250816T180000
DTEND;TZID=Asia/Tokyo:20250816T220000
DTSTAMP:20260425T201444
CREATED:20250816T042543Z
LAST-MODIFIED:20250816T042543Z
UID:1913-1755367200-1755381600@zephyrhall.xyz
SUMMARY:夢喰NEON SUMMER TOUR 2025「-SUMMER☆NEON-」
DESCRIPTION:『夢喰NEON SUMMER TOUR 2025「-SUMMER☆NEON-」』\n◾会場: Zephyr Hall\n◾料金:前売4000円(+1D)　当日券4500円(+1D)\n◾入場順：ライブポケット番号順→当日券\nチケットはライブポケットでの販売のみとなります。取り置きはございません。 \n※抽選販売のチケットは本人確認あり、譲渡不可です。\nチケット画面はスクリーンショット不可となります。正規の画面での提示をお願いしております。\n各部OPEN時間15分前より整列、本人開始致します。 \n整列開始後到着されたお客さまは、最後尾での案内となります。\nまた必ず顔つき身分証明書をご用意ください。（コピー不可）\n顔付き身分証をお持ちでない場合は\n・顔なし身分証（例：健康保険証、住民基本台帳カード等）2点どちらも生年月日確認できた場合→Bチケット最後尾\n・１点のみ→当日券でのご案内\n・身分証をお持ちでない場合→当日券でのご案内 \n※前売り券完売の場合は当日券の販売はございません。 \n⚫︎特典会の際の接触は禁止となります。\n⚫︎スタッフの指示に従っていただけない場合は退場の処置を取らせていただく場合がございます。ご了承ください。\n⚫︎37.5℃を超えるお客様は入場をお断りしております。\n⚫︎お客様都合の返金、出入り禁止措置等による返金は致しかねます。ご了承ください。 \nhttps://t.livepocket.jp/e/summerneon_0816
URL:https://zephyrhall.xyz/event/%e5%a4%a2%e5%96%b0neon-summer-tour-2025%e3%80%8c-summer%e2%98%86neon-%e3%80%8d/
LOCATION:Zephyr Hall\, 愛知県名古屋市中区錦3丁目14-21\, 日本
ATTACH;FMTTYPE=image/jpeg:https://zephyrhall.xyz/wp-content/uploads/2025/08/S__45605086_0_0.jpg
END:VEVENT
END:VCALENDAR