BEGIN:VCALENDAR
VERSION:2.0
PRODID:-//ZephyrHall【ゼファーホール】 - ECPv6.15.20//NONSGML v1.0//EN
CALSCALE:GREGORIAN
METHOD:PUBLISH
X-WR-CALNAME:ZephyrHall【ゼファーホール】
X-ORIGINAL-URL:https://zephyrhall.xyz
X-WR-CALDESC:ZephyrHall【ゼファーホール】 のイベント
REFRESH-INTERVAL;VALUE=DURATION:PT1H
X-Robots-Tag:noindex
X-PUBLISHED-TTL:PT1H
BEGIN:VTIMEZONE
TZID:Asia/Tokyo
BEGIN:STANDARD
TZOFFSETFROM:+0900
TZOFFSETTO:+0900
TZNAME:JST
DTSTART:20240101T000000
END:STANDARD
END:VTIMEZONE
BEGIN:VEVENT
DTSTART;TZID=Asia/Tokyo:20251216T063000
DTEND;TZID=Asia/Tokyo:20251216T213000
DTSTAMP:20260425T123728
CREATED:20251213T090906Z
LAST-MODIFIED:20251213T091250Z
UID:2410-1765866600-1765920600@zephyrhall.xyz
SUMMARY:名古屋合同定期公演vol.5
DESCRIPTION:名古屋合同定期公演vol.5\n日時 2025.12.16(火)\n会場 Zephyer Hall\nOPEN/START 18:30/18:55 \nhttps://ticketdive.com/event/nagoyagodo_vol5 \n前方¥2\,000\n前売り¥500 \n出演者\n手羽先センセーション\nTHE ENCORE\nカラフルスクリーム
URL:https://zephyrhall.xyz/event/%e5%90%8d%e5%8f%a4%e5%b1%8b%e5%90%88%e5%90%8c%e5%ae%9a%e6%9c%9f%e5%85%ac%e6%bc%94vol-5/
LOCATION:Zephyr Hall\, 愛知県名古屋市中区錦3丁目14-21\, 日本
ATTACH;FMTTYPE=image/jpeg:https://zephyrhall.xyz/wp-content/uploads/2025/12/1216合同定期-scaled.jpg
END:VEVENT
BEGIN:VEVENT
DTSTART;TZID=Asia/Tokyo:20251215T183000
DTEND;TZID=Asia/Tokyo:20251215T213000
DTSTAMP:20260425T123728
CREATED:20251213T090410Z
LAST-MODIFIED:20251213T090704Z
UID:2405-1765823400-1765834200@zephyrhall.xyz
SUMMARY:OS☆U 定期LIVE at Zephyr Hall〜OS☆U 2025 – With All Our Thanks〜
DESCRIPTION:OS☆U 定期LIVE at Zephyr Hall〜OS☆U 2025 – With All Our Thanks〜\n日時 2025.12.15(月)\n会場 Zephyer Hall\nOPEN/START 18:40/19:00 \nhttps://livepocket.jp/e/859pf \n前方¥2\,000\n一般¥0 \n出演者\nOS☆U
URL:https://zephyrhall.xyz/event/os%e2%98%86u-%e5%ae%9a%e6%9c%9flive-at-zephyr-hall%e3%80%9cos%e2%98%86u-2025-with-all-our-thanks%e3%80%9c/
LOCATION:Zephyr Hall\, 愛知県名古屋市中区錦3丁目14-21\, 日本
ATTACH;FMTTYPE=image/jpeg:https://zephyrhall.xyz/wp-content/uploads/2025/12/1215-z.jpg
END:VEVENT
BEGIN:VEVENT
DTSTART;TZID=Asia/Tokyo:20251214T173000
DTEND;TZID=Asia/Tokyo:20251214T213000
DTSTAMP:20260425T123728
CREATED:20251210T104741Z
LAST-MODIFIED:20251210T104945Z
UID:2400-1765733400-1765747800@zephyrhall.xyz
SUMMARY:藤木愛 生誕祭 2025
DESCRIPTION:藤木愛 生誕祭 2025\n日時 2025.12.14(土)\n会場 Zephyer Hall\nOPEN/START 17:00/17:30 \nhttps://ticketdive.com/event/mana_hpb2025 \nS¥10\,000\nA¥5\,000\nB¥1\,500 \n出演者\nTHE ENCORE
URL:https://zephyrhall.xyz/event/%e8%97%a4%e6%9c%a8%e6%84%9b-%e7%94%9f%e8%aa%95%e7%a5%ad-2025/
LOCATION:Zephyr Hall\, 愛知県名古屋市中区錦3丁目14-21\, 日本
ATTACH;FMTTYPE=image/jpeg:https://zephyrhall.xyz/wp-content/uploads/2025/12/1214-z-2部-scaled.jpg
END:VEVENT
BEGIN:VEVENT
DTSTART;TZID=Asia/Tokyo:20251214T100000
DTEND;TZID=Asia/Tokyo:20251214T150000
DTSTAMP:20260425T123728
CREATED:20251210T104537Z
LAST-MODIFIED:20251210T104537Z
UID:2397-1765706400-1765724400@zephyrhall.xyz
SUMMARY:THE ENCORE presents「ラブコール 名古屋SP -DAY2-」
DESCRIPTION:THE ENCORE presents「ラブコール 名古屋SP -DAY2-」\n日時 2025.12.14(日)\n会場 Zephyer Hall\nOPEN/START 10:00/10:30 \nhttps://ticketdive.com/event/lc_nagoya_2 \n前方¥3\,000\n一般¥1\,500 \n出演者\nTHE ENCORE\nAQA\nimage\nOS☆U\nなないろ∞ミルキーウェイ\nPastel Closet\nミラクルファンファーレ！\nY∀KiN\nLollipop♡CHU
URL:https://zephyrhall.xyz/event/the-encore-presents%e3%80%8c%e3%83%a9%e3%83%96%e3%82%b3%e3%83%bc%e3%83%ab-%e5%90%8d%e5%8f%a4%e5%b1%8bsp-day2-%e3%80%8d/
LOCATION:Zephyr Hall\, 愛知県名古屋市中区錦3丁目14-21\, 日本
ATTACH;FMTTYPE=image/webp:https://zephyrhall.xyz/wp-content/uploads/2025/12/1214-z-1部.webp
END:VEVENT
BEGIN:VEVENT
DTSTART;TZID=Asia/Tokyo:20251213T170000
DTEND;TZID=Asia/Tokyo:20251213T213000
DTSTAMP:20260425T123728
CREATED:20251210T102415Z
LAST-MODIFIED:20251210T102415Z
UID:2394-1765645200-1765661400@zephyrhall.xyz
SUMMARY:浅倉みさき 生誕祭 2025
DESCRIPTION:浅倉みさき 生誕祭 2025\n日時 2025.12.13(土)\n会場 Zephyer Hall\nOPEN/START 17:00/17:30 \nhttps://ticketdive.com/event/misaki_hpb2025 \nS¥10\,000\nA¥5\,000\nB¥1\,500 \n出演者\nTHE ENCORE
URL:https://zephyrhall.xyz/event/%e6%b5%85%e5%80%89%e3%81%bf%e3%81%95%e3%81%8d-%e7%94%9f%e8%aa%95%e7%a5%ad-2025/
LOCATION:Zephyr Hall\, 愛知県名古屋市中区錦3丁目14-21\, 日本
ATTACH;FMTTYPE=image/jpeg:https://zephyrhall.xyz/wp-content/uploads/2025/12/1213-z-2部.jpg
END:VEVENT
BEGIN:VEVENT
DTSTART;TZID=Asia/Tokyo:20251213T100000
DTEND;TZID=Asia/Tokyo:20251213T143000
DTSTAMP:20260425T123728
CREATED:20251210T101238Z
LAST-MODIFIED:20251210T101936Z
UID:2389-1765620000-1765636200@zephyrhall.xyz
SUMMARY:THE ENCORE presents「ラブコール 名古屋SP -DAY1-」
DESCRIPTION:THE ENCORE presents「ラブコール 名古屋SP -DAY1-」\n日時 2025.12.13(土)\n会場 Zephyer Hall\nOPEN/START 10:00/10:30 \nhttps://ticketdive.com/event/lc_nagoya_1 \n前方¥3\,000\n一般¥1\,500 \n出演者\nTHE ENCORE\n君に、胸キュン。\nselfish\nW.ダブルヴィー\nPastel Closet\nMyDearDarlin’\nラナキュラ
URL:https://zephyrhall.xyz/event/the-encore-presents%e3%80%8c%e3%83%a9%e3%83%96%e3%82%b3%e3%83%bc%e3%83%ab-%e5%90%8d%e5%8f%a4%e5%b1%8bsp-day1-%e3%80%8d/
LOCATION:Zephyr Hall\, 愛知県名古屋市中区錦3丁目14-21\, 日本
ATTACH;FMTTYPE=image/webp:https://zephyrhall.xyz/wp-content/uploads/2025/12/1213-z-1部.webp
END:VEVENT
BEGIN:VEVENT
DTSTART;TZID=Asia/Tokyo:20251212T180000
DTEND;TZID=Asia/Tokyo:20251212T233000
DTSTAMP:20260425T123728
CREATED:20251210T100026Z
LAST-MODIFIED:20251210T100759Z
UID:2384-1765562400-1765582200@zephyrhall.xyz
SUMMARY:2nd Anniversary one man 『Color me cute!!-なんにでもなれるの-』
DESCRIPTION:2nd Anniversary one man 『Color me cute!!-なんにでもなれるの-』\n日時 2025.12.12(金)\n会場 Zephyer Hall\nOPEN/START 18:00/18:45 \nhttps://tiget.net/events/441048 \nプレミアム¥10\,000\n優先¥3\,000\n招待手売¥1\,000 \n出演者\nAQA
URL:https://zephyrhall.xyz/event/2nd-anniversary-one-man-%e3%80%8ecolor-me-cute-%e3%81%aa%e3%82%93%e3%81%ab%e3%81%a7%e3%82%82%e3%81%aa%e3%82%8c%e3%82%8b%e3%81%ae-%e3%80%8f/
LOCATION:Zephyr Hall\, 愛知県名古屋市中区錦3丁目14-21\, 日本
ATTACH;FMTTYPE=image/jpeg:https://zephyrhall.xyz/wp-content/uploads/2025/12/1212-z-.jpg
END:VEVENT
BEGIN:VEVENT
DTSTART;TZID=Asia/Tokyo:20251211T160000
DTEND;TZID=Asia/Tokyo:20251211T213000
DTSTAMP:20260425T123728
CREATED:20251209T123611Z
LAST-MODIFIED:20251209T124231Z
UID:2379-1765468800-1765488600@zephyrhall.xyz
SUMMARY:ミルキーナイトフェス
DESCRIPTION:ミルキーナイトフェス\n日時 2025.12.11(木)\n会場 Zephyer Hall\nOPEN/START 16:00/16:15 \nhttps://t.livepocket.jp/e/d1euq \n前方¥4\,100\n一般¥2\,100\n※ドリンク代込みチケット \n出演者\nAMO million\nVIVE\nCHEReB\nわんキル\n賽の目。\nアリビオ\nO-STAR研究生\nプリンセス物語\nPOPING CANDY.\nsweet♡union\nmofu/mofu\nNEOTOKYO-TRIBE
URL:https://zephyrhall.xyz/event/%e3%83%9f%e3%83%ab%e3%82%ad%e3%83%bc%e3%83%8a%e3%82%a4%e3%83%88%e3%83%95%e3%82%a7%e3%82%b9/
LOCATION:Zephyr Hall\, 愛知県名古屋市中区錦3丁目14-21\, 日本
ATTACH;FMTTYPE=image/jpeg:https://zephyrhall.xyz/wp-content/uploads/2025/12/1211修正版.jpg
END:VEVENT
BEGIN:VEVENT
DTSTART;TZID=Asia/Tokyo:20251210T173000
DTEND;TZID=Asia/Tokyo:20251210T213000
DTSTAMP:20260425T123728
CREATED:20251209T122558Z
LAST-MODIFIED:20251209T123341Z
UID:2372-1765387800-1765402200@zephyrhall.xyz
SUMMARY:【nine face night】12月10日ダイヤモンドルージュ(チア)と一緒にドルフィンズを応援するパブリックビューイングat ZEPHYR HALL
DESCRIPTION:【nine face night】12月10日ダイヤモンドルージュ(チア)と一緒にドルフィンズを応援するパブリックビューイングat ZEPHYR HALL\n日時 2025.12.10(水)\n会場 Zephyer Hall\nOPEN/START 17:30/18:30 \nhttps://www.deradera.co.jp/c/other/public_viewing_2025-12-10 \n参加費¥1\,500\n※別途600円のドリンク代が必要となります \n出演者\n・堀江美穂（アリーナMC）\n・公式チアリーダーズ ダイヤモンドルージュ\n　MINA\n　NOA\n　YUUNA\n　MIRAN\n　SAWA
URL:https://zephyrhall.xyz/event/%e3%80%90nine-face-night%e3%80%9112%e6%9c%8810%e6%97%a5%e3%83%80%e3%82%a4%e3%83%a4%e3%83%a2%e3%83%b3%e3%83%89%e3%83%ab%e3%83%bc%e3%82%b8%e3%83%a5%e3%83%81%e3%82%a2%e3%81%a8%e4%b8%80%e7%b7%92/
LOCATION:Zephyr Hall\, 愛知県名古屋市中区錦3丁目14-21\, 日本
ATTACH;FMTTYPE=image/jpeg:https://zephyrhall.xyz/wp-content/uploads/2025/12/1210-z.jpg
END:VEVENT
BEGIN:VEVENT
DTSTART;TZID=Asia/Tokyo:20251207T143000
DTEND;TZID=Asia/Tokyo:20251207T213000
DTSTAMP:20260425T123728
CREATED:20251204T121421Z
LAST-MODIFIED:20251204T121843Z
UID:2366-1765117800-1765143000@zephyrhall.xyz
SUMMARY:笹南はんな 生誕祭 2025
DESCRIPTION:笹南はんな 生誕祭 2025\n日時 2025.12.7(日)\n会場 Zephyer Hall\nOPEN/START 17:00/17:30 \nhttps://ticketdive.com/event/hanna_hpb2025 \nS¥10\,000\nA¥5\,000\nB¥1\,500 \n出演者\nTHE ENCORE
URL:https://zephyrhall.xyz/event/%e7%ac%b9%e5%8d%97%e3%81%af%e3%82%93%e3%81%aa-%e7%94%9f%e8%aa%95%e7%a5%ad-2025/
LOCATION:Zephyr Hall\, 愛知県名古屋市中区錦3丁目14-21\, 日本
ATTACH;FMTTYPE=image/jpeg:https://zephyrhall.xyz/wp-content/uploads/2025/12/127-z-2部.jpg
END:VEVENT
BEGIN:VEVENT
DTSTART;TZID=Asia/Tokyo:20251207T103000
DTEND;TZID=Asia/Tokyo:20251207T140000
DTSTAMP:20260425T123728
CREATED:20251204T120542Z
LAST-MODIFIED:20251206T123444Z
UID:2361-1765103400-1765116000@zephyrhall.xyz
SUMMARY:Pastel × Edge
DESCRIPTION:Pastel × Edge\n日時 2025.12.7(日)\n会場 Zephyer Hall\nOPEN/START 10:30/10:50 \nhttps://ticketdive.com/event/PastelEdge_12-7 \n優先¥3\,000\n一般¥1\,000 \n出演者\nミラクルファンファーレ！\nＯ₂\nTwilight BlooM.\n輝きぱにっく\nPULSAR _CLIMAX
URL:https://zephyrhall.xyz/event/pastel-x-edge/
LOCATION:Zephyr Hall\, 愛知県名古屋市中区錦3丁目14-21\, 日本
ATTACH;FMTTYPE=image/png:https://zephyrhall.xyz/wp-content/uploads/2025/12/12.7告知画像-scaled.png
END:VEVENT
BEGIN:VEVENT
DTSTART;TZID=Asia/Tokyo:20251206T170000
DTEND;TZID=Asia/Tokyo:20251206T213000
DTSTAMP:20260425T123728
CREATED:20251204T120010Z
LAST-MODIFIED:20251204T120236Z
UID:2356-1765040400-1765056600@zephyrhall.xyz
SUMMARY:GUILTY LABYRINTH
DESCRIPTION:GUILTY LABYRINTH\n日時 2025.12.6(土)\n会場 Zephyer Hall\nOPEN/START 17:20/17:40 \nhttps://t.livepocket.jp/e/6kuoc \n前方¥3\,000\n一般¥1\,000 \n出演者\nGILMWA-ギルモア-\nUNWHITE\nReborn\nボクとキミ\nMerry Bad End
URL:https://zephyrhall.xyz/event/guilty-labyrinth/
LOCATION:Zephyr Hall\, 愛知県名古屋市中区錦3丁目14-21\, 日本
ATTACH;FMTTYPE=image/jpeg:https://zephyrhall.xyz/wp-content/uploads/2025/12/126-z-3部.jpeg
END:VEVENT
BEGIN:VEVENT
DTSTART;TZID=Asia/Tokyo:20251206T140000
DTEND;TZID=Asia/Tokyo:20251206T163000
DTSTAMP:20260425T123728
CREATED:20251204T114722Z
LAST-MODIFIED:20251204T114920Z
UID:2352-1765029600-1765038600@zephyrhall.xyz
SUMMARY:Zephyr the Sonic mini 2部
DESCRIPTION:Zephyr the Sonic mini\n日時 2025.12.6(土)\n会場 Zephyer Hall\nOPEN/START 14:00/14:30 \nhttps://t.livepocket.jp/e/iir7v \n前方¥3\,000\n一般¥1\,000 \n出演者\nミラクルファンファーレ！\nふれふれフレーバー\n愛※ぱんでみっく！\nmofu/mofu
URL:https://zephyrhall.xyz/event/zephyr-the-sonic-mini-2%e9%83%a8/
LOCATION:Zephyr Hall\, 愛知県名古屋市中区錦3丁目14-21\, 日本
ATTACH;FMTTYPE=image/jpeg:https://zephyrhall.xyz/wp-content/uploads/2025/12/1206-Z-フライヤー.jpg
END:VEVENT
BEGIN:VEVENT
DTSTART;TZID=Asia/Tokyo:20251206T103000
DTEND;TZID=Asia/Tokyo:20251206T133000
DTSTAMP:20260425T123728
CREATED:20251204T114024Z
LAST-MODIFIED:20251204T114552Z
UID:2347-1765017000-1765027800@zephyrhall.xyz
SUMMARY:Zephyr the Sonic mini 1部
DESCRIPTION:Zephyr the Sonic mini\n日時 2025.12.6(土)\n会場 Zephyer Hall\nOPEN/START 10:30/10:50 \nhttps://t.livepocket.jp/e/4v9ru \n前方¥3\,000\n一般¥1\,000 \n出演者\n輝きぱにっく\nMATANAGOYA\nリンカ\nキグルミ\nアクリム
URL:https://zephyrhall.xyz/event/zephyr-the-sonic-mini-1%e9%83%a8/
LOCATION:Zephyr Hall\, 愛知県名古屋市中区錦3丁目14-21\, 日本
ATTACH;FMTTYPE=image/jpeg:https://zephyrhall.xyz/wp-content/uploads/2025/12/1206-Z-フライヤー.jpg
END:VEVENT
BEGIN:VEVENT
DTSTART;TZID=Asia/Tokyo:20251203T143000
DTEND;TZID=Asia/Tokyo:20251203T210000
DTSTAMP:20260425T123728
CREATED:20251203T054756Z
LAST-MODIFIED:20251203T055840Z
UID:2340-1764772200-1764795600@zephyrhall.xyz
SUMMARY:【名古屋単独公演2部】まじでばびでぶー！vol.4
DESCRIPTION:【名古屋単独公演2部】まじでばびでぶー！vol.4\n場所:Zephyr Hall\n料金:前売 ¥3\,000/当日¥4\,000/別途1D\n出演:Magi♡9 \n【1部無料TikTok撮影会】\n14:30-14:45 OPEN\n16:00-17:00 特典会\n別途1D\n【2部】\n17:30-18:00 OPEN\n19:00-21:00 特典会 \nアルコール提供無し \nhttps://t.livepocket.jp/e/1203magi_9
URL:https://zephyrhall.xyz/event/%e3%80%90%e5%90%8d%e5%8f%a4%e5%b1%8b%e5%8d%98%e7%8b%ac%e5%85%ac%e6%bc%942%e9%83%a8%e3%80%91%e3%81%be%e3%81%98%e3%81%a7%e3%81%b0%e3%81%b3%e3%81%a7%e3%81%b6%e3%83%bc%ef%bc%81vol-4/
LOCATION:Zephyr Hall\, 愛知県名古屋市中区錦3丁目14-21\, 日本
ATTACH;FMTTYPE=image/jpeg:https://zephyrhall.xyz/wp-content/uploads/2025/12/123.jpg
END:VEVENT
BEGIN:VEVENT
DTSTART;TZID=Asia/Tokyo:20251130T090000
DTEND;TZID=Asia/Tokyo:20251130T220000
DTSTAMP:20260425T123728
CREATED:20251128T074035Z
LAST-MODIFIED:20251129T133008Z
UID:2329-1764493200-1764540000@zephyrhall.xyz
SUMMARY:ART SOUND presents "SOUND GARDEN 2025"
DESCRIPTION:ART SOUND presents “SOUND GARDEN 2025”\n日時 2025.11.30(日)\n会場 Zephyer Hall\nOPEN/START 9:30/10:40 \nhttps://t.livepocket.jp/e/soundgarden2025
URL:https://zephyrhall.xyz/event/2329/
LOCATION:Zephyr Hall\, 愛知県名古屋市中区錦3丁目14-21\, 日本
ATTACH;FMTTYPE=image/png:https://zephyrhall.xyz/wp-content/uploads/2025/11/1130-z-scaled.png
END:VEVENT
BEGIN:VEVENT
DTSTART;TZID=Asia/Tokyo:20251129T093000
DTEND;TZID=Asia/Tokyo:20251129T220000
DTSTAMP:20260425T123728
CREATED:20251128T071627Z
LAST-MODIFIED:20251129T133133Z
UID:2324-1764408600-1764453600@zephyrhall.xyz
SUMMARY:ART SOUND presents "SOUND GARDEN 2025"
DESCRIPTION:ART SOUND presents “SOUND GARDEN 2025”\n日時 2025.11.29(土)\n会場 Zephyer Hall\nOPEN/START 9:30/10:40 \nhttps://t.livepocket.jp/e/soundgarden2025
URL:https://zephyrhall.xyz/event/%e3%80%8csound-garden%e3%80%8d/
LOCATION:Zephyr Hall\, 愛知県名古屋市中区錦3丁目14-21\, 日本
ATTACH;FMTTYPE=image/png:https://zephyrhall.xyz/wp-content/uploads/2025/11/1129-z--scaled.png
END:VEVENT
BEGIN:VEVENT
DTSTART;TZID=Asia/Tokyo:20251128T153000
DTEND;TZID=Asia/Tokyo:20251128T213000
DTSTAMP:20260425T123728
CREATED:20251126T081329Z
LAST-MODIFIED:20251128T071902Z
UID:2316-1764343800-1764365400@zephyrhall.xyz
SUMMARY:「究極人形吉田あかり聖誕祭」
DESCRIPTION:「究極人形吉田あかり聖誕祭」\n日時 2025.11.28(金)\n会場 Zephyer Hall\nOPEN/START 15:40/16:00 \nhttps://t.livepocket.jp/e/0ea_o \n前方¥3\,500\n一般¥1\,500 \n出演者\n究極人形\nアステリア\n恋セ界\nナト☆カン\nAiMEL!!-あいめる-\n夢咲このか（from:ふぇありーているず！）\nSnowComp/ex\nStar☆T\ndela\nCosmoslay\n仮面女子
URL:https://zephyrhall.xyz/event/%e3%80%8c%e7%a9%b6%e6%a5%b5%e4%ba%ba%e5%bd%a2%e5%90%89%e7%94%b0%e3%81%82%e3%81%8b%e3%82%8a%e8%81%96%e8%aa%95%e7%a5%ad%e3%80%8d/
LOCATION:Zephyr Hall\, 愛知県名古屋市中区錦3丁目14-21\, 日本
ATTACH;FMTTYPE=image/jpeg:https://zephyrhall.xyz/wp-content/uploads/2025/11/1128-z-.jpg
END:VEVENT
BEGIN:VEVENT
DTSTART;TZID=Asia/Tokyo:20251127T053000
DTEND;TZID=Asia/Tokyo:20251127T213000
DTSTAMP:20260425T123728
CREATED:20251126T081023Z
LAST-MODIFIED:20251128T070721Z
UID:2312-1764221400-1764279000@zephyrhall.xyz
SUMMARY:「OS☆U 定期LIVE at Zephyr Hall」
DESCRIPTION:「OS☆U 定期LIVE at Zephyr Hall」\n日時 2025.11.27(木)\n会場 Zephyer Hall\nOPEN/START 18:40/19:00 \nhttps://t.livepocket.jp/e/8_s6c \n前方¥2\,000\n一般¥0 \n出演者\nOS☆U
URL:https://zephyrhall.xyz/event/%e3%80%8cos%e2%98%86u-%e5%ae%9a%e6%9c%9flive-at-zephyr-hall%e3%80%8d/
LOCATION:Zephyr Hall\, 愛知県名古屋市中区錦3丁目14-21\, 日本
ATTACH;FMTTYPE=image/jpeg:https://zephyrhall.xyz/wp-content/uploads/2025/11/1127-z-.jpg
END:VEVENT
BEGIN:VEVENT
DTSTART;TZID=Asia/Tokyo:20251125T140000
DTEND;TZID=Asia/Tokyo:20251125T213000
DTSTAMP:20260425T123728
CREATED:20251120T091316Z
LAST-MODIFIED:20251120T092759Z
UID:2303-1764079200-1764106200@zephyrhall.xyz
SUMMARY:「でらでらデラックス～沸かせてみせよう。日本の真ん中で！～」
DESCRIPTION:「でらでらデラックス～沸かせてみせよう。日本の真ん中で！～」\n日時 2025.11.25(火)\n会場 Zephyer Hall\nOPEN/START 17:00/18:00 \nhttps://ticketdive.com/event/tenran_HalfAnniversary \nVIP¥20\,000\nS¥8\,000\nA¥5\,000\n一般¥3\,000\nお試し¥500 \n出演者\nテンシンランマン
URL:https://zephyrhall.xyz/event/%e3%80%8c%e3%81%a7%e3%82%89%e3%81%a7%e3%82%89%e3%83%87%e3%83%a9%e3%83%83%e3%82%af%e3%82%b9%ef%bd%9e%e6%b2%b8%e3%81%8b%e3%81%9b%e3%81%a6%e3%81%bf%e3%81%9b%e3%82%88%e3%81%86%e3%80%82%e6%97%a5%e6%9c%ac/
LOCATION:Zephyr Hall\, 愛知県名古屋市中区錦3丁目14-21\, 日本
ATTACH;FMTTYPE=image/jpeg:https://zephyrhall.xyz/wp-content/uploads/2025/11/1125-z-scaled.jpg
END:VEVENT
BEGIN:VEVENT
DTSTART;TZID=Asia/Tokyo:20251124T170000
DTEND;TZID=Asia/Tokyo:20251124T210000
DTSTAMP:20260425T123728
CREATED:20251120T090158Z
LAST-MODIFIED:20251120T090601Z
UID:2298-1764003600-1764018000@zephyrhall.xyz
SUMMARY:「羽乃りんの 生誕祭2025」
DESCRIPTION:「羽乃りんの 生誕祭2025」\n日時 2025.11.24(月)\n会場 Zephyer Hall\nOPEN/START 17:00/17:30 \nhttps://ticketdive.com/event/rinno_hpb2025 \nS¥10\,000\nA¥5\,000\nB¥1\,500 \n出演者\nTHE ENCORE
URL:https://zephyrhall.xyz/event/%e3%80%8c%e7%be%bd%e4%b9%83%e3%82%8a%e3%82%93%e3%81%ae-%e7%94%9f%e8%aa%95%e7%a5%ad2025%e3%80%8d/
LOCATION:Zephyr Hall\, 愛知県名古屋市中区錦3丁目14-21\, 日本
ATTACH;FMTTYPE=image/jpeg:https://zephyrhall.xyz/wp-content/uploads/2025/11/1124z.jpg
END:VEVENT
BEGIN:VEVENT
DTSTART;TZID=Asia/Tokyo:20251124T103000
DTEND;TZID=Asia/Tokyo:20251124T150000
DTSTAMP:20260425T123728
CREATED:20251120T085121Z
LAST-MODIFIED:20251120T123712Z
UID:2291-1763980200-1763996400@zephyrhall.xyz
SUMMARY:「Live For Badass vol.5」
DESCRIPTION:「Live For Badass vol.5」\n日時 2025.11.24(月)\n会場 Zephyer Hall\nOPEN/START 10:30/10:50 \nhttps://ticketdive.com/event/kEm5DsBgOQ8YLive \n優先¥3\,500\n一般¥1\,500\n女性¥1\,000 \n出演者\nミラクルファンファーレ！\nBeloved\nなないろ∞ミルキーウェイ\nアクリム\nCosmoslay\nめっ！\nY∀KiN\nぜろから☆すた→と\nOS☆U\n蜜兎
URL:https://zephyrhall.xyz/event/%e3%80%8clive-for-badass-vol-5%e3%80%8d/
LOCATION:Zephyr Hall\, 愛知県名古屋市中区錦3丁目14-21\, 日本
ATTACH;FMTTYPE=image/png:https://zephyrhall.xyz/wp-content/uploads/2025/11/フレオ.png
END:VEVENT
BEGIN:VEVENT
DTSTART;TZID=Asia/Tokyo:20251123T150000
DTEND;TZID=Asia/Tokyo:20251123T223000
DTSTAMP:20260425T123728
CREATED:20251120T083733Z
LAST-MODIFIED:20251120T083823Z
UID:2287-1763910000-1763937000@zephyrhall.xyz
SUMMARY:「名古屋事変」
DESCRIPTION:「名古屋事変」\n日時 2025.11.23(日)\n会場 Zephyer Hall\nOPEN/START 15:10/15:25 \nhttps://ticketdive.com/event/251123n \n前方¥5\,000\n一般¥0 \n出演者\nマーキュロ\nベロティカ\nクララ・マグラ\nVILLAINS HOUSE\nクライセカイ\nギミック\nセクト\nうとゆに\nサークルライチ塾生二期\nテンシンランマン\nMADMED\nマザリ\nめっ！\n神様の言う通り\nDear.HOLIC\nSiLENT←NOiSE\nXINXIN
URL:https://zephyrhall.xyz/event/%e3%80%8c%e5%90%8d%e5%8f%a4%e5%b1%8b%e4%ba%8b%e5%a4%89%e3%80%8d/
LOCATION:Zephyr Hall\, 愛知県名古屋市中区錦3丁目14-21\, 日本
ATTACH;FMTTYPE=image/jpeg:https://zephyrhall.xyz/wp-content/uploads/2025/11/1123-2部-z.jpg
END:VEVENT
BEGIN:VEVENT
DTSTART;TZID=Asia/Tokyo:20251123T093000
DTEND;TZID=Asia/Tokyo:20251123T150000
DTSTAMP:20260425T123728
CREATED:20251120T082905Z
LAST-MODIFIED:20251120T084024Z
UID:2282-1763890200-1763910000@zephyrhall.xyz
SUMMARY:「サークルライチ&MAD'S iNK主催『アウトロー』」
DESCRIPTION:「サークルライチ&MAD’S iNK主催『アウトロー』」\n日時 2025.11.23(日)\n会場 Zephyer Hall\nOPEN/START 9:50/10:10 \nhttps://ticketdive.com/event/251123z \n前方¥5\,000\n一般¥2\,000 \n出演者\nマーキュロ\nベロティカ\nクララ・マグラ\nVILLAINS HOUSE\nクライセカイ\nギミック\nセクト\nうとゆに\nサークルライチ塾生二期\nMADMED\nマザリ\nめっ！\n神様の言う通り
URL:https://zephyrhall.xyz/event/%e3%80%8c%e3%82%b5%e3%83%bc%e3%82%af%e3%83%ab%e3%83%a9%e3%82%a4%e3%83%81mads-ink%e4%b8%bb%e5%82%ac%e3%80%8e%e3%82%a2%e3%82%a6%e3%83%88%e3%83%ad%e3%83%bc%e3%80%8f%e3%80%8d/
LOCATION:Zephyr Hall\, 愛知県名古屋市中区錦3丁目14-21\, 日本
ATTACH;FMTTYPE=image/jpeg:https://zephyrhall.xyz/wp-content/uploads/2025/11/1123-1部-z.jpg
END:VEVENT
BEGIN:VEVENT
DTSTART;TZID=Asia/Tokyo:20251122T160000
DTEND;TZID=Asia/Tokyo:20251122T213000
DTSTAMP:20260425T123728
CREATED:20251120T082514Z
LAST-MODIFIED:20251120T082514Z
UID:2278-1763827200-1763847000@zephyrhall.xyz
SUMMARY:あたぱち! ONE MAN LIVE『 BRAND NEW STAGE 』
DESCRIPTION:あたぱち! ONE MAN LIVE『 BRAND NEW STAGE 』\n日時 2025.11.22(土)\n会場 Zephyer Hall\nOPEN/START 16:00/17:00 \nhttps://t.livepocket.jp/e/atpc-zephyr1122 \nS¥10\,000\n前売優先¥4\,500\n前売一般¥2\,000 \n出演者\nあたまのなかは8ビット⁉︎
URL:https://zephyrhall.xyz/event/%e3%81%82%e3%81%9f%e3%81%b1%e3%81%a1-one-man-live%e3%80%8e-brand-new-stage-%e3%80%8f/
LOCATION:Zephyr Hall\, 愛知県名古屋市中区錦3丁目14-21\, 日本
ATTACH;FMTTYPE=image/jpeg:https://zephyrhall.xyz/wp-content/uploads/2025/11/1122-z-scaled.jpg
END:VEVENT
BEGIN:VEVENT
DTSTART;TZID=Asia/Tokyo:20251121T053000
DTEND;TZID=Asia/Tokyo:20251121T213000
DTSTAMP:20260425T123728
CREATED:20251116T101007Z
LAST-MODIFIED:20251116T101915Z
UID:2272-1763703000-1763760600@zephyrhall.xyz
SUMMARY:「SE7ENTH SENSE LIVE HOUSE TOUR 2025  「ぶちアガッテル⁉~Welcome to Winterland Tour~」in AICHI」
DESCRIPTION:「SE7ENTH SENSE LIVE HOUSE TOUR 2025\n「ぶちアガッテル⁉~Welcome to Winterland Tour~」in AICHI」\n日時 2025.11.21(金)\n会場 Zephyer Hall\nOPEN/START 17:30/18:00 \nhttps://se7nth-sense.bitfan.id/schedules/83210?r=t615o0 \n前方¥4\,500\n一般¥3\,000 \n出演者\nSE7ENTH SENSE
URL:https://zephyrhall.xyz/event/%e3%80%8cse7enth-sense-live-house-tour-2025-%e3%80%8c%e3%81%b6%e3%81%a1%e3%82%a2%e3%82%ac%e3%83%83%e3%83%86%e3%83%ab%e2%81%89welcome-to-winterland-tour%e3%80%8din-aichi%e3%80%8d/
LOCATION:Zephyr Hall\, 愛知県名古屋市中区錦3丁目14-21\, 日本
ATTACH;FMTTYPE=image/jpeg:https://zephyrhall.xyz/wp-content/uploads/2025/11/1121-z.jpg
END:VEVENT
BEGIN:VEVENT
DTSTART;TZID=Asia/Tokyo:20251117T180000
DTEND;TZID=Asia/Tokyo:20251117T210000
DTSTAMP:20260425T123728
CREATED:20251116T100325Z
LAST-MODIFIED:20251117T081741Z
UID:2199-1763402400-1763413200@zephyrhall.xyz
SUMMARY:「Ladybug vol.1」
DESCRIPTION:「Ladybug vol.1」\n日時 2025.11.17(月)\n会場 Zephyer Hall\nOPEN/START 18:00/18:20 \nhttps://t.livepocket.jp/e/k8qz5 \n前方¥3\,000\n一般¥1\,500 \n出演者\nTHE ENCORE\nimage\nOS☆U\n逆転ねこぱんちっ！\nなないろ∞ミルキーウェイ\nなみだ色の消しごむ\n手羽先センセーション\nBeloved
URL:https://zephyrhall.xyz/event/%e3%80%8cladybug-vol-1%e3%80%8d/
LOCATION:Zephyr Hall\, 愛知県名古屋市中区錦3丁目14-21\, 日本
ATTACH;FMTTYPE=image/jpeg:https://zephyrhall.xyz/wp-content/uploads/2025/11/1117-z-scaled.jpg
END:VEVENT
BEGIN:VEVENT
DTSTART;TZID=Asia/Tokyo:20251116T103000
DTEND;TZID=Asia/Tokyo:20251116T213000
DTSTAMP:20260425T123728
CREATED:20251112T105454Z
LAST-MODIFIED:20251112T105954Z
UID:2194-1763289000-1763328600@zephyrhall.xyz
SUMMARY:「フレオ祭2025 in 名古屋」
DESCRIPTION:「フレオ祭2025 in 名古屋」\n日時 2025.11.16(日)\n会場 Zephyer Hall\nOPEN/START 10:40/11:40 \nhttps://ticketdive.com/event/freosai2025_nagoya \nS¥20\,000\nA¥1\,000 \n出演者\nなみだ色の消しごむ\nTHE ENCORE\nラブアグレッション\n未完成のキャラメル\nあの日見たラッキースター\n強がりセンセーション\nY∀KiN\nミラクルファンファーレ！\nワガママなラストノート\nさくら色のカレンダー\nルミナスシンフォニー\nAerolipop\n君のメインヒロイン
URL:https://zephyrhall.xyz/event/%e3%80%8c%e3%83%95%e3%83%ac%e3%82%aa%e7%a5%ad2025-in-%e5%90%8d%e5%8f%a4%e5%b1%8b%e3%80%8d/
LOCATION:Zephyr Hall\, 愛知県名古屋市中区錦3丁目14-21\, 日本
ATTACH;FMTTYPE=image/jpeg:https://zephyrhall.xyz/wp-content/uploads/2025/11/1116-z.jpg
END:VEVENT
BEGIN:VEVENT
DTSTART;TZID=Asia/Tokyo:20251115T093000
DTEND;TZID=Asia/Tokyo:20251115T223000
DTSTAMP:20260425T123728
CREATED:20251112T103835Z
LAST-MODIFIED:20251113T112632Z
UID:2197-1763199000-1763245800@zephyrhall.xyz
SUMMARY:「アイドルアラモードプチVol.103～名古屋出張2DAYS SP～」
DESCRIPTION:「アイドルアラモードプチVol.103～名古屋出張2DAYS SP～」\n日時 2025.11.15(土)\n会場 Zephyer Hall\nOPEN/START 9:50/10:20 \nhttps://ticketdive.com/event/alamodepetite_121 \n前方¥6\,000\n一般¥3\,500 \n出演者\n手羽先センセーション\nSweet Alley\nPeel the Apple\n月に足跡を残した6人の少女達は一体何を見たのか…\nテラテラ\nルージュブック\nRoot mimi\nI MY ME MINE\nブルーなままで\nI’mew（あいみゅう）\nあまいものつめあわせ\nイイトコドリ\nDrug&Drop\nRe:♡\nなないろ∞ミルキーウェイ\nきっと大切だった\nなみだ色の消しごむ\nラブアグレッション\nTHE ENCORE\n強がりセンセーション\nAerolipop\nあの日見たラッキースター\n未完成のキャラメル\nY∀KiN\nミラクルファンファーレ！\nワガママなラストノート\nルミナスシンフォニー\nさくら色のカレンダー
URL:https://zephyrhall.xyz/event/%e3%80%8c%e3%82%a2%e3%82%a4%e3%83%89%e3%83%ab%e3%82%a2%e3%83%a9%e3%83%a2%e3%83%bc%e3%83%89%e3%83%97%e3%83%81vol-103%ef%bd%9e%e5%90%8d%e5%8f%a4%e5%b1%8b%e5%87%ba%e5%bc%b52days-sp%ef%bd%9e%e3%80%8d/
LOCATION:Zephyr Hall\, 愛知県名古屋市中区錦3丁目14-21\, 日本
ATTACH;FMTTYPE=image/jpeg:https://zephyrhall.xyz/wp-content/uploads/2025/11/1115z.jpg
END:VEVENT
BEGIN:VEVENT
DTSTART;TZID=Asia/Tokyo:20251114T180000
DTEND;TZID=Asia/Tokyo:20251114T213000
DTSTAMP:20260425T123728
CREATED:20251112T101739Z
LAST-MODIFIED:20251113T100235Z
UID:2190-1763143200-1763155800@zephyrhall.xyz
SUMMARY:「りんにゃんのお誕生日会2025 -今年も絶対りんにゃん宣言！♡-」
DESCRIPTION:「りんにゃんのお誕生日会2025\n-今年も絶対りんにゃん宣言！♡-」\n日時 2025.11.14(金)\n会場 Zephyer Hall\nOPEN/START 18:00/18:20 \nhttps://ticketdive.com/event/rinnyan_2025 \nS(前方)¥3\,500\nA(一般)¥1\,500 \n出演者\nLollipop♡CHU\nSTARRY×NIGHT↗︎\nMATANAGOYA\nAQA
URL:https://zephyrhall.xyz/event/%e3%80%8c%e3%82%8a%e3%82%93%e3%81%ab%e3%82%83%e3%82%93%e3%81%ae%e3%81%8a%e8%aa%95%e7%94%9f%e6%97%a5%e4%bc%9a2025-%e4%bb%8a%e5%b9%b4%e3%82%82%e7%b5%b6%e5%af%be%e3%82%8a%e3%82%93%e3%81%ab%e3%82%83/
LOCATION:Zephyr Hall\, 愛知県名古屋市中区錦3丁目14-21\, 日本
ATTACH;FMTTYPE=image/jpeg:https://zephyrhall.xyz/wp-content/uploads/2025/11/S__14319634-scaled.jpg
END:VEVENT
END:VCALENDAR