BEGIN:VCALENDAR
VERSION:2.0
PRODID:-//ZephyrHall【ゼファーホール】 - ECPv6.15.20//NONSGML v1.0//EN
CALSCALE:GREGORIAN
METHOD:PUBLISH
X-WR-CALNAME:ZephyrHall【ゼファーホール】
X-ORIGINAL-URL:https://zephyrhall.xyz
X-WR-CALDESC:ZephyrHall【ゼファーホール】 のイベント
REFRESH-INTERVAL;VALUE=DURATION:PT1H
X-Robots-Tag:noindex
X-PUBLISHED-TTL:PT1H
BEGIN:VTIMEZONE
TZID:Asia/Tokyo
BEGIN:STANDARD
TZOFFSETFROM:+0900
TZOFFSETTO:+0900
TZNAME:JST
DTSTART:20240101T000000
END:STANDARD
END:VTIMEZONE
BEGIN:VEVENT
DTSTART;TZID=Asia/Tokyo:20260110T170000
DTEND;TZID=Asia/Tokyo:20260110T213000
DTSTAMP:20260425T110001
CREATED:20260105T060907Z
LAST-MODIFIED:20260330T101813Z
UID:2576-1768064400-1768080600@zephyrhall.xyz
SUMMARY:藤元うい 生誕祭 2026
DESCRIPTION:藤元うい 生誕祭 2026\n日時 2026.1.10(土)\n会場 Zephyer Hall\nOPEN/START 17:00/17:30 \nhttps://ticketdive.com/event/ui_hpb2026 \nS¥10\,000\nA¥5\,000\nB¥1\,500 \n出演者\nTHE ENCORE
URL:https://zephyrhall.xyz/event/%e8%97%a4%e5%85%83%e3%81%86%e3%81%84-%e7%94%9f%e8%aa%95%e7%a5%ad-2026/
LOCATION:Zephyr Hall\, 愛知県名古屋市中区錦3丁目14-21\, 日本
ATTACH;FMTTYPE=image/jpeg:https://zephyrhall.xyz/wp-content/uploads/2026/01/110-z-2部.jpg
END:VEVENT
BEGIN:VEVENT
DTSTART;TZID=Asia/Tokyo:20260110T113000
DTEND;TZID=Asia/Tokyo:20260110T143000
DTSTAMP:20260425T110001
CREATED:20260105T055516Z
LAST-MODIFIED:20260330T101746Z
UID:2571-1768044600-1768055400@zephyrhall.xyz
SUMMARY:THE ENCORE × 君に、胸キュン 〜2man Show〜
DESCRIPTION:THE ENCORE × 君に、胸キュン 〜2man Show〜\n日時 2026.1.10(土)\n会場 Zephyer Hall\nOPEN/START 11:30/12:00 \nhttps://ticketdive.com/event/2manshow0110 \n前方¥3\,000\n一般¥1\,000 \n出演者\nTHE ENCORE\n君に、胸キュン。
URL:https://zephyrhall.xyz/event/the-encore-x-%e5%90%9b%e3%81%ab%e3%80%81%e8%83%b8%e3%82%ad%e3%83%a5%e3%83%b3-%e3%80%9c2man-show%e3%80%9c/
LOCATION:Zephyr Hall\, 愛知県名古屋市中区錦3丁目14-21\, 日本
ATTACH;FMTTYPE=image/jpeg:https://zephyrhall.xyz/wp-content/uploads/2026/01/110-z.jpg
END:VEVENT
BEGIN:VEVENT
DTSTART;TZID=Asia/Tokyo:20260109T130000
DTEND;TZID=Asia/Tokyo:20260109T173000
DTSTAMP:20260425T110001
CREATED:20260105T054642Z
LAST-MODIFIED:20260330T101709Z
UID:2566-1767963600-1767979800@zephyrhall.xyz
SUMMARY:セブセン☆ガチライブ〜名古屋でノンストップライブやったろまい！！〜
DESCRIPTION:セブセン☆ガチライブ〜名古屋でノンストップライブやったろまい！！〜\n日時 2026.1.9(金)\n会場 Zephyer Hall\nOPEN/START 13:00/13:30 \nhttps://livepocket.jp/e/sense_0109 \nVIP¥4\,000\n優先¥4\,000\n一般¥2\,500\n当日¥3\,500 \n出演者\nSE7ENTH SENSE
URL:https://zephyrhall.xyz/event/%e3%82%bb%e3%83%96%e3%82%bb%e3%83%b3%e2%98%86%e3%82%ac%e3%83%81%e3%83%a9%e3%82%a4%e3%83%96%e3%80%9c%e5%90%8d%e5%8f%a4%e5%b1%8b%e3%81%a7%e3%83%8e%e3%83%b3%e3%82%b9%e3%83%88%e3%83%83%e3%83%97%e3%83%a9/
LOCATION:Zephyr Hall\, 愛知県名古屋市中区錦3丁目14-21\, 日本
ATTACH;FMTTYPE=image/jpeg:https://zephyrhall.xyz/wp-content/uploads/2026/01/19-z.jpg
END:VEVENT
BEGIN:VEVENT
DTSTART;TZID=Asia/Tokyo:20260108T053000
DTEND;TZID=Asia/Tokyo:20260108T213000
DTSTAMP:20260425T110001
CREATED:20260105T053835Z
LAST-MODIFIED:20260330T101635Z
UID:2561-1767850200-1767907800@zephyrhall.xyz
SUMMARY:GIRLS ONEPIECE
DESCRIPTION:GIRLS ONEPIECE\n日時 2026.1.8(木)\n会場 Zephyer Hall\nOPEN/START 17:40/18:05 \nhttps://ticketdive.com/event/GIRLSONEPIECE0108 \n優先¥3\,000\n一般¥1\,500\n女性¥0 \n出演者\n兎月もも\n南ことの\n七瀬優歌\n夢心かりん\n如月みゆら\n望月潤\nいろね\nあったかこころ\n氷菓にこ\n愛瀬かれん\n楠木こはな\n綾乃みこ\n恋麦める\n翼芽ゆいか\n星乃あの
URL:https://zephyrhall.xyz/event/girls-onepiece/
LOCATION:Zephyr Hall\, 愛知県名古屋市中区錦3丁目14-21\, 日本
ATTACH;FMTTYPE=image/jpeg:https://zephyrhall.xyz/wp-content/uploads/2026/01/18-z-TT.jpg
END:VEVENT
BEGIN:VEVENT
DTSTART;TZID=Asia/Tokyo:20260107T050000
DTEND;TZID=Asia/Tokyo:20260107T210000
DTSTAMP:20260425T110001
CREATED:20260105T050245Z
LAST-MODIFIED:20260330T101612Z
UID:2556-1767762000-1767819600@zephyrhall.xyz
SUMMARY:テンラン会〜新年編〜DAY２
DESCRIPTION:テンラン会〜新年編〜DAY２\n日時 2026.1.7(水)\n会場 Zephyer Hall\nOPEN/START 17:00/17:50 \nhttps://ticketdive.com/event/tenran_newyear2 \n前方¥5\,000\n一般¥1\,000 \n出演者\nテンシンランマン\nMEGAFON\nラストシーン\nのんふぃく！
URL:https://zephyrhall.xyz/event/%e3%83%86%e3%83%b3%e3%83%a9%e3%83%b3%e4%bc%9a%e3%80%9c%e6%96%b0%e5%b9%b4%e7%b7%a8%e3%80%9cday%ef%bc%92/
LOCATION:Zephyr Hall\, 愛知県名古屋市中区錦3丁目14-21\, 日本
ATTACH;FMTTYPE=image/jpeg:https://zephyrhall.xyz/wp-content/uploads/2026/01/0107_TTあり告知画像_0-scaled.jpg
END:VEVENT
BEGIN:VEVENT
DTSTART;TZID=Asia/Tokyo:20260106T050000
DTEND;TZID=Asia/Tokyo:20260106T210000
DTSTAMP:20260425T110001
CREATED:20260105T045250Z
LAST-MODIFIED:20260330T101534Z
UID:2548-1767675600-1767733200@zephyrhall.xyz
SUMMARY:テンラン会〜新年編〜DAY１
DESCRIPTION:テンラン会〜新年編〜DAY１\n日時 2026.1.6(火)\n会場 Zephyer Hall\nOPEN/START 17:00/17:50 \nhttps://ticketdive.com/event/tenran_newyear1 \n前方¥5\,000\n一般¥1\,000 \n出演者\nテンシンランマン\niON!\n夜光性アミューズ\nTENRIN
URL:https://zephyrhall.xyz/event/%e3%83%86%e3%83%b3%e3%83%a9%e3%83%b3%e4%bc%9a%e3%80%9c%e6%96%b0%e5%b9%b4%e7%b7%a8%e3%80%9cday%ef%bc%91-2/
LOCATION:Zephyr Hall\, 愛知県名古屋市中区錦3丁目14-21\, 日本
ATTACH;FMTTYPE=image/jpeg:https://zephyrhall.xyz/wp-content/uploads/2026/01/0106_TTあり告知画像-1_0-scaled.jpg
END:VEVENT
BEGIN:VEVENT
DTSTART;TZID=Asia/Tokyo:20260105T160000
DTEND;TZID=Asia/Tokyo:20260105T203000
DTSTAMP:20260425T110001
CREATED:20260104T013657Z
LAST-MODIFIED:20260330T101507Z
UID:2541-1767628800-1767645000@zephyrhall.xyz
SUMMARY:Seven.5
DESCRIPTION:Seven.5\n日時 2026.1.5(月)\n会場 Zephyer Hall\nOPEN/START 16:00/16:45 \nhttps://expg.jp/info/detail.php?info_id=8839&category_id=1 \n前売¥3\,000\n当日¥3\,500
URL:https://zephyrhall.xyz/event/seven-5-2/
LOCATION:Zephyr Hall\, 愛知県名古屋市中区錦3丁目14-21\, 日本
ATTACH;FMTTYPE=image/jpeg:https://zephyrhall.xyz/wp-content/uploads/2026/01/15-z.jpg
END:VEVENT
BEGIN:VEVENT
DTSTART;TZID=Asia/Tokyo:20260104T170000
DTEND;TZID=Asia/Tokyo:20260104T220000
DTSTAMP:20260425T110001
CREATED:20251230T085751Z
LAST-MODIFIED:20260330T101442Z
UID:2536-1767546000-1767564000@zephyrhall.xyz
SUMMARY:AUR FES-新春SP-
DESCRIPTION:AUR FES-新春SP-\n日時 2026.1.4(日)\n会場 Zephyer Hall\nOPEN/START 17:00/17:20 \nhttps://ticketdive.com/event/AURFES20260104 \n優先¥2\,026\n一般¥500 \n出演者\n逆転ねこぱんちっ！\n蜜兎\nAQA\nLollipop♡CHU\nあすとりーのうさぎ\nPULSAR_CLIMAX\nきゅーんず！\nimage\n輝きぱにっく\n天色のメロディー\nMATANAGOYA
URL:https://zephyrhall.xyz/event/aur-fes-%e6%96%b0%e6%98%a5sp/
LOCATION:Zephyr Hall\, 愛知県名古屋市中区錦3丁目14-21\, 日本
ATTACH;FMTTYPE=image/jpeg:https://zephyrhall.xyz/wp-content/uploads/2025/12/14-2部-z.jpg
END:VEVENT
BEGIN:VEVENT
DTSTART;TZID=Asia/Tokyo:20260104T130000
DTEND;TZID=Asia/Tokyo:20260104T163000
DTSTAMP:20260425T110001
CREATED:20251229T092134Z
LAST-MODIFIED:20260330T101410Z
UID:2531-1767531600-1767544200@zephyrhall.xyz
SUMMARY:南ことの生誕祭~ことちおめでとち~
DESCRIPTION:南ことの生誕祭~ことちおめでとち~\n日時 2026.1.4(日)\n会場 Zephyer Hall\nOPEN/START 13:00/13:30 \nhttps://ticketdive.com/event/minamikotonoBirthday2026 \nSS¥25\,000\nS¥10\,000\n一般¥1\,000 \n出演者\n君に、胸キュン。
URL:https://zephyrhall.xyz/event/%e5%8d%97%e3%81%93%e3%81%a8%e3%81%ae%e7%94%9f%e8%aa%95%e7%a5%ad%e3%81%93%e3%81%a8%e3%81%a1%e3%81%8a%e3%82%81%e3%81%a7%e3%81%a8%e3%81%a1/
LOCATION:Zephyr Hall\, 愛知県名古屋市中区錦3丁目14-21\, 日本
ATTACH;FMTTYPE=image/jpeg:https://zephyrhall.xyz/wp-content/uploads/2025/12/14-z.jpg
END:VEVENT
BEGIN:VEVENT
DTSTART;TZID=Asia/Tokyo:20260103T170000
DTEND;TZID=Asia/Tokyo:20260103T210000
DTSTAMP:20260425T110001
CREATED:20251229T091352Z
LAST-MODIFIED:20260330T101340Z
UID:2527-1767459600-1767474000@zephyrhall.xyz
SUMMARY:Zephyr the Sonic mini ~新春SP~
DESCRIPTION:Zephyr the Sonic mini ~新春SP~\n日時 2026.1.3(土)\n会場 Zephyer Hall\nOPEN/START 17:00/17:30 \nhttps://ticketdive.com/event/0Kytql6ZV8KbtFKhr0jP \n前方¥3\,000\n一般¥1\,500 \n出演者\nOS☆U\nＯ₂\nO-STAR研究生\nアクリム\nアステリア\n究極人形\nナト☆カン
URL:https://zephyrhall.xyz/event/zephyr-the-sonic-mini-%e6%96%b0%e6%98%a5sp/
LOCATION:Zephyr Hall\, 愛知県名古屋市中区錦3丁目14-21\, 日本
ATTACH;FMTTYPE=image/jpeg:https://zephyrhall.xyz/wp-content/uploads/2025/12/260103-Zephyr-フライヤー.jpg
END:VEVENT
BEGIN:VEVENT
DTSTART;TZID=Asia/Tokyo:20260102T180000
DTEND;TZID=Asia/Tokyo:20260102T220000
DTSTAMP:20260425T110001
CREATED:20251229T062039Z
LAST-MODIFIED:20260330T101309Z
UID:2521-1767376800-1767391200@zephyrhall.xyz
SUMMARY:NOISE NEVER DIES 　〜 New Chapter 1st Anniversary Show〜
DESCRIPTION:NOISE NEVER DIES 　〜 New Chapter 1st Anniversary Show〜\n日時 2026.1.2(金)\n会場 Zephyer Hall\nOPEN/START 18:00/18:30 \nhttps://ticketdive.com/event/QyQ4A2WuvOQKxBn7vBQg \nS¥12\,600\n優先¥3\,600\n無銭¥600 \n出演者\nSiLENT←NOiSE
URL:https://zephyrhall.xyz/event/noise-never-dies-%e3%80%80%e3%80%9c-new-chapter-1st-anniversary-show%e3%80%9c/
LOCATION:Zephyr Hall\, 愛知県名古屋市中区錦3丁目14-21\, 日本
ATTACH;FMTTYPE=image/jpeg:https://zephyrhall.xyz/wp-content/uploads/2025/12/12-2部.jpg
END:VEVENT
BEGIN:VEVENT
DTSTART;TZID=Asia/Tokyo:20260102T120000
DTEND;TZID=Asia/Tokyo:20260102T160000
DTSTAMP:20260425T110001
CREATED:20251229T055316Z
LAST-MODIFIED:20260330T101236Z
UID:2516-1767355200-1767369600@zephyrhall.xyz
SUMMARY:GMG歌謡祭-2026-
DESCRIPTION:GMG歌謡祭-2026-\n日時 2026.1.2(金)\n会場 Zephyer Hall\nOPEN/START 12:00/12:20 \nhttps://ticketdive.com/event/ccTkRdgtu9dgtWezxjjT \n優先¥2\,500\n一般¥1\,000 \n出演者\nぜろから☆すた→と\nSTARRY×NIGHT↗
URL:https://zephyrhall.xyz/event/gmg%e6%ad%8c%e8%ac%a1%e7%a5%ad-2026/
LOCATION:Zephyr Hall\, 愛知県名古屋市中区錦3丁目14-21\, 日本
ATTACH;FMTTYPE=image/jpeg:https://zephyrhall.xyz/wp-content/uploads/2025/12/12-z.jpg
END:VEVENT
BEGIN:VEVENT
DTSTART;TZID=Asia/Tokyo:20251231T150000
DTEND;TZID=Asia/Tokyo:20251231T213000
DTSTAMP:20260425T110001
CREATED:20251227T090052Z
LAST-MODIFIED:20251227T090956Z
UID:2509-1767193200-1767216600@zephyrhall.xyz
SUMMARY:AUR紅白唄合戦2025
DESCRIPTION:AUR紅白唄合戦2025\n日時 2025.12.31(水)\n会場 Zephyer Hall\nOPEN/START 15:00/15:30 \nhttps://ticketdive.com/event/AURkouhaku2025 \n優先¥4\,500\n一般¥1\,000\n女性¥0 \n出演者\nAQA\n逆転ねこぱんちっ！\n蜜兎\n君に、胸キュン。
URL:https://zephyrhall.xyz/event/aur%e7%b4%85%e7%99%bd%e5%94%84%e5%90%88%e6%88%a62025/
LOCATION:Zephyr Hall\, 愛知県名古屋市中区錦3丁目14-21\, 日本
ATTACH;FMTTYPE=image/jpeg:https://zephyrhall.xyz/wp-content/uploads/2025/12/1231-z-TT.jpg
END:VEVENT
BEGIN:VEVENT
DTSTART;TZID=Asia/Tokyo:20251231T093000
DTEND;TZID=Asia/Tokyo:20251231T143000
DTSTAMP:20260425T110001
CREATED:20251227T080619Z
LAST-MODIFIED:20251227T082235Z
UID:2504-1767173400-1767191400@zephyrhall.xyz
SUMMARY:IGNITION
DESCRIPTION:IGNITION\n日時 2025.12.31(水)\n会場 Zephyer Hall\nOPEN/START 9:20/9:40 \nhttps://ticketdive.com/event/IGNITION1231 \n優先¥2\,025\n一般¥500 \n出演者\n蜜兎\n逆転ねこぱんちっ！\nAQA\nメリーミューズ\nアクリム\nOS☆U\nPULSAR_CLIMAX\nBeloved\nあすとりーのうさぎ\nimage\n天色のメロディー\n世界で1番シンデレラ
URL:https://zephyrhall.xyz/event/ignition/
LOCATION:Zephyr Hall\, 愛知県名古屋市中区錦3丁目14-21\, 日本
ATTACH;FMTTYPE=image/jpeg:https://zephyrhall.xyz/wp-content/uploads/2025/12/1231-z-.jpg
END:VEVENT
BEGIN:VEVENT
DTSTART;TZID=Asia/Tokyo:20251230T163000
DTEND;TZID=Asia/Tokyo:20251230T203000
DTSTAMP:20260425T110001
CREATED:20251227T073506Z
LAST-MODIFIED:20251227T074119Z
UID:2499-1767112200-1767126600@zephyrhall.xyz
SUMMARY:THE ENCORE 年末大感謝祭2025 〜ザ・リクエストアワー〜
DESCRIPTION:THE ENCORE 年末大感謝祭2025 〜ザ・リクエストアワー〜\n日時 2025.12.30(火)\n会場 Zephyer Hall\nOPEN/START 16:30/17:00 \nhttps://ticketdive.com/event/enc_thanks2025 \n前方¥4\,000\n一般¥1\,000 \n出演者\nTHE ENCORE
URL:https://zephyrhall.xyz/event/the-encore-%e5%b9%b4%e6%9c%ab%e5%a4%a7%e6%84%9f%e8%ac%9d%e7%a5%ad2025-%e3%80%9c%e3%82%b6%e3%83%bb%e3%83%aa%e3%82%af%e3%82%a8%e3%82%b9%e3%83%88%e3%82%a2%e3%83%af%e3%83%bc%e3%80%9c/
LOCATION:Zephyr Hall\, 愛知県名古屋市中区錦3丁目14-21\, 日本
ATTACH;FMTTYPE=image/jpeg:https://zephyrhall.xyz/wp-content/uploads/2025/12/1230-z-scaled.jpg
END:VEVENT
BEGIN:VEVENT
DTSTART;TZID=Asia/Tokyo:20251229T153000
DTEND;TZID=Asia/Tokyo:20251229T220000
DTSTAMP:20260425T110001
CREATED:20251225T081215Z
LAST-MODIFIED:20251229T045451Z
UID:2491-1767022200-1767045600@zephyrhall.xyz
SUMMARY:香田リン卒業公演 〜Brandnewdays〜
DESCRIPTION:香田リン卒業公演 〜Brandnewdays〜\n日時 2025.12.29(月)\n会場 Zephyer Hall\nOPEN/START 17:00/18:00 \nhttps://t.livepocket.jp/e/5813q \nVIP¥28\,000\nFC¥5\,000\n撮影可能席¥10\,000\n前方¥5\,000\n一般¥2\,400 \n出演者\n出雲やえ\n香田リン\n水沢桃々\n幸村望叶\n桃川ひの\n秋原かなみ\n佐伯茉菜美\n幸村一花\n花咲璃里華\n橘華夜
URL:https://zephyrhall.xyz/event/%e9%a6%99%e7%94%b0%e3%83%aa%e3%83%b3%e5%8d%92%e6%a5%ad%e5%85%ac%e6%bc%94-%e3%80%9cbrandnewdays%e3%80%9c/
LOCATION:Zephyr Hall\, 愛知県名古屋市中区錦3丁目14-21\, 日本
ATTACH;FMTTYPE=image/jpeg:https://zephyrhall.xyz/wp-content/uploads/2025/12/1229-z-scaled.jpg
END:VEVENT
BEGIN:VEVENT
DTSTART;TZID=Asia/Tokyo:20251229T103000
DTEND;TZID=Asia/Tokyo:20251229T140000
DTSTAMP:20260425T110001
CREATED:20251225T074935Z
LAST-MODIFIED:20251229T045419Z
UID:2485-1767004200-1767016800@zephyrhall.xyz
SUMMARY:降RINフェス〜卒業直前SP〜
DESCRIPTION:降RINフェス〜卒業直前SP〜\n日時 2025.12.29(月)\n会場 Zephyer Hall\nOPEN/START 10:40/11:10 \nhttps://t.livepocket.jp/e/elvki \n前方¥3\,500\n一般¥900 \n出演者\nOS☆U\nＯ₂\nアクリム\nGenesis Girl\nO-STAR研究生
URL:https://zephyrhall.xyz/event/%e9%99%8drin%e3%83%95%e3%82%a7%e3%82%b9%e3%80%9c%e5%8d%92%e6%a5%ad%e7%9b%b4%e5%89%8dsp%e3%80%9c-2/
LOCATION:Zephyr Hall\, 愛知県名古屋市中区錦3丁目14-21\, 日本
ATTACH;FMTTYPE=image/jpeg:https://zephyrhall.xyz/wp-content/uploads/2025/12/1229-z-TT.jpg
END:VEVENT
BEGIN:VEVENT
DTSTART;TZID=Asia/Tokyo:20251228T180000
DTEND;TZID=Asia/Tokyo:20251228T213000
DTSTAMP:20260425T110001
CREATED:20251225T073915Z
LAST-MODIFIED:20251225T092718Z
UID:2480-1766944800-1766957400@zephyrhall.xyz
SUMMARY:『雪うさぎ♡ - Lollipop♡CHU 3rd One-man LIVE -』
DESCRIPTION:『雪うさぎ♡ – Lollipop♡CHU 3rd One-man LIVE -』\n日時 2025.12.28(日)\n会場 Zephyer Hall\nOPEN/START 18:20/19:00 \nhttps://ticketdive.com/event/oneman_3rd \nSS前方¥25\,000\nS前方¥5\,000\nA一般¥1\,500\nB女性¥500 \n出演者\nLollipop♡CHU
URL:https://zephyrhall.xyz/event/%e3%80%8e%e9%9b%aa%e3%81%86%e3%81%95%e3%81%8e%e2%99%a1-lollipop%e2%99%a1chu-3rd-one-man-live-%e3%80%8f/
LOCATION:Zephyr Hall\, 愛知県名古屋市中区錦3丁目14-21\, 日本
ATTACH;FMTTYPE=image/jpeg:https://zephyrhall.xyz/wp-content/uploads/2025/12/タイテ_251228_3rdワンマン-scaled.jpg
END:VEVENT
BEGIN:VEVENT
DTSTART;TZID=Asia/Tokyo:20251228T103000
DTEND;TZID=Asia/Tokyo:20251228T143000
DTSTAMP:20260425T110001
CREATED:20251225T073510Z
LAST-MODIFIED:20251225T073510Z
UID:2477-1766917800-1766932200@zephyrhall.xyz
SUMMARY:MATANAGOYA主催『メゾン・フルール』
DESCRIPTION:MATANAGOYA主催『メゾン・フルール』\n日時 2025.12.28(日)\n会場 Zephyer Hall\nOPEN/START 10:50/11:10 \nhttps://ticketdive.com/event/matanagoya_1228 \n前方¥5\,000\n一般¥0 \n出演者\nMATANAGOYA\nLollipop♡CHU\nSnowComp/ex\nBeloved\nPULSAR_CLIMAX\nBlue Cheese Choco Fondue\nナト☆カン\n究極人形\nアステリア
URL:https://zephyrhall.xyz/event/matanagoya%e4%b8%bb%e5%82%ac%e3%80%8e%e3%83%a1%e3%82%be%e3%83%b3%e3%83%bb%e3%83%95%e3%83%ab%e3%83%bc%e3%83%ab%e3%80%8f/
LOCATION:Zephyr Hall\, 愛知県名古屋市中区錦3丁目14-21\, 日本
ATTACH;FMTTYPE=image/webp:https://zephyrhall.xyz/wp-content/uploads/2025/12/1228.webp
END:VEVENT
BEGIN:VEVENT
DTSTART;TZID=Asia/Tokyo:20251227T153000
DTEND;TZID=Asia/Tokyo:20251227T213000
DTSTAMP:20260425T110001
CREATED:20251225T072145Z
LAST-MODIFIED:20251225T072727Z
UID:2471-1766849400-1766871000@zephyrhall.xyz
SUMMARY:橋本さおり生誕祭2025
DESCRIPTION:橋本さおり生誕祭2025\n日時 2025.12.27(土)\n会場 Zephyer Hall\nOPEN/START 15:30/16:30 \nhttps://t.livepocket.jp/e/saoriamo1227 \n優先¥3\,000\n一般¥1\,000 \n出演者\nSINGULARITY\n今日から推しじゃだめですか?\nAmaryllis\nsweet♡union\nLove it ice\n来る日も、藍色。\nmofu/mofu\nNO♡AF\nAMO million\n橋本さおり
URL:https://zephyrhall.xyz/event/%e6%a9%8b%e6%9c%ac%e3%81%95%e3%81%8a%e3%82%8a%e7%94%9f%e8%aa%95%e7%a5%ad2025/
LOCATION:Zephyr Hall\, 愛知県名古屋市中区錦3丁目14-21\, 日本
ATTACH;FMTTYPE=image/png:https://zephyrhall.xyz/wp-content/uploads/2025/12/1227-z-2部.png
END:VEVENT
BEGIN:VEVENT
DTSTART;TZID=Asia/Tokyo:20251227T120000
DTEND;TZID=Asia/Tokyo:20251227T140000
DTSTAMP:20260425T110001
CREATED:20251225T071145Z
LAST-MODIFIED:20251225T071547Z
UID:2465-1766836800-1766844000@zephyrhall.xyz
SUMMARY:BANDSET EDITION ~2025感謝祭~
DESCRIPTION:BANDSET EDITION ~2025感謝祭~\n日時 2025.12.27(土)\n会場 Zephyer Hall\nOPEN/START 12:10/12:40 \nhttps://livepocket.jp/e/bandamo1227 \n最優先¥10\,000 (アモミリサイン色紙)　\n優先¥3\,000\n後方¥0 \n出演者\n橋本さおり\nAMOmillion\nLoneMarch
URL:https://zephyrhall.xyz/event/bandset-edition-2025%e6%84%9f%e8%ac%9d%e7%a5%ad/
LOCATION:Zephyr Hall\, 愛知県名古屋市中区錦3丁目14-21\, 日本
ATTACH;FMTTYPE=image/jpeg:https://zephyrhall.xyz/wp-content/uploads/2025/12/1227-z-1部.jpg
END:VEVENT
BEGIN:VEVENT
DTSTART;TZID=Asia/Tokyo:20251226T140000
DTEND;TZID=Asia/Tokyo:20251226T230000
DTSTAMP:20260425T110001
CREATED:20251219T121317Z
LAST-MODIFIED:20251226T074603Z
UID:2459-1766757600-1766790000@zephyrhall.xyz
SUMMARY:MAD†CHRISTMAS
DESCRIPTION:MAD†CHRISTMAS\n日時 2025.12.26(金)\n会場 Zephyer Hall\nOPEN/START 14:00/14:30 \nhttps://ticketdive.com/event/mad_xmas2025 \n前方¥5\,000\n一般¥2\,000\n女性¥1\,000 \n出演者\nちちゃめど\n絶望キネマ\nSiLENT←NOiSE\n花魁道中\n白黒アリス\nRaRaJaM\nIll\n神様の言う通り\nTENRIN\n椎名ひかり\nAdamLilith\nめっ！\nlonlium\nギミック\nマザリ\nMADMED
URL:https://zephyrhall.xyz/event/mad%e2%80%a0christmas/
LOCATION:Zephyr Hall\, 愛知県名古屋市中区錦3丁目14-21\, 日本
ATTACH;FMTTYPE=image/jpeg:https://zephyrhall.xyz/wp-content/uploads/2025/12/1226-z--scaled.jpg
END:VEVENT
BEGIN:VEVENT
DTSTART;TZID=Asia/Tokyo:20251225T150000
DTEND;TZID=Asia/Tokyo:20251225T223000
DTSTAMP:20260425T110001
CREATED:20251219T121055Z
LAST-MODIFIED:20251219T121055Z
UID:2456-1766674800-1766701800@zephyrhall.xyz
SUMMARY:NNGF ~ X'mas SP!! Day2
DESCRIPTION:NNGF ~ X’mas SP!! Day2\n日時 2025.12.25(木)\n会場 Zephyer Hall\nOPEN/START 15:00/15:30 \nhttps://livepocket.jp/e/nngf251225 \n前方¥6\,000\n一般¥3\,000\n女性¥2\,000 \n出演者\nシンデレラ宣言！\nシュレーディンガーの犬\nAlcute！\nマザリ\nめっ！\nTwilight BlooM.\nSWDN\nジエメイ\nXINXIN\nMADMED\n神様の言う通り\nあたまのなかは8ビット！？
URL:https://zephyrhall.xyz/event/nngf-xmas-sp-day2/
LOCATION:Zephyr Hall\, 愛知県名古屋市中区錦3丁目14-21\, 日本
ATTACH;FMTTYPE=image/png:https://zephyrhall.xyz/wp-content/uploads/2025/12/1225-z-scaled.png
END:VEVENT
BEGIN:VEVENT
DTSTART;TZID=Asia/Tokyo:20251224T143000
DTEND;TZID=Asia/Tokyo:20251224T223000
DTSTAMP:20260425T110001
CREATED:20251219T120222Z
LAST-MODIFIED:20251219T120612Z
UID:2450-1766586600-1766615400@zephyrhall.xyz
SUMMARY:NNGF ~ X'mas SP!! Day1
DESCRIPTION:NNGF ~ X’mas SP!! Day1\n日時 2025.12.24(水)\n会場 Zephyer Hall\nOPEN/START 14:30/15:00 \nhttps://livepocket.jp/e/nngf251224 \n前方¥6\,000\n一般¥3\,000\n女性¥2\,000 \n出演者\nシンデレラ宣言！\nシュレーディンガーの犬\nAlcute！\n君に、胸キュン。\nマザリ\nめっ！\nぜろから☆すた→と\nSTARRY×NIGHT↗\nシャニムニ＝パレード\n逆転ねこぱんちっ！\nLollipop♡CHU\nTwilight BlooM.\nSWDN
URL:https://zephyrhall.xyz/event/nngf-xmas-sp-day1/
LOCATION:Zephyr Hall\, 愛知県名古屋市中区錦3丁目14-21\, 日本
ATTACH;FMTTYPE=image/png:https://zephyrhall.xyz/wp-content/uploads/2025/12/1224-z-scaled.png
END:VEVENT
BEGIN:VEVENT
DTSTART;TZID=Asia/Tokyo:20251223T173000
DTEND;TZID=Asia/Tokyo:20251223T213000
DTSTAMP:20260425T110001
CREATED:20251217T122352Z
LAST-MODIFIED:20251217T122920Z
UID:2444-1766511000-1766525400@zephyrhall.xyz
SUMMARY:愛乃かんな卒業ライブ〜さらば、全ての愛乃かんな〜
DESCRIPTION:愛乃かんな卒業ライブ〜さらば、全ての愛乃かんな〜\n日時 2025.12.23(火)\n会場 Zephyer Hall\nOPEN/START 17:30/18:00 \nhttps://ticketdive.com/event/kanna1223 \nS¥10\,000\n優先¥3\,000\n一般¥500 \n出演者\nBeloved\nAQA\nPULSAR_CLIMAX\nあすとりーのうさぎ\n天色のメロディー\n世界で1番シンデレラ
URL:https://zephyrhall.xyz/event/%e6%84%9b%e4%b9%83%e3%81%8b%e3%82%93%e3%81%aa%e5%8d%92%e6%a5%ad%e3%83%a9%e3%82%a4%e3%83%96%e3%80%9c%e3%81%95%e3%82%89%e3%81%b0%e3%80%81%e5%85%a8%e3%81%a6%e3%81%ae%e6%84%9b%e4%b9%83%e3%81%8b%e3%82%93/
LOCATION:Zephyr Hall\, 愛知県名古屋市中区錦3丁目14-21\, 日本
ATTACH;FMTTYPE=image/jpeg:https://zephyrhall.xyz/wp-content/uploads/2025/12/1223-z.jpg
END:VEVENT
BEGIN:VEVENT
DTSTART;TZID=Asia/Tokyo:20251222T120000
DTEND;TZID=Asia/Tokyo:20251222T210000
DTSTAMP:20260425T110001
CREATED:20251217T121001Z
LAST-MODIFIED:20251217T122129Z
UID:2438-1766404800-1766437200@zephyrhall.xyz
SUMMARY:走れミンス2025
DESCRIPTION:走れミンス2025\n日時 2025.12.22(月)\n会場 Zephyer Hall \n【1部ファンミーティング】\nOPEN/START 12:00/12:30 \n【2部ライブ】\nOPEN/START 16:30/17:00 \nhttps://minsu.zaiko.io/item/375447 \n1部ファンミーティング¥6\,000\n2部ライブ¥8\,000 \n出演者\nMINSU
URL:https://zephyrhall.xyz/event/%e8%b5%b0%e3%82%8c%e3%83%9f%e3%83%b3%e3%82%b92025/
LOCATION:Zephyr Hall\, 愛知県名古屋市中区錦3丁目14-21\, 日本
ATTACH;FMTTYPE=image/jpeg:https://zephyrhall.xyz/wp-content/uploads/2025/12/1222.jpg
END:VEVENT
BEGIN:VEVENT
DTSTART;TZID=Asia/Tokyo:20251221T180000
DTEND;TZID=Asia/Tokyo:20251221T223000
DTSTAMP:20260425T110001
CREATED:20251217T114310Z
LAST-MODIFIED:20251219T081519Z
UID:2436-1766340000-1766356200@zephyrhall.xyz
SUMMARY:マーキュロ主催単独巡業『絶望セカイ』
DESCRIPTION:マーキュロ主催単独巡業『絶望セカイ』\n日時 2025.12.21(日)\n会場 Zephyer Hall\nOPEN/START 18:00/18:30 \nhttps://ticketdive.com/event/DespairWorld \n前方¥5\,000\n一般¥2\,000\n招待¥1\,000 \n出演者\nマーキュロ
URL:https://zephyrhall.xyz/event/%e3%83%9e%e3%83%bc%e3%82%ad%e3%83%a5%e3%83%ad%e4%b8%bb%e5%82%ac%e5%8d%98%e7%8b%ac%e5%b7%a1%e6%a5%ad%e3%80%8e%e7%b5%b6%e6%9c%9b%e3%82%bb%e3%82%ab%e3%82%a4%e3%80%8f/
LOCATION:Zephyr Hall\, 愛知県名古屋市中区錦3丁目14-21\, 日本
ATTACH;FMTTYPE=image/webp:https://zephyrhall.xyz/wp-content/uploads/2025/12/1221-z.webp
END:VEVENT
BEGIN:VEVENT
DTSTART;TZID=Asia/Tokyo:20251221T120000
DTEND;TZID=Asia/Tokyo:20251221T180000
DTSTAMP:20260425T110001
CREATED:20251217T113822Z
LAST-MODIFIED:20251217T113834Z
UID:2433-1766318400-1766340000@zephyrhall.xyz
SUMMARY:『名古屋事変』2日目
DESCRIPTION:『名古屋事変』2日目\n日時 2025.12.21(日)\n会場 Zephyer Hall\nOPEN/START 12:00/12:20 \nhttps://ticketdive.com/event/251221n \n前方¥5\,000\n一般¥0 \n出演者\nベロティカ\nクララ・マグラ\nVILLAINS HOUSE\nクライセカイ\nギミック\nセクト\nサークルライチ塾生二期\nMADMED\nマザリ\nめっ！\n神様の言う通り
URL:https://zephyrhall.xyz/event/%e3%80%8e%e5%90%8d%e5%8f%a4%e5%b1%8b%e4%ba%8b%e5%a4%89%e3%80%8f2%e6%97%a5%e7%9b%ae/
LOCATION:Zephyr Hall\, 愛知県名古屋市中区錦3丁目14-21\, 日本
ATTACH;FMTTYPE=image/jpeg:https://zephyrhall.xyz/wp-content/uploads/2025/12/1221-z-1部-scaled.jpg
END:VEVENT
BEGIN:VEVENT
DTSTART;TZID=Asia/Tokyo:20251220T163000
DTEND;TZID=Asia/Tokyo:20251220T223000
DTSTAMP:20260425T110001
CREATED:20251217T113030Z
LAST-MODIFIED:20251217T113408Z
UID:2428-1766248200-1766269800@zephyrhall.xyz
SUMMARY:サークルライチ&MAD'S iNK主催『アウトロー』
DESCRIPTION:サークルライチ&MAD’S iNK主催『アウトロー』\n日時 2025.12.20(土)\n会場 Zephyer Hall\nOPEN/START 16:25/16:45 \nhttps://ticketdive.com/event/251220z \n前方¥5\,000\n一般¥2\,000 \n出演者\nマーキュロ\nベロティカ\nクララ・マグラ\nVILLAINS HOUSE\nクライセカイ\nギミック\nセクト\nサークルライチ塾生二期\nMADMED\nマザリ\nめっ！
URL:https://zephyrhall.xyz/event/%e3%82%b5%e3%83%bc%e3%82%af%e3%83%ab%e3%83%a9%e3%82%a4%e3%83%81mads-ink%e4%b8%bb%e5%82%ac%e3%80%8e%e3%82%a2%e3%82%a6%e3%83%88%e3%83%ad%e3%83%bc%e3%80%8f/
LOCATION:Zephyr Hall\, 愛知県名古屋市中区錦3丁目14-21\, 日本
ATTACH;FMTTYPE=image/jpeg:https://zephyrhall.xyz/wp-content/uploads/2025/12/1220-z-2部.jpg
END:VEVENT
BEGIN:VEVENT
DTSTART;TZID=Asia/Tokyo:20251220T113000
DTEND;TZID=Asia/Tokyo:20251220T170000
DTSTAMP:20260425T110001
CREATED:20251217T112451Z
LAST-MODIFIED:20251217T112850Z
UID:2423-1766230200-1766250000@zephyrhall.xyz
SUMMARY:『名古屋事変』1日目
DESCRIPTION:『名古屋事変』1日目\n日時 2025.12.20(土)\n会場 Zephyer Hall\nOPEN/START 11:30/11:50 \nhttps://ticketdive.com/event/251220n \n前方¥5\,000\n一般¥0 \n出演者\nマーキュロ\nクララ・マグラ\nVILLAINS HOUSE\nギミック\nクライセカイ\nサークルライチ塾生二期\nMADMED\nマザリ\nTwilight BlooM.\n愛※ぱんでみっく！\nきっと大切だった\nSHIROMIZAKANA
URL:https://zephyrhall.xyz/event/%e3%80%8e%e5%90%8d%e5%8f%a4%e5%b1%8b%e4%ba%8b%e5%a4%89%e3%80%8f1%e6%97%a5%e7%9b%ae/
LOCATION:Zephyr Hall\, 愛知県名古屋市中区錦3丁目14-21\, 日本
ATTACH;FMTTYPE=image/jpeg:https://zephyrhall.xyz/wp-content/uploads/2025/12/1220-z-1部-scaled.jpg
END:VEVENT
END:VCALENDAR