BEGIN:VCALENDAR
VERSION:2.0
PRODID:-//ZephyrHall【ゼファーホール】 - ECPv6.15.20//NONSGML v1.0//EN
CALSCALE:GREGORIAN
METHOD:PUBLISH
X-WR-CALNAME:ZephyrHall【ゼファーホール】
X-ORIGINAL-URL:https://zephyrhall.xyz
X-WR-CALDESC:ZephyrHall【ゼファーホール】 のイベント
REFRESH-INTERVAL;VALUE=DURATION:PT1H
X-Robots-Tag:noindex
X-PUBLISHED-TTL:PT1H
BEGIN:VTIMEZONE
TZID:Asia/Tokyo
BEGIN:STANDARD
TZOFFSETFROM:+0900
TZOFFSETTO:+0900
TZNAME:JST
DTSTART:20250101T000000
END:STANDARD
END:VTIMEZONE
BEGIN:VEVENT
DTSTART;TZID=Asia/Tokyo:20260324T170000
DTEND;TZID=Asia/Tokyo:20260324T220000
DTSTAMP:20260425T090423
CREATED:20260320T043547Z
LAST-MODIFIED:20260330T101012Z
UID:2893-1774371600-1774389600@zephyrhall.xyz
SUMMARY:IGNITION
DESCRIPTION:IGNITION\n日時 2026.3.24(火)\n会場 Zephyer Hall\nOPEN/START 17:00/17:20 \nhttps://ticketdive.com/event/IGNITION0324 \n優先¥3\,500\n一般¥1\,000 \n出演者\nＯ₂\nCLEAR’S\nなないろ∞ミルキーウェイ\nStella!\nOS☆U\nNO♡AF\nAMO million\nアリビオ\n愛※ぱんでみっく\nHYPER FARM\nMATANAGOYA\nTwilight BlooM.
URL:https://zephyrhall.xyz/event/ignition-3/
LOCATION:Zephyr Hall\, 愛知県名古屋市中区錦3丁目14-21\, 日本
ATTACH;FMTTYPE=image/jpeg:https://zephyrhall.xyz/wp-content/uploads/2026/03/324-z.jpg
END:VEVENT
BEGIN:VEVENT
DTSTART;TZID=Asia/Tokyo:20260323T180000
DTEND;TZID=Asia/Tokyo:20260323T210000
DTSTAMP:20260425T090423
CREATED:20260320T042702Z
LAST-MODIFIED:20260330T100948Z
UID:2888-1774288800-1774299600@zephyrhall.xyz
SUMMARY:OS☆U定期Zephyr LIVE〜RE:START〜
DESCRIPTION:OS☆U定期Zephyr LIVE〜RE:START〜\n日時 2026.3.23(月)\n会場 Zephyer Hall\nOPEN/START 18:00/18:30 \nhttps://ticketdive.com/event/OSU0323 \n前方¥3\,500\n一般¥0\n撮影¥9\,000 \n出演者\nOS☆U
URL:https://zephyrhall.xyz/event/os%e2%98%86u%e5%ae%9a%e6%9c%9fzephyr-live%e3%80%9crestart%e3%80%9c/
LOCATION:Zephyr Hall\, 愛知県名古屋市中区錦3丁目14-21\, 日本
ATTACH;FMTTYPE=image/jpeg:https://zephyrhall.xyz/wp-content/uploads/2026/03/323-z.jpg
END:VEVENT
BEGIN:VEVENT
DTSTART;TZID=Asia/Tokyo:20260322T103000
DTEND;TZID=Asia/Tokyo:20260322T213000
DTSTAMP:20260425T090423
CREATED:20260320T042011Z
LAST-MODIFIED:20260330T100921Z
UID:2883-1774175400-1774215000@zephyrhall.xyz
SUMMARY:NAGOYA DREAMBOX Spring SPECIAL Day3
DESCRIPTION:NAGOYA DREAMBOX Spring SPECIAL Day3\n日時 2026.3.22(日)\n会場 Zephyer Hall\n1部 OPEN/START 10:45/11:00\n2部 OPEN/START 15:35/15:50 \n1部\nhttps://ticketdive.com/event/DREAMBOX0322-Zephyr1 \n2部\nhttps://ticketdive.com/event/DREAMBOX0322-Zephyr2 \n前方¥5\,100(1ドリンク代込)\n一般¥3\,600(1ドリンク代込) \n出演者\n1部\nColoration\nルチアーズ\n奏音コレクト\nスプラウト学園\nTry me\nMeringueHack\nリンカ\nONE LAST SHOT\nてんしろっ！\n井水優菜\n2部\nStar☆T\nルチアーズ\n純粋カフェラッテ\nFandL\nLoveitice\n金星☆ジュリエッタ\nMeringueHack\nリンカ\nONE LAST SHOT\n相沢瞳\nふぁいなるえぴろ〜ぐ\nprelia\n井水優菜
URL:https://zephyrhall.xyz/event/nagoya-dreambox-spring-special-day3/
LOCATION:Zephyr Hall\, 愛知県名古屋市中区錦3丁目14-21\, 日本
ATTACH;FMTTYPE=image/png:https://zephyrhall.xyz/wp-content/uploads/2026/03/322-z.png
END:VEVENT
BEGIN:VEVENT
DTSTART;TZID=Asia/Tokyo:20260321T103000
DTEND;TZID=Asia/Tokyo:20260321T213000
DTSTAMP:20260425T090423
CREATED:20260320T035617Z
LAST-MODIFIED:20260330T100851Z
UID:2877-1774089000-1774128600@zephyrhall.xyz
SUMMARY:NAGOYA DREAMBOX Spring SPECIAL Day2
DESCRIPTION:NAGOYA DREAMBOX Spring SPECIAL Day2\n日時 2026.3.21(土)\n会場 Zephyer Hall\n1部 OPEN/START 10:40/10:55\n2部 OPEN/START 15:35/15:50 \n1部\nhttps://ticketdive.com/event/DREAMBOX0321-Zephyr1 \n2部\nhttps://ticketdive.com/event/DREAMBOX0321-Zephyr2 \n前方¥5\,100(1ドリンク代込)\n一般¥3\,600(1ドリンク代込) \n出演者\n1部\nColoration\nなないろ∞ミルキーウェイ\nStar☆T\nMore Sisters\nAMLS\nDOKUDOKU\nリンカ\nCandy☆Drop\nLuvHz\nハウツー世界征服\n幻狂デモクラシーてんしろっ！\nPOPINGCANDY.\n2部\nルチアーズ\n純粋カフェラッテ\nFandL\nプリンセス物語\n奏音コレクト\nLoveitice\nスプラウト学園名古屋\n天色のメロディー\nTry me\n金星☆ジュリエッタ\n愛※ぱんでみっく！\nキミの主人公\nうぃるめり！\n相沢瞳
URL:https://zephyrhall.xyz/event/%e3%80%901%e9%83%a8%e3%80%91nagoya-dreambox-spring-special-day2/
LOCATION:Zephyr Hall\, 愛知県名古屋市中区錦3丁目14-21\, 日本
ATTACH;FMTTYPE=image/png:https://zephyrhall.xyz/wp-content/uploads/2026/03/321-z.png
END:VEVENT
BEGIN:VEVENT
DTSTART;TZID=Asia/Tokyo:20260320T173000
DTEND;TZID=Asia/Tokyo:20260320T210000
DTSTAMP:20260425T090423
CREATED:20260319T030214Z
LAST-MODIFIED:20260330T100818Z
UID:2874-1774027800-1774040400@zephyrhall.xyz
SUMMARY:"七変化唱 : LiNK"前哨戦 in NAGOYA 「60分ノンストップガチライブ!!!」
DESCRIPTION:“七変化唱 : LiNK”前哨戦 in NAGOYA 「60分ノンストップガチライブ!!!」\n日時 2026.3.20(金)\n会場 Zephyer Hall\nOPEN/START 17:30/18:00 \nhttps://livepocket.jp/e/sense0320 \n優先¥4\,000\n一般¥2\,500\n当日¥3\,000 \n出演者\nSE7ENTH SENSE
URL:https://zephyrhall.xyz/event/%e4%b8%83%e5%a4%89%e5%8c%96%e5%94%b1-link%e5%89%8d%e5%93%a8%e6%88%a6-in-nagoya-%e3%80%8c60%e5%88%86%e3%83%8e%e3%83%b3%e3%82%b9%e3%83%88%e3%83%83%e3%83%97%e3%82%ac%e3%83%81%e3%83%a9%e3%82%a4/
LOCATION:Zephyr Hall\, 愛知県名古屋市中区錦3丁目14-21\, 日本
ATTACH;FMTTYPE=image/webp:https://zephyrhall.xyz/wp-content/uploads/2026/03/6245f51c0af5d12119918ea55df76d4a87e94f92e085521793690bd8ee95717f-scaled.webp
END:VEVENT
BEGIN:VEVENT
DTSTART;TZID=Asia/Tokyo:20260320T123000
DTEND;TZID=Asia/Tokyo:20260320T153000
DTSTAMP:20260425T090423
CREATED:20260316T131047Z
LAST-MODIFIED:20260330T100728Z
UID:2868-1774009800-1774020600@zephyrhall.xyz
SUMMARY:風輪 メジャーデビュー2周年記念mini
DESCRIPTION:風輪 メジャーデビュー2周年記念mini\n日時 2026.3.20(金)\n会場 Zephyer Hall\nOPEN/START 12:15/13:00 \nhttps://livepocket.jp/e/eon65 \nFC期間限定販売¥3\,200\n一般¥3\,500\n前売¥0 \n出演者\n風輪
URL:https://zephyrhall.xyz/event/%e9%a2%a8%e8%bc%aa-%e3%83%a1%e3%82%b8%e3%83%a3%e3%83%bc%e3%83%87%e3%83%93%e3%83%a5%e3%83%bc2%e5%91%a8%e5%b9%b4%e8%a8%98%e5%bf%b5mini/
LOCATION:Zephyr Hall\, 愛知県名古屋市中区錦3丁目14-21\, 日本
ATTACH;FMTTYPE=image/webp:https://zephyrhall.xyz/wp-content/uploads/2026/03/6f030e93559c238fa61accabd9941bf65603c23add3095f93e638261e732a433-scaled.webp
END:VEVENT
BEGIN:VEVENT
DTSTART;TZID=Asia/Tokyo:20260319T173000
DTEND;TZID=Asia/Tokyo:20260319T210000
DTSTAMP:20260425T090423
CREATED:20260316T130658Z
LAST-MODIFIED:20260316T130720Z
UID:2865-1773941400-1773954000@zephyrhall.xyz
SUMMARY:『殺ステ -名古屋編vol.2-(2部)』
DESCRIPTION:『殺ステ -名古屋編vol.2-(2部)』\n日時 2025.3.19(木)\n会場 Zephyer Hall\nOPEN/START 17:30/18:00 \nhttps://livepocket.jp/e/koroste_ngyvol2-2 \n前売¥3\,500\n当日¥4\,000 \n出演者\nDeXeultio
URL:https://zephyrhall.xyz/event/%e3%80%8e%e6%ae%ba%e3%82%b9%e3%83%86-%e5%90%8d%e5%8f%a4%e5%b1%8b%e7%b7%a8vol-2-2%e9%83%a8%e3%80%8f/
LOCATION:Zephyr Hall\, 愛知県名古屋市中区錦3丁目14-21\, 日本
ATTACH;FMTTYPE=image/jpeg:https://zephyrhall.xyz/wp-content/uploads/2026/03/319-z-1.jpg
END:VEVENT
BEGIN:VEVENT
DTSTART;TZID=Asia/Tokyo:20260319T130000
DTEND;TZID=Asia/Tokyo:20260319T163000
DTSTAMP:20260425T090423
CREATED:20260316T125752Z
LAST-MODIFIED:20260330T100642Z
UID:2859-1773925200-1773937800@zephyrhall.xyz
SUMMARY:『殺ステ -名古屋編vol.2-(1部)』
DESCRIPTION:『殺ステ -名古屋編vol.2-(1部)』\n日時 2026.3.19(木)\n会場 Zephyer Hall\nOPEN/START 13:00/13:30 \nhttps://livepocket.jp/e/koroste_ngyvol2-1 \n前売¥3\,500\n当日¥4\,000 \n出演者\nDeXeultio
URL:https://zephyrhall.xyz/event/%e3%80%8e%e6%ae%ba%e3%82%b9%e3%83%86-%e5%90%8d%e5%8f%a4%e5%b1%8b%e7%b7%a8vol-2-%e3%80%8f/
LOCATION:Zephyr Hall\, 愛知県名古屋市中区錦3丁目14-21\, 日本
ATTACH;FMTTYPE=image/jpeg:https://zephyrhall.xyz/wp-content/uploads/2026/03/319-z.jpg
END:VEVENT
BEGIN:VEVENT
DTSTART;TZID=Asia/Tokyo:20260318T183000
DTEND;TZID=Asia/Tokyo:20260318T213000
DTSTAMP:20260425T090423
CREATED:20260316T123849Z
LAST-MODIFIED:20260330T100614Z
UID:2854-1773858600-1773869400@zephyrhall.xyz
SUMMARY:名古屋合同定期公演vol.6
DESCRIPTION:名古屋合同定期公演vol.6\n日時 2026.3.18(水)\n会場 Zephyer Hall\nOPEN/START 18:30/18:55 \nhttps://ticketdive.com/event/nagoyagodo_vol6 \n前方¥2\,000\n前売¥500 \n出演者\n手羽先センセーション\nTHE ENCORE\nカラフルスクリーム
URL:https://zephyrhall.xyz/event/%e5%90%8d%e5%8f%a4%e5%b1%8b%e5%90%88%e5%90%8c%e5%ae%9a%e6%9c%9f%e5%85%ac%e6%bc%94vol-6/
LOCATION:Zephyr Hall\, 愛知県名古屋市中区錦3丁目14-21\, 日本
ATTACH;FMTTYPE=image/jpeg:https://zephyrhall.xyz/wp-content/uploads/2026/03/318-z-scaled.jpg
END:VEVENT
BEGIN:VEVENT
DTSTART;TZID=Asia/Tokyo:20260315T100000
DTEND;TZID=Asia/Tokyo:20260315T223000
DTSTAMP:20260425T090423
CREATED:20260310T103150Z
LAST-MODIFIED:20260330T100529Z
UID:2849-1773568800-1773613800@zephyrhall.xyz
SUMMARY:AURmG-FES
DESCRIPTION:AURmG-FES\n日時 2026.3.15(日)\n会場 Zephyer Hall\nOPEN/START 11:00/11:30 \nhttps://ticketdive.com/event/AURmGFES0315 \n優先¥4\,600(ドリンク代¥600込み)\n一般¥2\,100(ドリンク代¥600込み) \n出演者\n君に、胸キュン。\n逆転ねこぱんちっ！\nAQA\nぜろから☆すた→と\nSTARRY×NIGHT↗\nSiLENT←NOiSE\nTHE ENCORE\nテンシンランマン\nあたまのなかは8ビット!?\nSHIROMIZAKANA\nBeloved\nOS☆U\nO₂\nimage\nギミック\nべロティカ\nきゅーんず！\nCent Heaven\nマザリ\nめっ！\n星のカケラ\nSPRISE\nアブソプ\nSANUGLOW\nきっと大切だった\nStella!\nシャニムニ＝パレード\n#ジューロック
URL:https://zephyrhall.xyz/event/aurmg-fes/
LOCATION:Zephyr Hall\, 愛知県名古屋市中区錦3丁目14-21\, 日本
ATTACH;FMTTYPE=image/jpeg:https://zephyrhall.xyz/wp-content/uploads/2026/03/315-z-scaled.jpg
END:VEVENT
BEGIN:VEVENT
DTSTART;TZID=Asia/Tokyo:20260314T153000
DTEND;TZID=Asia/Tokyo:20260314T213000
DTSTAMP:20260425T090423
CREATED:20260310T102608Z
LAST-MODIFIED:20260330T100446Z
UID:2844-1773502200-1773523800@zephyrhall.xyz
SUMMARY:『ホワイトデー』
DESCRIPTION:『ホワイトデー』\n日時 2026.3.14(土)\n会場 Zephyer Hall\nOPEN/START 15:40/15:55 \nhttps://ticketdive.com/event/260314z \n優先¥4\,000\n一般¥2\,000 \n出演者\nテンシンランマン\n#ジューロック\nシャニムニ=パレード\nY∀KiN\nMATANAGOYA\nSnowComp/ex\nミラクルファンファーレ！\ndela\nStar☆T\nなないろ∞ミルキーウェイ\nやれでき!!\nPOPING CANDY.\nAim
URL:https://zephyrhall.xyz/event/%e3%80%8e%e3%83%9b%e3%83%af%e3%82%a4%e3%83%88%e3%83%87%e3%83%bc%e3%80%8f/
LOCATION:Zephyr Hall\, 愛知県名古屋市中区錦3丁目14-21\, 日本
ATTACH;FMTTYPE=image/webp:https://zephyrhall.xyz/wp-content/uploads/2026/03/314-z.webp
END:VEVENT
BEGIN:VEVENT
DTSTART;TZID=Asia/Tokyo:20260314T113000
DTEND;TZID=Asia/Tokyo:20260314T153000
DTSTAMP:20260425T090423
CREATED:20260310T101944Z
LAST-MODIFIED:20260330T100407Z
UID:2838-1773487800-1773502200@zephyrhall.xyz
SUMMARY:MAD'SiNK presents【緊急無料4MAN】
DESCRIPTION:MAD’SiNK presents【緊急無料4MAN】\n日時 2026.3.14(土)\n会場 Zephyer Hall\nOPEN/START 11:30/12:00 \nhttps://ticketdive.com/event/kinkyu4MAN \n優先¥4\,000\n一般¥0 \n出演者\nマザリ\nめっ！\n神様の言う通り\n絶望キネマ
URL:https://zephyrhall.xyz/event/madsink-presents%e3%80%90%e7%b7%8a%e6%80%a5%e7%84%a1%e6%96%994man%e3%80%91/
LOCATION:Zephyr Hall\, 愛知県名古屋市中区錦3丁目14-21\, 日本
ATTACH;FMTTYPE=image/jpeg:https://zephyrhall.xyz/wp-content/uploads/2026/03/314-z-scaled.jpg
END:VEVENT
BEGIN:VEVENT
DTSTART;TZID=Asia/Tokyo:20260313T050000
DTEND;TZID=Asia/Tokyo:20260313T223000
DTSTAMP:20260425T090423
CREATED:20260310T101343Z
LAST-MODIFIED:20260330T100334Z
UID:2833-1773378000-1773441000@zephyrhall.xyz
SUMMARY:夢月琉稀生誕祭~0時過ぎても最上級プリンセス~
DESCRIPTION:夢月琉稀生誕祭~0時過ぎても最上級プリンセス~\n日時 2026.3.13(金)\n会場 Zephyer Hall\nOPEN/START 17:15/17:45 \nhttps://ticketdive.com/event/ruki_2026 \nS¥15\,000\n優先¥3\,000\n一般¥500 \n出演者\nBeloved\nimage\nきっと大切だった\nPULSAR_CLIMAX\nみるきーらんど\nあすとりーのうさぎ\n世界で1番シンデレラ\n天色のメロディー\nスコティッシュドール\nこえだきたせ\n輝きぱにっく
URL:https://zephyrhall.xyz/event/%e5%a4%a2%e6%9c%88%e7%90%89%e7%a8%80%e7%94%9f%e8%aa%95%e7%a5%ad0%e6%99%82%e9%81%8e%e3%81%8e%e3%81%a6%e3%82%82%e6%9c%80%e4%b8%8a%e7%b4%9a%e3%83%97%e3%83%aa%e3%83%b3%e3%82%bb%e3%82%b9/
LOCATION:Zephyr Hall\, 愛知県名古屋市中区錦3丁目14-21\, 日本
ATTACH;FMTTYPE=image/jpeg:https://zephyrhall.xyz/wp-content/uploads/2026/03/313-x.jpg
END:VEVENT
BEGIN:VEVENT
DTSTART;TZID=Asia/Tokyo:20260311T173000
DTEND;TZID=Asia/Tokyo:20260311T220000
DTSTAMP:20260425T090423
CREATED:20260310T100000Z
LAST-MODIFIED:20260330T100301Z
UID:2828-1773250200-1773266400@zephyrhall.xyz
SUMMARY:THE ENCORE presents「ラブコール vol.16」
DESCRIPTION:THE ENCORE presents「ラブコール vol.16」\n日時 2026.3.11(水)\n会場 Zephyer Hall\nOPEN/START 17:40/18:00 \nhttps://ticketdive.com/event/lc_vol16 \n前方¥3\,000\n一般¥100 \n出演者\nTHE ENCORE\nAQA\nimage\nOS☆U\nO₂\nシャニムニ＝パレード\nBeloved\nY∀KiN
URL:https://zephyrhall.xyz/event/the-encore-presents%e3%80%8c%e3%83%a9%e3%83%96%e3%82%b3%e3%83%bc%e3%83%ab-vol-16%e3%80%8d/
LOCATION:Zephyr Hall\, 愛知県名古屋市中区錦3丁目14-21\, 日本
ATTACH;FMTTYPE=image/png:https://zephyrhall.xyz/wp-content/uploads/2026/03/311ラブコールTT-scaled.png
END:VEVENT
BEGIN:VEVENT
DTSTART;TZID=Asia/Tokyo:20260308T163000
DTEND;TZID=Asia/Tokyo:20260308T213000
DTSTAMP:20260425T090423
CREATED:20260304T073642Z
LAST-MODIFIED:20260330T100233Z
UID:2823-1772987400-1773005400@zephyrhall.xyz
SUMMARY:サークルライチ主催『サブカル』
DESCRIPTION:サークルライチ主催『サブカル』\n日時 2026.3.8(日)\n会場 Zephyer Hall\nOPEN/START 16:30/16:50 \nhttps://ticketdive.com/event/260308s \n前方¥4\,000\n一般¥1\,000 \n出演者\nマーキュロ\nベロティカ\nクララ・マグラ\nVILLAINS HOUSE\nクライセカイ\nギミック\nセクト\nサークルライチ塾生二期
URL:https://zephyrhall.xyz/event/%e3%82%b5%e3%83%bc%e3%82%af%e3%83%ab%e3%83%a9%e3%82%a4%e3%83%81%e4%b8%bb%e5%82%ac%e3%80%8e%e3%82%b5%e3%83%96%e3%82%ab%e3%83%ab%e3%80%8f-6/
LOCATION:Zephyr Hall\, 愛知県名古屋市中区錦3丁目14-21\, 日本
ATTACH;FMTTYPE=image/jpeg:https://zephyrhall.xyz/wp-content/uploads/2026/03/38-z-2部.jpg
END:VEVENT
BEGIN:VEVENT
DTSTART;TZID=Asia/Tokyo:20260308T103000
DTEND;TZID=Asia/Tokyo:20260308T173000
DTSTAMP:20260425T090423
CREATED:20260304T051152Z
LAST-MODIFIED:20260330T100159Z
UID:2818-1772965800-1772991000@zephyrhall.xyz
SUMMARY:名古屋事変
DESCRIPTION:名古屋事変\n日時 2026.3.8(日)\n会場 Zephyer Hall\nOPEN/START 10:40/11:00 \nhttps://ticketdive.com/event/260308n \n前方¥5\,000\n一般¥0 \n出演者\nマーキュロ\nべロティカ\nクララ・マグラ\nVILLAINS HOUSE\nクライセカイ\nギミック\nセクト\nサークルライチ塾生二期\nめっ！\n絶望キネマ\n逆転ねこぱんちっ！\nSiLENT←NOiSE\nSTARRY×NIGHT↗\nLollipop♡CHU
URL:https://zephyrhall.xyz/event/%e5%90%8d%e5%8f%a4%e5%b1%8b%e4%ba%8b%e5%a4%89-7/
LOCATION:Zephyr Hall\, 愛知県名古屋市中区錦3丁目14-21\, 日本
ATTACH;FMTTYPE=image/jpeg:https://zephyrhall.xyz/wp-content/uploads/2026/03/38-z-1部.jpg
END:VEVENT
BEGIN:VEVENT
DTSTART;TZID=Asia/Tokyo:20260307T123000
DTEND;TZID=Asia/Tokyo:20260307T210000
DTSTAMP:20260425T090423
CREATED:20260304T045839Z
LAST-MODIFIED:20260330T100122Z
UID:2811-1772886600-1772917200@zephyrhall.xyz
SUMMARY:『XP!A Spring TOUR2026～触れたら最後 逃がさない ずっと～』（名古屋サン公演）
DESCRIPTION:『XP!A Spring TOUR2026～触れたら最後 逃がさない ずっと～』（名古屋サン公演）\n日時 2026.3.7(土)\n会場 Zephyer Hall\n1部 OPEN/START 12:30/13:15\n2部 OPEN/START 17:00/17:45 \nhttps://livepocket.jp/e/xpia260307_1 \nhttps://livepocket.jp/e/xpia260307_2 \n前売¥4\,000\n当日¥4\,500 \n出演者\nXP!A
URL:https://zephyrhall.xyz/event/%e3%80%8expa-spring-tour2026%ef%bd%9e%e8%a7%a6%e3%82%8c%e3%81%9f%e3%82%89%e6%9c%80%e5%be%8c-%e9%80%83%e3%81%8c%e3%81%95%e3%81%aa%e3%81%84-%e3%81%9a%e3%81%a3%e3%81%a8%ef%bd%9e%e3%80%8f%ef%bc%88/
LOCATION:Zephyr Hall\, 愛知県名古屋市中区錦3丁目14-21\, 日本
ATTACH;FMTTYPE=image/jpeg:https://zephyrhall.xyz/wp-content/uploads/2026/03/37-z.jpg
END:VEVENT
BEGIN:VEVENT
DTSTART;TZID=Asia/Tokyo:20260306T183000
DTEND;TZID=Asia/Tokyo:20260306T213000
DTSTAMP:20260425T090423
CREATED:20260304T044911Z
LAST-MODIFIED:20260330T095657Z
UID:2805-1772821800-1772832600@zephyrhall.xyz
SUMMARY:BLACK IRIS 8th ANNIVERSARY LIVE TOUR~NAGOYA~
DESCRIPTION:BLACK IRIS 8th ANNIVERSARY LIVE TOUR~NAGOYA~\n日時 2026.3.6(金)\n会場 Zephyer Hall\nOPEN/START 18:30/19:00 \nhttps://livepocket.jp/e/qvu0e \n前方（抽選）¥6\,000\n前売（先着）¥4\,500\n当日¥5\,000 \n出演者\nBLACK IRIS
URL:https://zephyrhall.xyz/event/black-iris-8th-anniversary-live-tournagoya/
LOCATION:Zephyr Hall\, 愛知県名古屋市中区錦3丁目14-21\, 日本
ATTACH;FMTTYPE=image/jpeg:https://zephyrhall.xyz/wp-content/uploads/2026/03/BLACK-IRIS_20260306-scaled.jpg
END:VEVENT
BEGIN:VEVENT
DTSTART;TZID=Asia/Tokyo:20260305T163000
DTEND;TZID=Asia/Tokyo:20260305T213000
DTSTAMP:20260425T090423
CREATED:20260304T043904Z
LAST-MODIFIED:20260330T095446Z
UID:2798-1772728200-1772746200@zephyrhall.xyz
SUMMARY:珊瑚りんね生誕祭〜産後から17年経ちましたSP〜
DESCRIPTION:珊瑚りんね生誕祭〜産後から17年経ちましたSP〜\n日時 2026.3.5(木)\n会場 Zephyer Hall\nOPEN/START 16:00/16:30 \nhttps://livepocket.jp/e/35sangogo \nVIP¥10\,035\n優先¥3\,500\n一般¥35 \n出演者\nmofu/mofu\nAMOmillion\n珊瑚りんね\nTwilightBlooM.\nLove it ice\nsweet♡union\n君へセレナーデ\nあすとりーのうさぎ
URL:https://zephyrhall.xyz/event/%e7%8f%8a%e7%91%9a%e3%82%8a%e3%82%93%e3%81%ad%e7%94%9f%e8%aa%95%e7%a5%ad%e3%80%9c%e7%94%a3%e5%be%8c%e3%81%8b%e3%82%8917%e5%b9%b4%e7%b5%8c%e3%81%a1%e3%81%be%e3%81%97%e3%81%9fsp%e3%80%9c/
LOCATION:Zephyr Hall\, 愛知県名古屋市中区錦3丁目14-21\, 日本
ATTACH;FMTTYPE=image/jpeg:https://zephyrhall.xyz/wp-content/uploads/2026/03/35-z.jpg
END:VEVENT
BEGIN:VEVENT
DTSTART;TZID=Asia/Tokyo:20260304T000000
DTEND;TZID=Asia/Tokyo:20260304T203000
DTSTAMP:20260425T090423
CREATED:20260227T063915Z
LAST-MODIFIED:20260330T095354Z
UID:2786-1772582400-1772656200@zephyrhall.xyz
SUMMARY:『 DTB TOUR LIVE in名古屋
DESCRIPTION:DTB TOUR LIVE in名古屋\n日時 2026.3.4(水)\n会場 Zephyer Hall\nOPEN/START 16:00/16:45 \nhttps://livepocket.jp/e/dtb20260304 \nS¥6\,000\nA¥4\,000\n当日¥5\,000 \n出演者\nDTB
URL:https://zephyrhall.xyz/event/%e3%80%8e-dtb-tour-live-in%e5%90%8d%e5%8f%a4%e5%b1%8b-%e3%80%8f/
LOCATION:Zephyr Hall\, 愛知県名古屋市中区錦3丁目14-21\, 日本
ATTACH;FMTTYPE=image/jpeg:https://zephyrhall.xyz/wp-content/uploads/2026/02/34-z.jpg
END:VEVENT
BEGIN:VEVENT
DTSTART;TZID=Asia/Tokyo:20260301T173000
DTEND;TZID=Asia/Tokyo:20260301T213000
DTSTAMP:20260425T090423
CREATED:20260227T052847Z
LAST-MODIFIED:20260330T095321Z
UID:2211-1772386200-1772400600@zephyrhall.xyz
SUMMARY:【❤︎らぶりぃ Collection❤︎ -Happy Birthday みるるんちゃん♡-】
DESCRIPTION:【❤︎らぶりぃ Collection❤︎ -Happy Birthday みるるんちゃん♡-】\n日時 2026.3.1(日)\n会場 Zephyer Hall\nOPEN/START 17:40/18:00 \nhttps://ticketdive.com/event/Love_Run_26 \nSS(前方)¥5\,000\nS(前方)¥3\,500\nA(一般)¥1\,500\nB(一般)¥500 \n出演者\nLollipop♡CHU\nBeloved\nimage\nきっと大切だった\nStar☆T
URL:https://zephyrhall.xyz/event/%e3%80%90%e2%9d%a4%ef%b8%8e%e3%82%89%e3%81%b6%e3%82%8a%e3%81%83-collection%e2%9d%a4%ef%b8%8e-happy-birthday-%e3%81%bf%e3%82%8b%e3%82%8b%e3%82%93%e3%81%a1%e3%82%83%e3%82%93%e2%99%a1-%e3%80%91/
LOCATION:Zephyr Hall\, 愛知県名古屋市中区錦3丁目14-21\, 日本
ATTACH;FMTTYPE=image/jpeg:https://zephyrhall.xyz/wp-content/uploads/2026/02/31-z-scaled.jpg
END:VEVENT
BEGIN:VEVENT
DTSTART;TZID=Asia/Tokyo:20260301T110000
DTEND;TZID=Asia/Tokyo:20260301T160000
DTSTAMP:20260425T090423
CREATED:20260225T135348Z
LAST-MODIFIED:20260330T095253Z
UID:2781-1772362800-1772380800@zephyrhall.xyz
SUMMARY:『Lollipop♡Collection vol.1』
DESCRIPTION:『Lollipop♡Collection vol.1』\n日時 2026.3.1(日)\n会場 Zephyer Hall\nOPEN/START 11:00/11:20 \nhttps://ticketdive.com/event/Lollipop_C_1 \n前方¥4\,000\n一般¥0 \n出演者\nLollipop♡CHU\nOS☆U\nimage\nきっと大切だった\nBeloved\nなないろ∞ミルキーウェイ\nあたまのなかは8ビット!?\nStar☆T\nお願い!!フルハウス
URL:https://zephyrhall.xyz/event/%e3%80%8elollipop%e2%99%a1collection-vol-1%e3%80%8f/
LOCATION:Zephyr Hall\, 愛知県名古屋市中区錦3丁目14-21\, 日本
ATTACH;FMTTYPE=image/jpeg:https://zephyrhall.xyz/wp-content/uploads/2026/02/31-z-1部-scaled.jpg
END:VEVENT
BEGIN:VEVENT
DTSTART;TZID=Asia/Tokyo:20260228T110000
DTEND;TZID=Asia/Tokyo:20260228T223000
DTSTAMP:20260425T090423
CREATED:20260225T133912Z
LAST-MODIFIED:20260330T104807Z
UID:2775-1772276400-1772317800@zephyrhall.xyz
SUMMARY:NAGOYA GIRLS GIRLS extra!!
DESCRIPTION:NAGOYA GIRLS GIRLS extra!!\n日時 2026.2.28(土)\n会場 Zephyer Hall\nOPEN/START 11:00/11:15 \nhttps://ticketdive.com/event/ngg_0228 \n前方¥6\,000\n通常¥3\,000 \n出演者\n手羽先センセーション\nTHE ENCORE\nRiNCENT♯\nmy fav\nMelty BeaR\nぜろから☆すた→と\n踊れ！神風\nSTARRY×NIGHT↗︎\nSiLENT←NOiSE\nBeloved\nPULSAR_CLIMAX\n→Taria.\nふれふれフレーバー\n輝きぱにっく\nTwilight BlooM.\nHATEandTEARS\n幻狂デモクラシー\nMy:ME//OW\nLollipop♡CHU\nMyDresscode\nオカシリゾート\nふぇありーているず！\nAQA
URL:https://zephyrhall.xyz/event/nagoya-girls-girls-extra-3/
LOCATION:Zephyr Hall\, 愛知県名古屋市中区錦3丁目14-21\, 日本
ATTACH;FMTTYPE=image/webp:https://zephyrhall.xyz/wp-content/uploads/2026/02/228-z新.webp
END:VEVENT
BEGIN:VEVENT
DTSTART;TZID=Asia/Tokyo:20260227T133000
DTEND;TZID=Asia/Tokyo:20260227T223000
DTSTAMP:20260425T090423
CREATED:20260225T133139Z
LAST-MODIFIED:20260330T104738Z
UID:2769-1772199000-1772231400@zephyrhall.xyz
SUMMARY:NAGOYA GIRLS GIRLS extra!!
DESCRIPTION:NAGOYA GIRLS GIRLS extra!!\n日時 2026.2.27(金)\n会場 Zephyer Hall\nOPEN/START 13:30/13:45 \nhttps://ticketdive.com/event/ngg_0227 \n前方¥5\,000\n通常¥2\,500 \n出演者\n手羽先センセーション\nTHE ENCORE\nルルネージュ\nSAISON\n虹色の飛行少女\nMelty BeaR\nmetarium\nぜろから☆すた→と\nSTARRY×NIGHT↗︎\nSiLENT←NOiSE\nAQA\n逆転ねこぱんちっ！\nBeloved\n→Taria.\nMy:ME//OW\nTwilight BlooM.\nナト⭐カン
URL:https://zephyrhall.xyz/event/nagoya-girls-girls-extra-2/
LOCATION:Zephyr Hall\, 愛知県名古屋市中区錦3丁目14-21\, 日本
ATTACH;FMTTYPE=image/jpeg:https://zephyrhall.xyz/wp-content/uploads/2026/02/227-z-.jpg
END:VEVENT
BEGIN:VEVENT
DTSTART;TZID=Asia/Tokyo:20260226T183000
DTEND;TZID=Asia/Tokyo:20260226T210000
DTSTAMP:20260425T090423
CREATED:20260222T060447Z
LAST-MODIFIED:20260330T104714Z
UID:2765-1772130600-1772139600@zephyrhall.xyz
SUMMARY:OS☆U定期Zephyr LIVE
DESCRIPTION:OS☆U定期Zephyr LIVE\n日時 2026.2.26(木)\n会場 Zephyer Hall\nOPEN/START 18:40/19:00 \nhttps://ticketdive.com/event/mochi0226 \n前方¥2\,000\n一般¥0 \n出演者\nOS☆U
URL:https://zephyrhall.xyz/event/os%e2%98%86u%e5%ae%9a%e6%9c%9fzephyr-live/
LOCATION:Zephyr Hall\, 愛知県名古屋市中区錦3丁目14-21\, 日本
ATTACH;FMTTYPE=image/jpeg:https://zephyrhall.xyz/wp-content/uploads/2026/02/226-z.jpg
END:VEVENT
BEGIN:VEVENT
DTSTART;TZID=Asia/Tokyo:20260224T163000
DTEND;TZID=Asia/Tokyo:20260224T213000
DTSTAMP:20260425T090423
CREATED:20260222T055832Z
LAST-MODIFIED:20260330T104630Z
UID:2760-1771950600-1771968600@zephyrhall.xyz
SUMMARY:桜空 即位(卒業)LIVE
DESCRIPTION:桜空 即位(卒業)LIVE\n日時 2026.2.24(火)\n会場 Zephyer Hall\nOPEN/START 16:30/18:00 \nhttps://ticketdive.com/event/SakuraSokuiLive0224?fc=NkQD0A54 \nVIP¥5\,000\n一般¥1\,000 \n出演者\n桜空\nプリンセス物語\nVIVE\nなないろ∞ミルキーウェイ\nアイアール
URL:https://zephyrhall.xyz/event/%e6%a1%9c%e7%a9%ba-%e5%8d%b3%e4%bd%8d%e5%8d%92%e6%a5%adlive/
LOCATION:Zephyr Hall\, 愛知県名古屋市中区錦3丁目14-21\, 日本
ATTACH;FMTTYPE=image/jpeg:https://zephyrhall.xyz/wp-content/uploads/2026/02/224-z.jpg
END:VEVENT
BEGIN:VEVENT
DTSTART;TZID=Asia/Tokyo:20260223T110000
DTEND;TZID=Asia/Tokyo:20260223T213000
DTSTAMP:20260425T090423
CREATED:20260221T022630Z
LAST-MODIFIED:20260330T104603Z
UID:2755-1771844400-1771882200@zephyrhall.xyz
SUMMARY:旋回
DESCRIPTION:旋回\n日時 2026.2.23(月)\n会場 Zephyer Hall\nOPEN/START 11:20/11:50 \nhttps://ticketdive.com/event/senkai_0223 \n優先¥3\,500\n一般¥1\,000 \n出演者\n手羽先センセーション\n逆転ねこぱんちっ！\nAQA\nSTARRY×NIGHT↗\ncowolo\nI MY ME MINE\nミラクルファンファーレ！\nimage\nBeloved\nNEO BREAK\nQu♡AIy\n蜂蜜★皇帝\nきっと大切だった\nOS☆U\nCLANCROWN\nシャニムニ＝パレード\n#ジューロック\nみありー\nワッツ◎さーくる\nY∀KiN
URL:https://zephyrhall.xyz/event/%e6%97%8b%e5%9b%9e-3/
LOCATION:Zephyr Hall\, 愛知県名古屋市中区錦3丁目14-21\, 日本
ATTACH;FMTTYPE=image/jpeg:https://zephyrhall.xyz/wp-content/uploads/2026/02/223-z.jpg
END:VEVENT
BEGIN:VEVENT
DTSTART;TZID=Asia/Tokyo:20260222T160000
DTEND;TZID=Asia/Tokyo:20260222T213000
DTSTAMP:20260425T090423
CREATED:20260221T021308Z
LAST-MODIFIED:20260330T104505Z
UID:2750-1771776000-1771795800@zephyrhall.xyz
SUMMARY:ななフェス(ぷち)vol.4 in NAGOYA
DESCRIPTION:ななフェス(ぷち)vol.4 in NAGOYA\n日時 2026.2.22(日)\n会場 Zephyer Hall\nOPEN/START 16:00/16:30 \nhttps://livepocket.jp/e/7fes0222 \n優先¥5\,000\n一般¥3\,500\n当日¥4\,000 \n出演者\nSE7ENTH SENSE\nALL IN\nLIT\n100STARS\nProtea*
URL:https://zephyrhall.xyz/event/%e3%81%aa%e3%81%aa%e3%83%95%e3%82%a7%e3%82%b9%e3%81%b7%e3%81%a1vol-4-in-nagoya/
LOCATION:Zephyr Hall\, 愛知県名古屋市中区錦3丁目14-21\, 日本
ATTACH;FMTTYPE=image/jpeg:https://zephyrhall.xyz/wp-content/uploads/2026/02/222-z-.jpg
END:VEVENT
BEGIN:VEVENT
DTSTART;TZID=Asia/Tokyo:20260221T170000
DTEND;TZID=Asia/Tokyo:20260221T223000
DTSTAMP:20260425T090423
CREATED:20260221T012158Z
LAST-MODIFIED:20260330T104437Z
UID:2744-1771693200-1771713000@zephyrhall.xyz
SUMMARY:サークルライチ主催『サブカル』
DESCRIPTION:サークルライチ主催『サブカル』\n日時 2026.2.21(土)\n会場 Zephyer Hall\nOPEN/START 17:15/17:35 \nhttps://ticketdive.com/event/260221s \n前方¥5\,000\n一般¥1\,000 \n出演者\nマーキュロ\nべロティカクララ・マグラ\nVILLAINS HOUSE\nクライセカイ\nギミック\nセクト\nサークルライチ塾生二期
URL:https://zephyrhall.xyz/event/%e3%82%b5%e3%83%bc%e3%82%af%e3%83%ab%e3%83%a9%e3%82%a4%e3%83%81%e4%b8%bb%e5%82%ac%e3%80%8e%e3%82%b5%e3%83%96%e3%82%ab%e3%83%ab%e3%80%8f-5/
LOCATION:Zephyr Hall\, 愛知県名古屋市中区錦3丁目14-21\, 日本
ATTACH;FMTTYPE=image/jpeg:https://zephyrhall.xyz/wp-content/uploads/2026/02/221-2部.jpg
END:VEVENT
BEGIN:VEVENT
DTSTART;TZID=Asia/Tokyo:20260221T103000
DTEND;TZID=Asia/Tokyo:20260221T180000
DTSTAMP:20260425T090423
CREATED:20260221T011438Z
LAST-MODIFIED:20260330T104402Z
UID:2740-1771669800-1771696800@zephyrhall.xyz
SUMMARY:名古屋事変
DESCRIPTION:名古屋事変\n日時 2026.2.21(土)\n会場 Zephyer Hall\nOPEN/START 10:40/11:00 \nhttps://ticketdive.com/event/260221n \n前方¥5\,000\n一般¥0 \n出演者\nマーキュロ\nべロティカ\nクララ・マグラ\nVILLAINS HOUSE\nクライセカイ\nギミック\nセクト\nサークルライチ塾生二期\nマザリ\n神様の言う通り\nLollipop♡CHU\nSTARRY×NIGHT↗\nSiLENT←NOiSE\nSHIROMIZAKANA\nテンシンランマン
URL:https://zephyrhall.xyz/event/%e5%90%8d%e5%8f%a4%e5%b1%8b%e4%ba%8b%e5%a4%89-6/
LOCATION:Zephyr Hall\, 愛知県名古屋市中区錦3丁目14-21\, 日本
ATTACH;FMTTYPE=image/webp:https://zephyrhall.xyz/wp-content/uploads/2026/02/221-z-名古屋事変.webp
END:VEVENT
END:VCALENDAR