BEGIN:VCALENDAR
VERSION:2.0
PRODID:-//ZephyrHall【ゼファーホール】 - ECPv6.15.20//NONSGML v1.0//EN
CALSCALE:GREGORIAN
METHOD:PUBLISH
X-ORIGINAL-URL:https://zephyrhall.xyz
X-WR-CALDESC:ZephyrHall【ゼファーホール】 のイベント
REFRESH-INTERVAL;VALUE=DURATION:PT1H
X-Robots-Tag:noindex
X-PUBLISHED-TTL:PT1H
BEGIN:VTIMEZONE
TZID:Asia/Tokyo
BEGIN:STANDARD
TZOFFSETFROM:+0900
TZOFFSETTO:+0900
TZNAME:JST
DTSTART:20250101T000000
END:STANDARD
END:VTIMEZONE
BEGIN:VEVENT
DTSTART;TZID=Asia/Tokyo:20260123T183000
DTEND;TZID=Asia/Tokyo:20260123T213000
DTSTAMP:20260425T121527
CREATED:20260117T052203Z
LAST-MODIFIED:20260330T102904Z
UID:2625-1769193000-1769203800@zephyrhall.xyz
SUMMARY:OS☆U定期Zephyr LIVE〜INTRODON〜
DESCRIPTION:OS☆U定期Zephyr LIVE〜INTRODON〜\n日時 2026.1.23(金)\n会場 Zephyer Hall\nOPEN/START 18:40/19:00 \nhttps://ticketdive.com/event/OSUZephyrINTRODON \n前方¥2\,000\n一般¥0 \n出演者\nOS☆U
URL:https://zephyrhall.xyz/event/os%e2%98%86u%e5%ae%9a%e6%9c%9fzephyr-live%e3%80%9cintrodon%e3%80%9c/
LOCATION:Zephyr Hall\, 愛知県名古屋市中区錦3丁目14-21\, 日本
ATTACH;FMTTYPE=image/jpeg:https://zephyrhall.xyz/wp-content/uploads/2026/01/123-z.jpg
END:VEVENT
BEGIN:VEVENT
DTSTART;TZID=Asia/Tokyo:20260124T100000
DTEND;TZID=Asia/Tokyo:20260124T213000
DTSTAMP:20260425T121527
CREATED:20260122T084315Z
LAST-MODIFIED:20260330T102938Z
UID:2630-1769248800-1769290200@zephyrhall.xyz
SUMMARY:miniちかっぱ祭ver.26.0inNAGOYA
DESCRIPTION:miniちかっぱ祭ver.26.0inNAGOYA\n日時 2026.1.24(土)\n会場 Zephyer Hall\nOPEN/START 10:00/10:20 \nhttps://tiget.net/events/454459 \n前方¥8\,000\n一般¥4\,000 \n出演者\n《両日出演》\n江籠裕奈\nお願い!!フルハウス\nSugar♡Holic\nCLEAR’S\nサクヤコノハナ\nCent Heaven\nToi Toi Toi\nニコルポップ\nNO♡AF\nhimawari(船橋)\nBABY BLOOM\nlog you\nみありー\n《24日(土)のみ出演》\nAQA\nイロハサクラ\nSTU48\n棘-おどろ-\n可憐なアイボリー\n新生★大阪24区ガールズ\n超★NOVA24’\nテンシンランマン\nナナコロビヤオキ\nHAPPY CREATORS
URL:https://zephyrhall.xyz/event/mini%e3%81%a1%e3%81%8b%e3%81%a3%e3%81%b1%e7%a5%adver-22-0innagoya-2/
LOCATION:Zephyr Hall\, 愛知県名古屋市中区錦3丁目14-21\, 日本
ATTACH;FMTTYPE=image/jpeg:https://zephyrhall.xyz/wp-content/uploads/2026/01/124-z-TT.jpg
END:VEVENT
BEGIN:VEVENT
DTSTART;TZID=Asia/Tokyo:20260125T100000
DTEND;TZID=Asia/Tokyo:20260125T210000
DTSTAMP:20260425T121527
CREATED:20260122T085724Z
LAST-MODIFIED:20260330T103013Z
UID:2637-1769335200-1769374800@zephyrhall.xyz
SUMMARY:miniちかっぱ祭ver.26.0inNAGOYA
DESCRIPTION:miniちかっぱ祭ver.26.0inNAGOYA\n日時 2026.1.25(日)\n会場 Zephyer Hall\nOPEN/START 10:00/10:20 \nhttps://tiget.net/events/454461 \n前方¥8\,000\n一般¥4\,000 \n出演者\n《両日出演》\n江籠裕奈\nお願い!!フルハウス\nSugar♡Holic\nCLEAR’S\nサクヤコノハナ\nCent Heaven\nToi Toi Toi\nニコルポップ\nNO♡AF\nhimawari(船橋)\nBABY BLOOM\nlog you\nみありー\n《25日(日)のみ出演》\nきゅんﾀﾋに一生を!?\nStar☆T\nすべての瞬間は君だった。\n田中菜津美 with 谷真理佳\n抜けてるくらいがちょうどいい\nFanCy-\nBellemule from 電音部\nBNSI\nLollipop♡CHU
URL:https://zephyrhall.xyz/event/mini%e3%81%a1%e3%81%8b%e3%81%a3%e3%81%b1%e7%a5%adver-22-0innagoya-3/
LOCATION:Zephyr Hall\, 愛知県名古屋市中区錦3丁目14-21\, 日本
ATTACH;FMTTYPE=image/jpeg:https://zephyrhall.xyz/wp-content/uploads/2026/01/125-z-TT.jpg
END:VEVENT
BEGIN:VEVENT
DTSTART;TZID=Asia/Tokyo:20260130T170000
DTEND;TZID=Asia/Tokyo:20260130T223000
DTSTAMP:20260425T121527
CREATED:20260122T094258Z
LAST-MODIFIED:20260330T103049Z
UID:2643-1769792400-1769812200@zephyrhall.xyz
SUMMARY:白黒不謹慎-名古屋-
DESCRIPTION:白黒不謹慎-名古屋-\n日時 2026.1.30(金)\n会場 Zephyer Hall\nOPEN/START 17:00/17:30 \nhttps://ticketdive.com/event/srkrfks_n \nVIP¥6\,000\n一般¥2\,000\n女性¥0 \n出演者\n白黒アリス\nYA’ABURNEE\nマザリ\nXINXIN\nlonlium\n鳴ル神\nギミック\nテンシンランマン
URL:https://zephyrhall.xyz/event/%e7%99%bd%e9%bb%92%e4%b8%8d%e8%ac%b9%e6%85%8e-%e5%90%8d%e5%8f%a4%e5%b1%8b/
LOCATION:Zephyr Hall\, 愛知県名古屋市中区錦3丁目14-21\, 日本
ATTACH;FMTTYPE=image/jpeg:https://zephyrhall.xyz/wp-content/uploads/2026/01/0130_白黒不謹慎_名古屋flyer.jpg
END:VEVENT
BEGIN:VEVENT
DTSTART;TZID=Asia/Tokyo:20260131T110000
DTEND;TZID=Asia/Tokyo:20260131T163000
DTSTAMP:20260425T121527
CREATED:20260130T084926Z
LAST-MODIFIED:20260330T103149Z
UID:2650-1769857200-1769877000@zephyrhall.xyz
SUMMARY:RAD iD LIVE mode Z_1
DESCRIPTION:RAD iD LIVE mode Z_1\n日時 2026.1.31(土)\n会場 Zephyer Hall\nOPEN/START 11:00/11:20 \nhttps://livepocket.jp/e/0131_mode_z1 \n前方¥3\,500\n通常¥2\,000 \n出演者\nTwilight BlooM.\nBeloved\nCherie!\nBOCCHI。\nエイアイカ\nハニースパイス Re.\nプエラの絶対値\nO₂\nHelloYouth
URL:https://zephyrhall.xyz/event/rad-id-live-mode-z_1/
LOCATION:Zephyr Hall\, 愛知県名古屋市中区錦3丁目14-21\, 日本
ATTACH;FMTTYPE=image/png:https://zephyrhall.xyz/wp-content/uploads/2026/01/1.31-裏イベmodeZ1.png
END:VEVENT
BEGIN:VEVENT
DTSTART;TZID=Asia/Tokyo:20260131T170000
DTEND;TZID=Asia/Tokyo:20260131T220000
DTSTAMP:20260425T121527
CREATED:20260130T085855Z
LAST-MODIFIED:20260330T103305Z
UID:2655-1769878800-1769896800@zephyrhall.xyz
SUMMARY:RAD iD LIVE mode Z_2
DESCRIPTION:RAD iD LIVE mode Z_2\n日時 2026.1.31(土)\n会場 Zephyer Hall\nOPEN/START 17:00/17:20 \nhttps://livepocket.jp/e/0131_mode_z2 \n前方¥3\,500\n通常¥2\,000 \n出演者\nBOCCHI。\nLollipop♡CHU\nLoulouchoucho\nアイドルカレッジ\nハニースパイス Re.\nCherie!\nすてねこキャッツ
URL:https://zephyrhall.xyz/event/rad-id-live-mode-z_2/
LOCATION:Zephyr Hall\, 愛知県名古屋市中区錦3丁目14-21\, 日本
ATTACH;FMTTYPE=image/png:https://zephyrhall.xyz/wp-content/uploads/2026/01/1.31-裏イベ-02_0.png
END:VEVENT
BEGIN:VEVENT
DTSTART;TZID=Asia/Tokyo:20260201T100000
DTEND;TZID=Asia/Tokyo:20260201T153000
DTSTAMP:20260425T121527
CREATED:20260130T090324Z
LAST-MODIFIED:20260330T103352Z
UID:2660-1769940000-1769959800@zephyrhall.xyz
SUMMARY:RAD iD LIVE mode Z_1
DESCRIPTION:RAD iD LIVE mode Z_1\n日時 2026.2.1(日)\n会場 Zephyer Hall\nOPEN/START 10:00/10:20 \nhttps://livepocket.jp/e/0201_mode_1 \n前方¥3\,500\n通常¥2\,000 \n出演者\nTwilight BlooM.\nBOCCHI。\nプエラの絶対値\nLollipop♡CHU\nアイドルカレッジ\nあたまのなかは8ビット!?\nティラミス\nすてねこキャッツ\nテンシンランマン\nROY Limited GIRLFRIEND
URL:https://zephyrhall.xyz/event/rad-id-live-mode-z_1-2/
LOCATION:Zephyr Hall\, 愛知県名古屋市中区錦3丁目14-21\, 日本
ATTACH;FMTTYPE=image/jpeg:https://zephyrhall.xyz/wp-content/uploads/2026/01/2.1-裏イベ-01.jpg
END:VEVENT
BEGIN:VEVENT
DTSTART;TZID=Asia/Tokyo:20260201T160000
DTEND;TZID=Asia/Tokyo:20260201T213000
DTSTAMP:20260425T121527
CREATED:20260130T090906Z
LAST-MODIFIED:20260330T103415Z
UID:2665-1769961600-1769981400@zephyrhall.xyz
SUMMARY:RAD iD LIVE mode Z_2
DESCRIPTION:RAD iD LIVE mode Z_2\n日時 2026.2.1(日)\n会場 Zephyer Hall\nOPEN/START 16:00/16:20 \nhttps://livepocket.jp/e/0201_mode_z2 \n前方¥3\,500\n通常¥2\,000 \n出演者\nCherie!\nimage\nハニースパイス Re.\nO₂\n輝きぱにっく\nミラクルファンファーレ！\n逆転ねこぱんちっ！
URL:https://zephyrhall.xyz/event/rad-id-live-mode-z_2-2/
LOCATION:Zephyr Hall\, 愛知県名古屋市中区錦3丁目14-21\, 日本
ATTACH;FMTTYPE=image/jpeg:https://zephyrhall.xyz/wp-content/uploads/2026/01/2.1-裏イベ-22.jpg
END:VEVENT
BEGIN:VEVENT
DTSTART;TZID=Asia/Tokyo:20260204T180000
DTEND;TZID=Asia/Tokyo:20260204T213000
DTSTAMP:20260425T121527
CREATED:20260201T080541Z
LAST-MODIFIED:20260330T103441Z
UID:2672-1770228000-1770240600@zephyrhall.xyz
SUMMARY:天下一のテンラン会
DESCRIPTION:天下一のテンラン会\n日時 2026.2.4(水)\n会場 Zephyer Hall\nOPEN/START 18:00/18:40 \nhttps://ticketdive.com/event/nanakorotenran0204 \n前方¥6\,000\n一般¥2\,000\n女性¥1\,000 \n出演者\nナナコロビヤオキ\nテンシンランマン
URL:https://zephyrhall.xyz/event/%e5%a4%a9%e4%b8%8b%e4%b8%80%e3%81%ae%e3%83%86%e3%83%b3%e3%83%a9%e3%83%b3%e4%bc%9a/
LOCATION:Zephyr Hall\, 愛知県名古屋市中区錦3丁目14-21\, 日本
ATTACH;FMTTYPE=image/jpeg:https://zephyrhall.xyz/wp-content/uploads/2026/02/24-z-scaled.jpg
END:VEVENT
BEGIN:VEVENT
DTSTART;TZID=Asia/Tokyo:20260205T173000
DTEND;TZID=Asia/Tokyo:20260205T213000
DTSTAMP:20260425T121527
CREATED:20260201T081301Z
LAST-MODIFIED:20260330T103507Z
UID:2677-1770312600-1770327000@zephyrhall.xyz
SUMMARY:GILMWA-ギルモア- LAST主催公演『堕罪のシナリオ-Epilogue-』
DESCRIPTION:GILMWA-ギルモア- LAST主催公演『堕罪のシナリオ-Epilogue-』\n日時 2026.2.5(木)\n会場 Zephyer Hall\nOPEN/START 17:30/17:50 \nhttps://ticketdive.com/event/5XUmoOdAhXRCM78PqFmx \n前方¥3\,000\n一般¥1\,000 \n出演者\nGILMWA-ギルモア-\nUNWHITE\nBLACK ASTER\nボクとキミ\nLovin’ Collection\nReborn
URL:https://zephyrhall.xyz/event/gilmwa-%e3%82%ae%e3%83%ab%e3%83%a2%e3%82%a2-last%e4%b8%bb%e5%82%ac%e5%85%ac%e6%bc%94%e3%80%8e%e5%a0%95%e7%bd%aa%e3%81%ae%e3%82%b7%e3%83%8a%e3%83%aa%e3%82%aa-epilogue-%e3%80%8f/
LOCATION:Zephyr Hall\, 愛知県名古屋市中区錦3丁目14-21\, 日本
ATTACH;FMTTYPE=image/jpeg:https://zephyrhall.xyz/wp-content/uploads/2026/02/25-z.jpg
END:VEVENT
BEGIN:VEVENT
DTSTART;TZID=Asia/Tokyo:20260207T100000
DTEND;TZID=Asia/Tokyo:20260207T213000
DTSTAMP:20260425T121527
CREATED:20260201T081808Z
LAST-MODIFIED:20260330T103540Z
UID:2682-1770458400-1770499800@zephyrhall.xyz
SUMMARY:アイドルマリアージュVol.46～名古屋出張SP～
DESCRIPTION:アイドルマリアージュVol.46～名古屋出張SP～\n日時 2026.2.7(金)\n会場 Zephyer Hall\nOPEN/START 10:25/10:50 \nhttps://ticketdive.com/event/idolmariage_46 \n前方¥6\,000\n一般¥3\,500 \n出演者\nサクヤコノハナ\nCent Heaven\nSweet Alley\nMyDearDarlin’\nブルーなままで\n月に足跡を残した6人の少女達は一体何を見たのか…\nテラテラ\nI’mew（あいみゅう）\nHey!Mommy!\nMORE*\nBunny La Crew\nHAPPY CREATORS\nAproof\nAND CaaaLL\nPastel Closet\nべるべっとセンテンス\n四六時中ムチュー\nおちゃメンタル☆パーティー\nOS☆U\nなないろ∞ミルキーウェイ\nきっと大切だった\nミラクルファンファーレ！\nAQA\n宇宙∞プラネクシア\nアクリム\n抜けてるぐらいがちょうどいい
URL:https://zephyrhall.xyz/event/%e3%82%a2%e3%82%a4%e3%83%89%e3%83%ab%e3%83%9e%e3%83%aa%e3%82%a2%e3%83%bc%e3%82%b8%e3%83%a5vol-46%ef%bd%9e%e5%90%8d%e5%8f%a4%e5%b1%8b%e5%87%ba%e5%bc%b5sp%ef%bd%9e/
LOCATION:Zephyr Hall\, 愛知県名古屋市中区錦3丁目14-21\, 日本
ATTACH;FMTTYPE=image/jpeg:https://zephyrhall.xyz/wp-content/uploads/2026/02/27-z-TT-scaled.jpg
END:VEVENT
BEGIN:VEVENT
DTSTART;TZID=Asia/Tokyo:20260208T110000
DTEND;TZID=Asia/Tokyo:20260208T150000
DTSTAMP:20260425T121527
CREATED:20260206T081906Z
LAST-MODIFIED:20260330T103612Z
UID:2688-1770548400-1770562800@zephyrhall.xyz
SUMMARY:なみだ色の消しごむ×Sweet Alley Winter to Spring 2man Tour
DESCRIPTION:なみだ色の消しごむ×Sweet Alley Winter to Spring 2man Tour\n日時 2026.2.8(日)\n会場 Zephyer Hall\nOPEN/START 11:00/11:30 \nhttps://ticketdive.com/event/nk_sa_2mantour \n前方¥5\,000\n一般¥2\,000 \n出演者\nなみだ色の消しごむ\nSweet Alley
URL:https://zephyrhall.xyz/event/%e3%81%aa%e3%81%bf%e3%81%a0%e8%89%b2%e3%81%ae%e6%b6%88%e3%81%97%e3%81%94%e3%82%80xsweet-alley-winter-to-spring-2man-tour/
LOCATION:Zephyr Hall\, 愛知県名古屋市中区錦3丁目14-21\, 日本
ATTACH;FMTTYPE=image/jpeg:https://zephyrhall.xyz/wp-content/uploads/2026/02/28-z-1部-scaled.jpg
END:VEVENT
BEGIN:VEVENT
DTSTART;TZID=Asia/Tokyo:20260208T143000
DTEND;TZID=Asia/Tokyo:20260208T213000
DTSTAMP:20260425T121527
CREATED:20260206T082737Z
LAST-MODIFIED:20260330T103636Z
UID:2693-1770561000-1770586200@zephyrhall.xyz
SUMMARY:GIRLS☆DELIGHT#379
DESCRIPTION:GIRLS☆DELIGHT#379\n日時 2026.2.8(日)\n会場 Zephyer Hall\nOPEN/START 14:40/15:10 \nhttps://livepocket.jp/e/girls_delight379 \nS(前方)¥4\,000\nA(一般)¥2\,000 \n出演者\nTHE ENCORE\nAND CaaaLL\nOS☆U\nカリスマめんざいふっ！\nサクヤコノハナ\nSweet Alley\nCent Heaven\n月に足跡を残した少女達は一体何を見たのか…\nテラテラ\nDREAMING MONSTER\nなみだ色の消しごむ\nHIGH SPIRITS\nPretty Chuu
URL:https://zephyrhall.xyz/event/girls%e2%98%86delight379/
LOCATION:Zephyr Hall\, 愛知県名古屋市中区錦3丁目14-21\, 日本
ATTACH;FMTTYPE=application/pdf:https://zephyrhall.xyz/wp-content/uploads/2026/02/GIRLS☆DELIGHT_379.pdf
END:VEVENT
BEGIN:VEVENT
DTSTART;TZID=Asia/Tokyo:20260209T183000
DTEND;TZID=Asia/Tokyo:20260209T213000
DTSTAMP:20260425T121527
CREATED:20260206T083703Z
LAST-MODIFIED:20260330T103706Z
UID:2698-1770661800-1770672600@zephyrhall.xyz
SUMMARY:なみキュン
DESCRIPTION:なみキュン\n日時 2026.2.9(月)\n会場 Zephyer Hall\nOPEN/START 18:30/19:00 \nhttps://ticketdive.com/event/NamiKyun0209 \n優先¥4\,500\n一般¥500 \n出演者\n君に、胸キュン。\nなみだ色の消しごむ
URL:https://zephyrhall.xyz/event/%e3%81%aa%e3%81%bf%e3%82%ad%e3%83%a5%e3%83%b3/
LOCATION:Zephyr Hall\, 愛知県名古屋市中区錦3丁目14-21\, 日本
ATTACH;FMTTYPE=image/jpeg:https://zephyrhall.xyz/wp-content/uploads/2026/02/29-z.jpg
END:VEVENT
BEGIN:VEVENT
DTSTART;TZID=Asia/Tokyo:20260210T173000
DTEND;TZID=Asia/Tokyo:20260210T213000
DTSTAMP:20260425T121527
CREATED:20260206T083853Z
LAST-MODIFIED:20260330T103726Z
UID:2701-1770744600-1770759000@zephyrhall.xyz
SUMMARY:水萌なぎ卒業LIVE
DESCRIPTION:水萌なぎ卒業LIVE\n日時 2026.2.10(火)\n会場 Zephyer Hall\nOPEN/START 17:30/18:00 \nhttps://ticketdive.com/event/nagi20260210 \n優先¥3\,000\n一般¥500 \n出演者\nBeloved\nあすとりーのうさぎ\n世界で1番シンデレラ\nPULSAR_CLIMAX\n凸凹フレンズ\n天色のメロディー
URL:https://zephyrhall.xyz/event/%e6%b0%b4%e8%90%8c%e3%81%aa%e3%81%8e%e5%8d%92%e6%a5%adlive/
LOCATION:Zephyr Hall\, 愛知県名古屋市中区錦3丁目14-21\, 日本
ATTACH;FMTTYPE=image/jpeg:https://zephyrhall.xyz/wp-content/uploads/2026/02/210-z.jpg
END:VEVENT
BEGIN:VEVENT
DTSTART;TZID=Asia/Tokyo:20260211T160000
DTEND;TZID=Asia/Tokyo:20260211T203000
DTSTAMP:20260425T121527
CREATED:20260208T063346Z
LAST-MODIFIED:20260330T103751Z
UID:2706-1770825600-1770841800@zephyrhall.xyz
SUMMARY:Magi♡9 Half Anniversary Tour 君と恋するマジカルアカデミー
DESCRIPTION:Magi♡9 Half Anniversary Tour\n君と恋するマジカルアカデミー\n日時 2026.2.11(水)\n会場 Zephyer Hall\nOPEN/START 16:00/16:30 \nlivepocket.jp/e/82s4c \n優先¥5\,000\n一般¥3\,000 \n出演者\nMagi♡9
URL:https://zephyrhall.xyz/event/magi%e2%99%a19-half-anniversary-tour-%e5%90%9b%e3%81%a8%e6%81%8b%e3%81%99%e3%82%8b%e3%83%9e%e3%82%b8%e3%82%ab%e3%83%ab%e3%82%a2%e3%82%ab%e3%83%87%e3%83%9f%e3%83%bc/
LOCATION:Zephyr Hall\, 愛知県名古屋市中区錦3丁目14-21\, 日本
ATTACH;FMTTYPE=image/jpeg:https://zephyrhall.xyz/wp-content/uploads/2026/02/211-z.jpg
END:VEVENT
BEGIN:VEVENT
DTSTART;TZID=Asia/Tokyo:20260213T173000
DTEND;TZID=Asia/Tokyo:20260213T213000
DTSTAMP:20260425T121527
CREATED:20260208T064503Z
LAST-MODIFIED:20260330T103822Z
UID:2711-1771003800-1771018200@zephyrhall.xyz
SUMMARY:「MUSIC CONNECT-特別編」
DESCRIPTION:「MUSIC CONNECT-特別編」\n日時 2026.2.13(金)\n会場 Zephyer Hall\nOPEN/START 17:40/18:00 \nhttps://livepocket.jp/e/music_ex \n前売¥4\,000\n後方¥1\,000 \n出演者\nLIT\nReborn\nボクとキミ\nAOX\n20SI.\n19Si.
URL:https://zephyrhall.xyz/event/%e3%80%8cmusic-connect-%e7%89%b9%e5%88%a5%e7%b7%a8%e3%80%8d/
LOCATION:Zephyr Hall\, 愛知県名古屋市中区錦3丁目14-21\, 日本
ATTACH;FMTTYPE=image/jpeg:https://zephyrhall.xyz/wp-content/uploads/2026/02/213-z.jpg
END:VEVENT
BEGIN:VEVENT
DTSTART;TZID=Asia/Tokyo:20260214T090000
DTEND;TZID=Asia/Tokyo:20260214T230000
DTSTAMP:20260425T121527
CREATED:20260208T065236Z
LAST-MODIFIED:20260330T103856Z
UID:2716-1771059600-1771110000@zephyrhall.xyz
SUMMARY:AUR FES-バレンタインSP!! Day1-
DESCRIPTION:AUR FES-バレンタインSP!! Day1-\n日時 2026.2.14(土)\n会場 Zephyer Hall\n1部 OPEN/START 9:00/9:20\n2部 OPEN/START 15:30/15:50 \nhttps://ticketdive.com/event/AURFES-ValentineSP-Day1 \n優先¥6\,000\n一般¥2\,000\n女性¥0 \n出演者\n君に、胸キュン。\n逆転ねこぱんちっ！\nAQA\nあたまのなかは8ビット!?\nBeloved\nW.ダブルヴィー\nimage\nY∀KiN\nOS☆U\nテンシンランマン\nO₂\nシャニムニ=パレード\nアステリア\n星のカケラ\nきゅーんず！\nTHE ENCORE\n#ジューロック\nシュレーディンガーの犬
URL:https://zephyrhall.xyz/event/aur-fes-%e3%83%90%e3%83%ac%e3%83%b3%e3%82%bf%e3%82%a4%e3%83%b3sp-day1/
LOCATION:Zephyr Hall\, 愛知県名古屋市中区錦3丁目14-21\, 日本
ATTACH;FMTTYPE=image/jpeg:https://zephyrhall.xyz/wp-content/uploads/2026/02/214-z.jpg
END:VEVENT
BEGIN:VEVENT
DTSTART;TZID=Asia/Tokyo:20260215T090000
DTEND;TZID=Asia/Tokyo:20260215T220000
DTSTAMP:20260425T121527
CREATED:20260208T070300Z
LAST-MODIFIED:20260330T103918Z
UID:2721-1771146000-1771192800@zephyrhall.xyz
SUMMARY:AUR FES-バレンタインSP!! Day2-
DESCRIPTION:AUR FES-バレンタインSP!! Day2-\n日時 2026.2.15(日)\n会場 Zephyer Hall\n1部 OPEN/START 9:00/9:20\n2部 OPEN/START 17:30/17:50 \nhttps://ticketdive.com/event/AURFES-ValentineSP-Day1 \n優先¥4\,000\n一般¥1\,000 \n出演者\n逆転ねこぱんちっ！\nAQA\nあたまのなかは8ビット!?\nBeloved\nimage\nLollipop♡CHU\nOS☆U\nシュレーディンガーの犬\nきゅーんず！\nミラクルファンファーレ！\nSHIROMIZAKANA\n#ジューロック
URL:https://zephyrhall.xyz/event/aur-fes-%e3%83%90%e3%83%ac%e3%83%b3%e3%82%bf%e3%82%a4%e3%83%b3sp-day2/
LOCATION:Zephyr Hall\, 愛知県名古屋市中区錦3丁目14-21\, 日本
ATTACH;FMTTYPE=image/jpeg:https://zephyrhall.xyz/wp-content/uploads/2026/02/215-z.jpg
END:VEVENT
BEGIN:VEVENT
DTSTART;TZID=Asia/Tokyo:20260215T143000
DTEND;TZID=Asia/Tokyo:20260215T170000
DTSTAMP:20260425T121527
CREATED:20260213T125020Z
LAST-MODIFIED:20260330T103942Z
UID:2730-1771165800-1771174800@zephyrhall.xyz
SUMMARY:シンデレラに、キュン宣言♡
DESCRIPTION:シンデレラに、キュン宣言♡\n日時 2026.2.15(日)\n会場 Zephyer Hall\nOPEN/START 14:30/14:55 \nhttps://ticketdive.com/event/KyunSengen0215 \n優先¥3\,000\n一般¥1\,000\n女性¥0 \n出演者\n君に、胸キュン。\nシンデレラ宣言！
URL:https://zephyrhall.xyz/event/%e3%82%b7%e3%83%b3%e3%83%87%e3%83%ac%e3%83%a9%e3%81%ab%e3%80%81%e3%82%ad%e3%83%a5%e3%83%b3%e5%ae%a3%e8%a8%80%e2%99%a1/
LOCATION:Zephyr Hall\, 愛知県名古屋市中区錦3丁目14-21\, 日本
ATTACH;FMTTYPE=image/webp:https://zephyrhall.xyz/wp-content/uploads/2026/02/215-z-.webp
END:VEVENT
BEGIN:VEVENT
DTSTART;TZID=Asia/Tokyo:20260217T043000
DTEND;TZID=Asia/Tokyo:20260217T220000
DTSTAMP:20260425T121527
CREATED:20260217T083821Z
LAST-MODIFIED:20260330T104307Z
UID:2735-1771302600-1771365600@zephyrhall.xyz
SUMMARY:IGNITION
DESCRIPTION:IGNITION\n日時 2026.2.17(火)\n会場 Zephyer Hall\n1部 OPEN/START 16:20/16:40 \nhttps://ticketdive.com/event/IGNITION0217 \n優先¥3\,000\n一般¥900 \n出演者\nなないろ∞ミルキーウェイ\nStella!\nimage\nOS☆U\nメリーミューズ\nアクリム\nミラクルファンファーレ！\n天色のメロディー\nmofu/mofu\nsweet♡union\nめっ！\n絶望キネマ\nSHIROMIZAKANA
URL:https://zephyrhall.xyz/event/ignition-2/
LOCATION:Zephyr Hall\, 愛知県名古屋市中区錦3丁目14-21\, 日本
ATTACH;FMTTYPE=image/jpeg:https://zephyrhall.xyz/wp-content/uploads/2026/02/217-z.jpg
END:VEVENT
BEGIN:VEVENT
DTSTART;TZID=Asia/Tokyo:20260221T103000
DTEND;TZID=Asia/Tokyo:20260221T180000
DTSTAMP:20260425T121527
CREATED:20260221T011438Z
LAST-MODIFIED:20260330T104402Z
UID:2740-1771669800-1771696800@zephyrhall.xyz
SUMMARY:名古屋事変
DESCRIPTION:名古屋事変\n日時 2026.2.21(土)\n会場 Zephyer Hall\nOPEN/START 10:40/11:00 \nhttps://ticketdive.com/event/260221n \n前方¥5\,000\n一般¥0 \n出演者\nマーキュロ\nべロティカ\nクララ・マグラ\nVILLAINS HOUSE\nクライセカイ\nギミック\nセクト\nサークルライチ塾生二期\nマザリ\n神様の言う通り\nLollipop♡CHU\nSTARRY×NIGHT↗\nSiLENT←NOiSE\nSHIROMIZAKANA\nテンシンランマン
URL:https://zephyrhall.xyz/event/%e5%90%8d%e5%8f%a4%e5%b1%8b%e4%ba%8b%e5%a4%89-6/
LOCATION:Zephyr Hall\, 愛知県名古屋市中区錦3丁目14-21\, 日本
ATTACH;FMTTYPE=image/webp:https://zephyrhall.xyz/wp-content/uploads/2026/02/221-z-名古屋事変.webp
END:VEVENT
BEGIN:VEVENT
DTSTART;TZID=Asia/Tokyo:20260221T170000
DTEND;TZID=Asia/Tokyo:20260221T223000
DTSTAMP:20260425T121527
CREATED:20260221T012158Z
LAST-MODIFIED:20260330T104437Z
UID:2744-1771693200-1771713000@zephyrhall.xyz
SUMMARY:サークルライチ主催『サブカル』
DESCRIPTION:サークルライチ主催『サブカル』\n日時 2026.2.21(土)\n会場 Zephyer Hall\nOPEN/START 17:15/17:35 \nhttps://ticketdive.com/event/260221s \n前方¥5\,000\n一般¥1\,000 \n出演者\nマーキュロ\nべロティカクララ・マグラ\nVILLAINS HOUSE\nクライセカイ\nギミック\nセクト\nサークルライチ塾生二期
URL:https://zephyrhall.xyz/event/%e3%82%b5%e3%83%bc%e3%82%af%e3%83%ab%e3%83%a9%e3%82%a4%e3%83%81%e4%b8%bb%e5%82%ac%e3%80%8e%e3%82%b5%e3%83%96%e3%82%ab%e3%83%ab%e3%80%8f-5/
LOCATION:Zephyr Hall\, 愛知県名古屋市中区錦3丁目14-21\, 日本
ATTACH;FMTTYPE=image/jpeg:https://zephyrhall.xyz/wp-content/uploads/2026/02/221-2部.jpg
END:VEVENT
BEGIN:VEVENT
DTSTART;TZID=Asia/Tokyo:20260222T160000
DTEND;TZID=Asia/Tokyo:20260222T213000
DTSTAMP:20260425T121527
CREATED:20260221T021308Z
LAST-MODIFIED:20260330T104505Z
UID:2750-1771776000-1771795800@zephyrhall.xyz
SUMMARY:ななフェス(ぷち)vol.4 in NAGOYA
DESCRIPTION:ななフェス(ぷち)vol.4 in NAGOYA\n日時 2026.2.22(日)\n会場 Zephyer Hall\nOPEN/START 16:00/16:30 \nhttps://livepocket.jp/e/7fes0222 \n優先¥5\,000\n一般¥3\,500\n当日¥4\,000 \n出演者\nSE7ENTH SENSE\nALL IN\nLIT\n100STARS\nProtea*
URL:https://zephyrhall.xyz/event/%e3%81%aa%e3%81%aa%e3%83%95%e3%82%a7%e3%82%b9%e3%81%b7%e3%81%a1vol-4-in-nagoya/
LOCATION:Zephyr Hall\, 愛知県名古屋市中区錦3丁目14-21\, 日本
ATTACH;FMTTYPE=image/jpeg:https://zephyrhall.xyz/wp-content/uploads/2026/02/222-z-.jpg
END:VEVENT
BEGIN:VEVENT
DTSTART;TZID=Asia/Tokyo:20260223T110000
DTEND;TZID=Asia/Tokyo:20260223T213000
DTSTAMP:20260425T121527
CREATED:20260221T022630Z
LAST-MODIFIED:20260330T104603Z
UID:2755-1771844400-1771882200@zephyrhall.xyz
SUMMARY:旋回
DESCRIPTION:旋回\n日時 2026.2.23(月)\n会場 Zephyer Hall\nOPEN/START 11:20/11:50 \nhttps://ticketdive.com/event/senkai_0223 \n優先¥3\,500\n一般¥1\,000 \n出演者\n手羽先センセーション\n逆転ねこぱんちっ！\nAQA\nSTARRY×NIGHT↗\ncowolo\nI MY ME MINE\nミラクルファンファーレ！\nimage\nBeloved\nNEO BREAK\nQu♡AIy\n蜂蜜★皇帝\nきっと大切だった\nOS☆U\nCLANCROWN\nシャニムニ＝パレード\n#ジューロック\nみありー\nワッツ◎さーくる\nY∀KiN
URL:https://zephyrhall.xyz/event/%e6%97%8b%e5%9b%9e-3/
LOCATION:Zephyr Hall\, 愛知県名古屋市中区錦3丁目14-21\, 日本
ATTACH;FMTTYPE=image/jpeg:https://zephyrhall.xyz/wp-content/uploads/2026/02/223-z.jpg
END:VEVENT
BEGIN:VEVENT
DTSTART;TZID=Asia/Tokyo:20260224T163000
DTEND;TZID=Asia/Tokyo:20260224T213000
DTSTAMP:20260425T121527
CREATED:20260222T055832Z
LAST-MODIFIED:20260330T104630Z
UID:2760-1771950600-1771968600@zephyrhall.xyz
SUMMARY:桜空 即位(卒業)LIVE
DESCRIPTION:桜空 即位(卒業)LIVE\n日時 2026.2.24(火)\n会場 Zephyer Hall\nOPEN/START 16:30/18:00 \nhttps://ticketdive.com/event/SakuraSokuiLive0224?fc=NkQD0A54 \nVIP¥5\,000\n一般¥1\,000 \n出演者\n桜空\nプリンセス物語\nVIVE\nなないろ∞ミルキーウェイ\nアイアール
URL:https://zephyrhall.xyz/event/%e6%a1%9c%e7%a9%ba-%e5%8d%b3%e4%bd%8d%e5%8d%92%e6%a5%adlive/
LOCATION:Zephyr Hall\, 愛知県名古屋市中区錦3丁目14-21\, 日本
ATTACH;FMTTYPE=image/jpeg:https://zephyrhall.xyz/wp-content/uploads/2026/02/224-z.jpg
END:VEVENT
BEGIN:VEVENT
DTSTART;TZID=Asia/Tokyo:20260226T183000
DTEND;TZID=Asia/Tokyo:20260226T210000
DTSTAMP:20260425T121527
CREATED:20260222T060447Z
LAST-MODIFIED:20260330T104714Z
UID:2765-1772130600-1772139600@zephyrhall.xyz
SUMMARY:OS☆U定期Zephyr LIVE
DESCRIPTION:OS☆U定期Zephyr LIVE\n日時 2026.2.26(木)\n会場 Zephyer Hall\nOPEN/START 18:40/19:00 \nhttps://ticketdive.com/event/mochi0226 \n前方¥2\,000\n一般¥0 \n出演者\nOS☆U
URL:https://zephyrhall.xyz/event/os%e2%98%86u%e5%ae%9a%e6%9c%9fzephyr-live/
LOCATION:Zephyr Hall\, 愛知県名古屋市中区錦3丁目14-21\, 日本
ATTACH;FMTTYPE=image/jpeg:https://zephyrhall.xyz/wp-content/uploads/2026/02/226-z.jpg
END:VEVENT
BEGIN:VEVENT
DTSTART;TZID=Asia/Tokyo:20260227T133000
DTEND;TZID=Asia/Tokyo:20260227T223000
DTSTAMP:20260425T121527
CREATED:20260225T133139Z
LAST-MODIFIED:20260330T104738Z
UID:2769-1772199000-1772231400@zephyrhall.xyz
SUMMARY:NAGOYA GIRLS GIRLS extra!!
DESCRIPTION:NAGOYA GIRLS GIRLS extra!!\n日時 2026.2.27(金)\n会場 Zephyer Hall\nOPEN/START 13:30/13:45 \nhttps://ticketdive.com/event/ngg_0227 \n前方¥5\,000\n通常¥2\,500 \n出演者\n手羽先センセーション\nTHE ENCORE\nルルネージュ\nSAISON\n虹色の飛行少女\nMelty BeaR\nmetarium\nぜろから☆すた→と\nSTARRY×NIGHT↗︎\nSiLENT←NOiSE\nAQA\n逆転ねこぱんちっ！\nBeloved\n→Taria.\nMy:ME//OW\nTwilight BlooM.\nナト⭐カン
URL:https://zephyrhall.xyz/event/nagoya-girls-girls-extra-2/
LOCATION:Zephyr Hall\, 愛知県名古屋市中区錦3丁目14-21\, 日本
ATTACH;FMTTYPE=image/jpeg:https://zephyrhall.xyz/wp-content/uploads/2026/02/227-z-.jpg
END:VEVENT
BEGIN:VEVENT
DTSTART;TZID=Asia/Tokyo:20260228T110000
DTEND;TZID=Asia/Tokyo:20260228T223000
DTSTAMP:20260425T121527
CREATED:20260225T133912Z
LAST-MODIFIED:20260330T104807Z
UID:2775-1772276400-1772317800@zephyrhall.xyz
SUMMARY:NAGOYA GIRLS GIRLS extra!!
DESCRIPTION:NAGOYA GIRLS GIRLS extra!!\n日時 2026.2.28(土)\n会場 Zephyer Hall\nOPEN/START 11:00/11:15 \nhttps://ticketdive.com/event/ngg_0228 \n前方¥6\,000\n通常¥3\,000 \n出演者\n手羽先センセーション\nTHE ENCORE\nRiNCENT♯\nmy fav\nMelty BeaR\nぜろから☆すた→と\n踊れ！神風\nSTARRY×NIGHT↗︎\nSiLENT←NOiSE\nBeloved\nPULSAR_CLIMAX\n→Taria.\nふれふれフレーバー\n輝きぱにっく\nTwilight BlooM.\nHATEandTEARS\n幻狂デモクラシー\nMy:ME//OW\nLollipop♡CHU\nMyDresscode\nオカシリゾート\nふぇありーているず！\nAQA
URL:https://zephyrhall.xyz/event/nagoya-girls-girls-extra-3/
LOCATION:Zephyr Hall\, 愛知県名古屋市中区錦3丁目14-21\, 日本
ATTACH;FMTTYPE=image/webp:https://zephyrhall.xyz/wp-content/uploads/2026/02/228-z新.webp
END:VEVENT
BEGIN:VEVENT
DTSTART;TZID=Asia/Tokyo:20260301T110000
DTEND;TZID=Asia/Tokyo:20260301T160000
DTSTAMP:20260425T121527
CREATED:20260225T135348Z
LAST-MODIFIED:20260330T095253Z
UID:2781-1772362800-1772380800@zephyrhall.xyz
SUMMARY:『Lollipop♡Collection vol.1』
DESCRIPTION:『Lollipop♡Collection vol.1』\n日時 2026.3.1(日)\n会場 Zephyer Hall\nOPEN/START 11:00/11:20 \nhttps://ticketdive.com/event/Lollipop_C_1 \n前方¥4\,000\n一般¥0 \n出演者\nLollipop♡CHU\nOS☆U\nimage\nきっと大切だった\nBeloved\nなないろ∞ミルキーウェイ\nあたまのなかは8ビット!?\nStar☆T\nお願い!!フルハウス
URL:https://zephyrhall.xyz/event/%e3%80%8elollipop%e2%99%a1collection-vol-1%e3%80%8f/
LOCATION:Zephyr Hall\, 愛知県名古屋市中区錦3丁目14-21\, 日本
ATTACH;FMTTYPE=image/jpeg:https://zephyrhall.xyz/wp-content/uploads/2026/02/31-z-1部-scaled.jpg
END:VEVENT
END:VCALENDAR