BEGIN:VCALENDAR
VERSION:2.0
PRODID:-//ZephyrHall【ゼファーホール】 - ECPv6.15.20//NONSGML v1.0//EN
CALSCALE:GREGORIAN
METHOD:PUBLISH
X-ORIGINAL-URL:https://zephyrhall.xyz
X-WR-CALDESC:ZephyrHall【ゼファーホール】 のイベント
REFRESH-INTERVAL;VALUE=DURATION:PT1H
X-Robots-Tag:noindex
X-PUBLISHED-TTL:PT1H
BEGIN:VTIMEZONE
TZID:Asia/Tokyo
BEGIN:STANDARD
TZOFFSETFROM:+0900
TZOFFSETTO:+0900
TZNAME:JST
DTSTART:20250101T000000
END:STANDARD
END:VTIMEZONE
BEGIN:VEVENT
DTSTART;TZID=Asia/Tokyo:20260411T093000
DTEND;TZID=Asia/Tokyo:20260411T150000
DTSTAMP:20260425T045328
CREATED:20260406T113213Z
LAST-MODIFIED:20260406T113901Z
UID:3037-1775899800-1775919600@zephyrhall.xyz
SUMMARY:かなでる☆みらい
DESCRIPTION:かなでる☆みらい\n日時 2026.4.11(土)\n会場 Zephyer Hall\nOPEN/START 9:40/10:00 \nhttps://ticketdive.com/event/kanaderuMirai \n優先¥3\,600(ドリンク代¥600込み)\n一般¥2\,100(ドリンク代¥600込み) \n出演者\nぜろから☆すた→と\nSTARRY×NIGHT↗︎\nSiLENT←NOiSE\nテンシンランマン\nOS☆U\nあたまのなかは8ビット⁉︎\nLollipop♡CHU\nNO❤︎AF\nStella!\nミラクルファンファーレ！\nMATANAGOYA
URL:https://zephyrhall.xyz/event/%e3%81%8b%e3%81%aa%e3%81%a7%e3%82%8b%e2%98%86%e3%81%bf%e3%82%89%e3%81%84-10/
LOCATION:Zephyr Hall\, 愛知県名古屋市中区錦3丁目14-21\, 日本
ATTACH;FMTTYPE=image/jpeg:https://zephyrhall.xyz/wp-content/uploads/2026/04/411-1部-scaled.jpg
END:VEVENT
BEGIN:VEVENT
DTSTART;TZID=Asia/Tokyo:20260411T180000
DTEND;TZID=Asia/Tokyo:20260411T220000
DTSTAMP:20260425T045328
CREATED:20260406T114207Z
LAST-MODIFIED:20260406T114845Z
UID:3043-1775930400-1775944800@zephyrhall.xyz
SUMMARY:STARRY×NIGHT↗︎ 東名阪&台湾 TOUR THE FINAL "Night Spark Tourあの星のモノローグ"
DESCRIPTION:STARRY×NIGHT↗︎ 東名阪&台湾 TOUR THE FINAL “Night Spark Tourあの星のモノローグ”\n日時 2026.4.11(土)\n会場 Zephyer Hall\nOPEN/START 18:00/18:30 \nhttps://ticketdive.com/event/STARRYNightFinal20260411 \nS¥10\,600(ドリンク代¥600込み)\n優先¥3\,600(ドリンク代¥600込み)\n一般¥1\,600(ドリンク代¥600込み)\n女性¥1\,100(ドリンク代¥600込み) \n出演者\nSTARRY×NIGHT↗︎
URL:https://zephyrhall.xyz/event/starryxnight%e2%86%97%ef%b8%8e-%e6%9d%b1%e5%90%8d%e9%98%aa%e5%8f%b0%e6%b9%be-tour-the-final-night-spark-tour%e3%81%82%e3%81%ae%e6%98%9f%e3%81%ae%e3%83%a2%e3%83%8e%e3%83%ad%e3%83%bc%e3%82%b0/
LOCATION:Zephyr Hall\, 愛知県名古屋市中区錦3丁目14-21\, 日本
ATTACH;FMTTYPE=image/jpeg:https://zephyrhall.xyz/wp-content/uploads/2026/04/411-2部.jpg
END:VEVENT
BEGIN:VEVENT
DTSTART;TZID=Asia/Tokyo:20260412T120000
DTEND;TZID=Asia/Tokyo:20260412T193000
DTSTAMP:20260425T045328
CREATED:20260407T103422Z
LAST-MODIFIED:20260407T104353Z
UID:3049-1775995200-1776022200@zephyrhall.xyz
SUMMARY:SPROUT DANCE FEST × TEA 2026. 4.12
DESCRIPTION:SPROUT DANCE FEST × TEA 2026. 4.12\n日時 2026.4.12(日)\n会場 Zephyer Hall\nOPEN/START 12:00/12:30 \nhttps://ticketdive.com/event/SproutDanceFes0412 \n一般（高校生以上）¥3\,500(ドリンク代込)\n中学生以下チケット¥1\,000(ドリンク代込) \n出演者\nスプラウトダンスフェス出演者
URL:https://zephyrhall.xyz/event/sprout-dance-fest-x-tea-2026-4-12/
LOCATION:Zephyr Hall\, 愛知県名古屋市中区錦3丁目14-21\, 日本
ATTACH;FMTTYPE=image/png:https://zephyrhall.xyz/wp-content/uploads/2026/04/412-z.png
END:VEVENT
BEGIN:VEVENT
DTSTART;TZID=Asia/Tokyo:20260414T170000
DTEND;TZID=Asia/Tokyo:20260414T223000
DTSTAMP:20260425T045328
CREATED:20260407T104615Z
LAST-MODIFIED:20260407T104832Z
UID:3054-1776186000-1776205800@zephyrhall.xyz
SUMMARY:IGNITION
DESCRIPTION:IGNITION\n日時 2026.4.14(火)\n会場 Zephyer Hall\nOPEN/START 17:15/17:30 \nhttps://ticketdive.com/event/IGNITION0414 \n優先¥3\,500\n一般¥1\,000 \n出演者\nNO❤︎AF\nAMO million\n君へセレナーデ\nなないろ∞ミルキーウェイ\nTwilight BlooM.\nAmaryllis\nマシュマロドロップ\nROAR\nメリーミューズ\n輝きぱにっく\nみありー\nキミの主人公\nアイアール
URL:https://zephyrhall.xyz/event/ignition-6/
LOCATION:Zephyr Hall\, 愛知県名古屋市中区錦3丁目14-21\, 日本
ATTACH;FMTTYPE=image/jpeg:https://zephyrhall.xyz/wp-content/uploads/2026/04/414-z.jpg
END:VEVENT
BEGIN:VEVENT
DTSTART;TZID=Asia/Tokyo:20260416T173000
DTEND;TZID=Asia/Tokyo:20260416T213000
DTSTAMP:20260425T045328
CREATED:20260416T084018Z
LAST-MODIFIED:20260416T084018Z
UID:3060-1776360600-1776375000@zephyrhall.xyz
SUMMARY:テンラン会
DESCRIPTION:テンラン会\n日時 2026.4.16(木)\n会場 Zephyer Hall\nOPEN/START 17:30/18:00 \nhttps://ticketdive.com/event/tenrankai0416 \n前売前方¥5\,000\n前売通常¥2\,000\n前売女性¥1\,000 \n出演者\nテンシンランマン\nTHE ENCORE\n君に、胸キュン。\n手羽先センセーション
URL:https://zephyrhall.xyz/event/%e3%83%86%e3%83%b3%e3%83%a9%e3%83%b3%e4%bc%9a/
LOCATION:Zephyr Hall\, 愛知県名古屋市中区錦3丁目14-21\, 日本
ATTACH;FMTTYPE=image/jpeg:https://zephyrhall.xyz/wp-content/uploads/2026/04/416-z-scaled.jpg
END:VEVENT
BEGIN:VEVENT
DTSTART;TZID=Asia/Tokyo:20260417T180000
DTEND;TZID=Asia/Tokyo:20260417T213000
DTSTAMP:20260425T045328
CREATED:20260416T085044Z
LAST-MODIFIED:20260416T085044Z
UID:3063-1776448800-1776461400@zephyrhall.xyz
SUMMARY:ちゅ～るちゅーぶ 1st anniversary one man live 2026
DESCRIPTION:ちゅ～るちゅーぶ 1st anniversary one man live 2026\n日時 2026.4.17(金)\n会場 Zephyer Hall\nOPEN/START 18:00/19:20 \nhttps://livepocket.jp/e/lxrty \nS¥10\,000\n優先¥2\,500\n一般¥500 \n出演者\nちゅ～るちゅーぶ
URL:https://zephyrhall.xyz/event/%e3%81%a1%e3%82%85%ef%bd%9e%e3%82%8b%e3%81%a1%e3%82%85%e3%83%bc%e3%81%b6-1st-anniversary-one-man-live-2026/
LOCATION:Zephyr Hall\, 愛知県名古屋市中区錦3丁目14-21\, 日本
ATTACH;FMTTYPE=image/jpeg:https://zephyrhall.xyz/wp-content/uploads/2026/04/417-z.jpg
END:VEVENT
BEGIN:VEVENT
DTSTART;TZID=Asia/Tokyo:20260418T100000
DTEND;TZID=Asia/Tokyo:20260418T143000
DTSTAMP:20260425T045328
CREATED:20260416T085356Z
LAST-MODIFIED:20260416T085714Z
UID:3066-1776506400-1776522600@zephyrhall.xyz
SUMMARY:AUR FES
DESCRIPTION:AUR FES\n日時 2026.4.18(土)\n会場 Zephyer Hall\nOPEN/START 10:00/10:20 \nhttps://ticketdive.com/event/AURFES0418 \n優先¥3\,000\n一般¥1\,000 \n出演者\n逆転ねこぱんちっ！\nあたまのなかは8ビット！？\nimage\nPULSAR_CLIMAX\n世界で1番シンデレラ\nみありー\nアステリア\n恋セ界
URL:https://zephyrhall.xyz/event/aur-fes-2/
LOCATION:Zephyr Hall\, 愛知県名古屋市中区錦3丁目14-21\, 日本
ATTACH;FMTTYPE=image/jpeg:https://zephyrhall.xyz/wp-content/uploads/2026/04/418-z-1部.jpg
END:VEVENT
BEGIN:VEVENT
DTSTART;TZID=Asia/Tokyo:20260418T190000
DTEND;TZID=Asia/Tokyo:20260418T220000
DTSTAMP:20260425T045328
CREATED:20260416T085908Z
LAST-MODIFIED:20260416T090752Z
UID:3071-1776538800-1776549600@zephyrhall.xyz
SUMMARY:君に、胸キュン。 全国ツアー2026 バレバレ!?しーくれっちゅ♡-名古屋編②-
DESCRIPTION:君に、胸キュン。 全国ツアー2026 バレバレ!?しーくれっちゅ♡-名古屋編②-\n日時 2026.4.18(土)\n会場 Zephyer Hall\nOPEN/START 19:00/19:30 \nhttps://ticketdive.com/event/kimikyuntournagoya2 \nSS¥15\,000\nS¥2\,500\n一般¥1\,000\n君キュン始めます¥500 \n出演者\n君に、胸キュン。
URL:https://zephyrhall.xyz/event/%e5%90%9b%e3%81%ab%e3%80%81%e8%83%b8%e3%82%ad%e3%83%a5%e3%83%b3%e3%80%82-%e5%85%a8%e5%9b%bd%e3%83%84%e3%82%a2%e3%83%bc2026-%e3%83%90%e3%83%ac%e3%83%90%e3%83%ac%e3%81%97%e3%83%bc%e3%81%8f%e3%82%8c/
LOCATION:Zephyr Hall\, 愛知県名古屋市中区錦3丁目14-21\, 日本
ATTACH;FMTTYPE=image/webp:https://zephyrhall.xyz/wp-content/uploads/2026/04/418-z-2部.webp
END:VEVENT
BEGIN:VEVENT
DTSTART;TZID=Asia/Tokyo:20260419T093000
DTEND;TZID=Asia/Tokyo:20260419T220000
DTSTAMP:20260425T045328
CREATED:20260416T090943Z
LAST-MODIFIED:20260416T091517Z
UID:3076-1776591000-1776636000@zephyrhall.xyz
SUMMARY:SPARKing
DESCRIPTION:SPARKing\n日時 2026.4.19(日)\n会場 Zephyer Hall\n1部 OPEN/START 9:30/9:50\n2部 OPEN/START 19:00/19:30 \nhttps://ticketdive.com/event/sparking0419 \nVIP¥6\,500\n一般¥3\,000 \n出演者\n愛※ぱんでみっく！\nAiMEL!!-あいめる-\nAMO million\nアリビオ\nVIVE\nきっずりたーん！\nキュートアグレッションズ\n今日から推しじゃだめですか？\n金星☆ジュリエッタ\n恋セ界\nSHIROMIZAKANA\nTwilight BlooM.\n二月のハルジオン\nHATEandTEARS\nPLYDE\nprelia\nミラクルファンファーレ！\n夕凪のスピカ\nmofu/mofu
URL:https://zephyrhall.xyz/event/sparking/
LOCATION:Zephyr Hall\, 愛知県名古屋市中区錦3丁目14-21\, 日本
ATTACH;FMTTYPE=image/jpeg:https://zephyrhall.xyz/wp-content/uploads/2026/04/419-z.jpg
END:VEVENT
BEGIN:VEVENT
DTSTART;TZID=Asia/Tokyo:20260424T170000
DTEND;TZID=Asia/Tokyo:20260424T220000
DTSTAMP:20260425T045328
CREATED:20260416T092202Z
LAST-MODIFIED:20260416T092202Z
UID:3081-1777050000-1777068000@zephyrhall.xyz
SUMMARY:〜シンセレ名古屋SP〜
DESCRIPTION:〜シンセレ名古屋SP〜\n日時 2026.4.24(金)\n会場 Zephyer Hall\nOPEN/START 17:15/17:45 \nhttps://livepocket.jp/e/r708d \n前売¥5\,000\n当日¥5\,500 \n出演者\nSUPER FANTASY\nProtea*\nTHE超BOYS\n真夜中のサーカス\nYikeS\nON FLEEK
URL:https://zephyrhall.xyz/event/%e3%80%9c%e3%82%b7%e3%83%b3%e3%82%bb%e3%83%ac%e5%90%8d%e5%8f%a4%e5%b1%8bsp%e3%80%9c/
LOCATION:Zephyr Hall\, 愛知県名古屋市中区錦3丁目14-21\, 日本
ATTACH;FMTTYPE=image/png:https://zephyrhall.xyz/wp-content/uploads/2026/04/424-z-scaled.png
END:VEVENT
BEGIN:VEVENT
DTSTART;TZID=Asia/Tokyo:20260425T170000
DTEND;TZID=Asia/Tokyo:20260425T213000
DTSTAMP:20260425T045328
CREATED:20260421T100846Z
LAST-MODIFIED:20260421T101150Z
UID:3084-1777136400-1777152600@zephyrhall.xyz
SUMMARY:LIT ワンマンライブ〜Luminous Ink Treasure〜
DESCRIPTION:LIT ワンマンライブ〜Luminous Ink Treasure〜\n日時 2026.4.25(土)\n会場 Zephyer Hall\nOPEN/START 16:00/17:00 \nhttps://livepocket.jp/e/g3lri \n一般¥5\,500 \n出演者\nLIT
URL:https://zephyrhall.xyz/event/lit-%e3%83%af%e3%83%b3%e3%83%9e%e3%83%b3%e3%83%a9%e3%82%a4%e3%83%96%e3%80%9cluminous-ink-treasure%e3%80%9c/
LOCATION:Zephyr Hall\, 愛知県名古屋市中区錦3丁目14-21\, 日本
ATTACH;FMTTYPE=image/jpeg:https://zephyrhall.xyz/wp-content/uploads/2026/04/425-z.jpg
END:VEVENT
BEGIN:VEVENT
DTSTART;TZID=Asia/Tokyo:20260426T093000
DTEND;TZID=Asia/Tokyo:20260426T160000
DTSTAMP:20260425T045328
CREATED:20260421T101521Z
LAST-MODIFIED:20260421T102003Z
UID:3089-1777195800-1777219200@zephyrhall.xyz
SUMMARY:AUR FES
DESCRIPTION:AUR FES\n日時 2026.4.26(日)\n会場 Zephyer Hall\nOPEN/START 9:30/9:50 \nhttps://ticketdive.com/event/AURFES0426 \n優先¥4\,000\n一般¥1\,500 \n出演者\nシンデレラ宣言！\nテンシンランマン\nきゅーんず！\nミラクルファンファーレ！\nみありー\nY∀KiN\nTwilight BlooM.\nなないろ∞ミルキーウェイ\nNO♡AF\nぜろから☆すた→と\nSHIROMIZAKANA
URL:https://zephyrhall.xyz/event/aur-fes-3/
LOCATION:Zephyr Hall\, 愛知県名古屋市中区錦3丁目14-21\, 日本
ATTACH;FMTTYPE=image/jpeg:https://zephyrhall.xyz/wp-content/uploads/2026/04/426-z-1部.jpg
END:VEVENT
BEGIN:VEVENT
DTSTART;TZID=Asia/Tokyo:20260426T163000
DTEND;TZID=Asia/Tokyo:20260426T220000
DTSTAMP:20260425T045328
CREATED:20260421T102318Z
LAST-MODIFIED:20260421T102559Z
UID:3094-1777221000-1777240800@zephyrhall.xyz
SUMMARY:AUR FES
DESCRIPTION:AUR FES\n日時 2026.4.26(日)\n会場 Zephyer Hall\nOPEN/START 16:30/16:50 \nhttps://ticketdive.com/event/AURFES0426 \n優先¥3\,500\n一般¥1\,500 \n出演者\n逆転ねこぱんちっ！\nAQA\nきゅーんず！\nOS☆U\nみありー\nLollipop♡CHU\nなんキニ！\nBURLESQUE TS
URL:https://zephyrhall.xyz/event/aur-fes-4/
LOCATION:Zephyr Hall\, 愛知県名古屋市中区錦3丁目14-21\, 日本
ATTACH;FMTTYPE=image/jpeg:https://zephyrhall.xyz/wp-content/uploads/2026/04/426-z-2部.jpg
END:VEVENT
BEGIN:VEVENT
DTSTART;TZID=Asia/Tokyo:20260427T183000
DTEND;TZID=Asia/Tokyo:20260427T210000
DTSTAMP:20260425T045328
CREATED:20260421T103344Z
LAST-MODIFIED:20260421T103344Z
UID:3099-1777314600-1777323600@zephyrhall.xyz
SUMMARY:OS☆U定期Zephyr LIVE
DESCRIPTION:OS☆U定期Zephyr LIVE\n日時 2026.4.27(月)\n会場 Zephyer Hall\nOPEN/START 18:30/18:50 \nhttps://ticketdive.com/event/OSU0427 \nVIP¥9\,400\n撮影¥9\,000\n前方¥3\,500\n一般¥0 \n出演者\n橘華夜\n水沢桃々\n幸村望叶\n秋原かなみ\n桃川ひの\n佐伯茉菜美\n幸村一花\n花咲璃里華\n桜井夏凛\n桜木あんな
URL:https://zephyrhall.xyz/event/os%e2%98%86u%e5%ae%9a%e6%9c%9fzephyr-live-2/
LOCATION:Zephyr Hall\, 愛知県名古屋市中区錦3丁目14-21\, 日本
ATTACH;FMTTYPE=image/jpeg:https://zephyrhall.xyz/wp-content/uploads/2026/04/427-z.jpg
END:VEVENT
BEGIN:VEVENT
DTSTART;TZID=Asia/Tokyo:20260428T173000
DTEND;TZID=Asia/Tokyo:20260428T223000
DTSTAMP:20260425T045328
CREATED:20260421T103714Z
LAST-MODIFIED:20260421T105117Z
UID:3102-1777397400-1777415400@zephyrhall.xyz
SUMMARY:PULSAR_CLIMAX 椎名ゆい生誕祭2026
DESCRIPTION:PULSAR_CLIMAX 椎名ゆい生誕祭2026\n日時 2026.4.28(火)\n会場 Zephyer Hall\nOPEN/START 17:30/17:55 \nhttps://ticketdive.com/event/pF20tCHPbmK5ajCx3kR3 \n優先¥2\,500\n一般¥500 \n出演者\nPULSAR_CLIMAX\nimage\nBeloved\nあすとりーのうさぎ\nNO❤︎AF\n世界で1番シンデレラ\nナト☆カン\n天色のメロディー\nTwilight BlooM.
URL:https://zephyrhall.xyz/event/pulsar_climax-%e6%a4%8e%e5%90%8d%e3%82%86%e3%81%84%e7%94%9f%e8%aa%95%e7%a5%ad2026/
LOCATION:Zephyr Hall\, 愛知県名古屋市中区錦3丁目14-21\, 日本
ATTACH;FMTTYPE=image/jpeg:https://zephyrhall.xyz/wp-content/uploads/2026/04/428-z.jpg
END:VEVENT
BEGIN:VEVENT
DTSTART;TZID=Asia/Tokyo:20260429T110000
DTEND;TZID=Asia/Tokyo:20260429T203000
DTSTAMP:20260425T045328
CREATED:20260421T105639Z
LAST-MODIFIED:20260421T142852Z
UID:3107-1777460400-1777494600@zephyrhall.xyz
SUMMARY:『PrettyChuu全国ツアー♡日本のChuu心 君とtravel！ぷりちゅーふらいとっ！』
DESCRIPTION:『PrettyChuu全国ツアー♡日本のChuu心 君とtravel！ぷりちゅーふらいとっ！』\n日時 2026.4.29(水)\n会場 Zephyer Hall\n1部 OPEN/START 11:00/11:45\n2部 OPEN/START 16:15/17:00 \nhttps://livepocket.jp/e/prettychuu_429 \nS¥13\,000\nA¥3\,000\nB(学生)¥500 \n出演者\nPretty Chuu
URL:https://zephyrhall.xyz/event/%e3%80%8eprettychuu%e5%85%a8%e5%9b%bd%e3%83%84%e3%82%a2%e3%83%bc%e2%99%a1%e6%97%a5%e6%9c%ac%e3%81%aechuu%e5%bf%83-%e5%90%9b%e3%81%a8travel%ef%bc%81%e3%81%b7%e3%82%8a%e3%81%a1%e3%82%85%e3%83%bc/
LOCATION:Zephyr Hall\, 愛知県名古屋市中区錦3丁目14-21\, 日本
ATTACH;FMTTYPE=image/jpeg:https://zephyrhall.xyz/wp-content/uploads/2026/04/429-z.jpg
END:VEVENT
END:VCALENDAR