BEGIN:VCALENDAR
VERSION:2.0
PRODID:-//ZephyrHall【ゼファーホール】 - ECPv6.15.20//NONSGML v1.0//EN
CALSCALE:GREGORIAN
METHOD:PUBLISH
X-ORIGINAL-URL:https://zephyrhall.xyz
X-WR-CALDESC:ZephyrHall【ゼファーホール】 のイベント
REFRESH-INTERVAL;VALUE=DURATION:PT1H
X-Robots-Tag:noindex
X-PUBLISHED-TTL:PT1H
BEGIN:VTIMEZONE
TZID:Asia/Tokyo
BEGIN:STANDARD
TZOFFSETFROM:+0900
TZOFFSETTO:+0900
TZNAME:JST
DTSTART:20240101T000000
END:STANDARD
END:VTIMEZONE
BEGIN:VEVENT
DTSTART;TZID=Asia/Tokyo:20250905T113000
DTEND;TZID=Asia/Tokyo:20250905T223000
DTSTAMP:20260425T122552
CREATED:20250905T011927Z
LAST-MODIFIED:20250905T011927Z
UID:1964-1757071800-1757111400@zephyrhall.xyz
SUMMARY:NAGOYA GIRLS GIRLS extra!!
DESCRIPTION:9/5(金)\nNAGOYA GIRLS GIRLS extra!! \n会場：Zephyr Hall\n開場：11:40\n開演：12:00 \n料金：前方5000円 通常2000円 当日+1000円\n(入場時1ドリンク必須) \nhttps://ticketdive.com/event/ngg_0905 \n出演者\n手羽先センセーション / MADMED / TEAR DROP! / THE ENCORE / サクヤコノハナ / #ジューロック / シャニムニ＝パレード / Melty BeaR / MyDresscode / 蜜兎 / ぜろから☆すた→と / ナト☆カン / めっ！ / アステリア / STARRY×NIGHT↗︎ / SiLENT←NOiSE / 夏空のオリオン / MiX BeRRY / 輝きぱにっく / 8°世界が変われば、 / むげんこんぜ / Beloved / ドゥラ・ムーン / HATEandTEARS / Tiara Palette \n■主催：GIRLS GIRLS 事務局\n■企画：株式会社R&D\n■制作：株式会社R&D
URL:https://zephyrhall.xyz/event/nagoya-girls-girls-extra/
LOCATION:Zephyr Hall\, 愛知県名古屋市中区錦3丁目14-21\, 日本
ATTACH;FMTTYPE=image/webp:https://zephyrhall.xyz/wp-content/uploads/2025/09/wWGrU5hKC34GVkZquhEE_167127_1756530031136.webp
END:VEVENT
BEGIN:VEVENT
DTSTART;TZID=Asia/Tokyo:20250906T103000
DTEND;TZID=Asia/Tokyo:20250906T213000
DTSTAMP:20260425T122552
CREATED:20250905T043717Z
LAST-MODIFIED:20250905T043717Z
UID:1967-1757154600-1757194200@zephyrhall.xyz
SUMMARY:NAGOYA DREAMBOX DAY1
DESCRIPTION:公演日時\n2025/9/6(土)\n開場時刻 10:30 / 開演時刻 10:50\n会場\nZephyr HALL\n出演\nLって何のLですか？ / 青山Rabness / 神薙-時うさぎ- / ガブっと！ひゃっきおとめ / wonderchannel / 輝きぱにっく / 学歴の暴力 / AMO million / Fortuness / TIGHT / スプラウト学園名古屋 / リリシック学園 / ふれふれフレーバー / FandL / Tool to / 異次元ポケットドール / 星屑ラビリンス / Quest Ship / ビビきたッ！！ / More Sisters / 宝石娘 / 今日から推しじゃだめですか？ / アイドル教室NEW / きみぷり / なうろ〜でぃんぐ！ / Amaryllis / Love it ice \nhttps://ticketdive.com/event/DREAMBOX0906-ZephyrHALL
URL:https://zephyrhall.xyz/event/nagoya-dreambox-day1/
LOCATION:Zephyr Hall\, 愛知県名古屋市中区錦3丁目14-21\, 日本
ATTACH;FMTTYPE=image/webp:https://zephyrhall.xyz/wp-content/uploads/2025/09/Knf5WNBsh2bKOneV1mDy_202508291523371756481017818.webp
END:VEVENT
BEGIN:VEVENT
DTSTART;TZID=Asia/Tokyo:20250907T103000
DTEND;TZID=Asia/Tokyo:20250907T213000
DTSTAMP:20260425T122552
CREATED:20250905T043820Z
LAST-MODIFIED:20250905T043820Z
UID:1970-1757241000-1757280600@zephyrhall.xyz
SUMMARY:NAGOYA DREAMBOX DAY2
DESCRIPTION:公演日時\n2025/9/7(日)\n開場時刻 10:30 / 開演時刻 10:50\n会場\nZephyr HALL\n出演\nLって何のLですか？ / 青山Rabness / Ｏ₂ / ふるふるしっぽ？ / ガブっと！ひゃっきおとめ / wonderchannel / 学歴の暴力 / AMO million / Fortuness / Route258 / スプラウト学園名古屋 / このアイドルはフィクションです。 / SnowComplex / キミの主人公 / Tool to / FandL / フロアキッチン。 / 星屑ラビリンス / Quest Ship / ビビきたッ！！ / More Sisters / ハウツー世界征服 / LuvHz / ちゅ～るちゅーぶ / 雨宮ここ / 白川ゆな / アイドル教室NEW / アイｘレク / ふぁいなるえぴろーぐ \nhttps://ticketdive.com/event/DREAMBOX0907-ZephyrHALL
URL:https://zephyrhall.xyz/event/nagoya-dreambox-day2/
LOCATION:Zephyr Hall\, 愛知県名古屋市中区錦3丁目14-21\, 日本
ATTACH;FMTTYPE=image/jpeg:https://zephyrhall.xyz/wp-content/uploads/2025/09/messageImage_1756545206568-scaled.jpg
END:VEVENT
BEGIN:VEVENT
DTSTART;TZID=Asia/Tokyo:20250910T150000
DTEND;TZID=Asia/Tokyo:20250910T210000
DTSTAMP:20260425T122552
CREATED:20250913T003914Z
LAST-MODIFIED:20250913T003914Z
UID:1973-1757516400-1757538000@zephyrhall.xyz
SUMMARY:MA55IVE THE RAMPAGE 2nd Album『EMPIRE CODE』リリース記念イベント
DESCRIPTION:▼2025/9/10(水)\n[愛知] Zephyr Hall\n〒460-0003 愛知県名古屋市中区錦3丁目14-21 Zephyr Hall \nTOP \n\n※会場へのお問い合わせはご遠慮ください。 \nCD販売時間：9:30～会場特設ブースにて\n※販売開始時刻が予告なしに変更になる場合がございます。\n※各特典会抽選および参加券、抽選券の発行は予定数量に達し次第、早期に終了する場合がございます。予めご了承ください。\n※会場の状況や運営上の理由により一時的に販売を中断する場合もございます。ご了承ください。\n※混雑状況等により予定が変更になる場合がございます。\n※ご購入後のキャンセル、商品の変更や返金、数量の変更、参加ご希望イベントの変更は、理由を問わずお受け付けいたしかねます。 \n＜1部＞\nOPEN15:00 / START15:30 \n＜2部＞\nOPEN18:00 / START18:30\n※各部90分予定
URL:https://zephyrhall.xyz/event/ma55ive-the-rampage-2nd-album%e3%80%8eempire-code%e3%80%8f%e3%83%aa%e3%83%aa%e3%83%bc%e3%82%b9%e8%a8%98%e5%bf%b5%e3%82%a4%e3%83%99%e3%83%b3%e3%83%88/
LOCATION:Zephyr Hall\, 愛知県名古屋市中区錦3丁目14-21\, 日本
END:VEVENT
BEGIN:VEVENT
DTSTART;TZID=Asia/Tokyo:20250913T103000
DTEND;TZID=Asia/Tokyo:20250913T213000
DTSTAMP:20260425T122552
CREATED:20250913T004056Z
LAST-MODIFIED:20250913T004056Z
UID:1975-1757759400-1757799000@zephyrhall.xyz
SUMMARY:idol FES@Zephyr
DESCRIPTION:idol FES @ Zephyr\n〜まだまだ暑いし、アイドルは熱い！〜\n《日程》\n2025/9月13日（土）\n《場所》　\nZephyr Hall\n《時間》\n-１部-\n10:30 開場　11:00 開演\nhttps://tiget.net/events/427683\n-２部-\n16:15 開場　16:35 開演\nhttps://tiget.net/events/427685\n《料金》\nVIPエリア\n予約5000円（1D別）/当日6000円（1D別）\nAエリア\n予約2500円（1D別）/当日3000円（1D別）
URL:https://zephyrhall.xyz/event/idol-feszephyr/
LOCATION:Zephyr Hall\, 愛知県名古屋市中区錦3丁目14-21\, 日本
ATTACH;FMTTYPE=image/jpeg:https://zephyrhall.xyz/wp-content/uploads/2025/09/S__11894788_0.jpg
END:VEVENT
BEGIN:VEVENT
DTSTART;TZID=Asia/Tokyo:20250914T110000
DTEND;TZID=Asia/Tokyo:20250914T153000
DTSTAMP:20260425T122552
CREATED:20250913T004237Z
LAST-MODIFIED:20250913T004237Z
UID:1978-1757847600-1757863800@zephyrhall.xyz
SUMMARY:TSUYOSHI生誕祭2025 前昼祭
DESCRIPTION:TSUYOSHI生誕祭2025 前昼祭 \n2025年9月14日（日） \n▪️OPEN 11:00　 START 11:20 \n▪️会場\nZephyr Hall \n▪️料金\n￥2\,900＋D代 \n※スクショ画面禁止 \n出演者\niPASS / Gogosan -553- / ボクとキミ / Reborn / INLIMICTION / キミだけの天使！ \nhttps://tiget.net/events/425999
URL:https://zephyrhall.xyz/event/tsuyoshi%e7%94%9f%e8%aa%95%e7%a5%ad2025-%e5%89%8d%e6%98%bc%e7%a5%ad/
LOCATION:Zephyr Hall\, 愛知県名古屋市中区錦3丁目14-21\, 日本
ATTACH;FMTTYPE=image/jpeg:https://zephyrhall.xyz/wp-content/uploads/2025/09/b5de0683-f644-48cb-b697-d5ae5d176c25.jpeg
END:VEVENT
BEGIN:VEVENT
DTSTART;TZID=Asia/Tokyo:20250914T160000
DTEND;TZID=Asia/Tokyo:20250914T213000
DTSTAMP:20260425T122552
CREATED:20250913T004345Z
LAST-MODIFIED:20250913T004345Z
UID:1981-1757865600-1757885400@zephyrhall.xyz
SUMMARY:iPASS TSUYOSHI生誕祭2025
DESCRIPTION:iPASS TSUYOSHI生誕祭2025 \n2025年9月14日（日） \n▪️OPEN 16：00　 START 16：20 \n▪️会場\nZephyr Hall \n▪️料金\n￥3\,400＋D代 \n※スクショ画面禁止\n※お目当てグループ選択必須 \n出演者\niPASS / Gogosan -553- / ボクとキミ / Reborn / キミだけの天使！ / UNWHITE / INLIMICTION \nhttps://tiget.net/events/426370
URL:https://zephyrhall.xyz/event/ipass-tsuyoshi%e7%94%9f%e8%aa%95%e7%a5%ad2025/
LOCATION:Zephyr Hall\, 愛知県名古屋市中区錦3丁目14-21\, 日本
ATTACH;FMTTYPE=image/jpeg:https://zephyrhall.xyz/wp-content/uploads/2025/09/f80ee492-e73c-409f-b7e4-a85f925bff17.jpeg
END:VEVENT
BEGIN:VEVENT
DTSTART;TZID=Asia/Tokyo:20250915T120000
DTEND;TZID=Asia/Tokyo:20250915T180000
DTSTAMP:20260425T122552
CREATED:20250913T004453Z
LAST-MODIFIED:20250913T004453Z
UID:1984-1757937600-1757959200@zephyrhall.xyz
SUMMARY:SPROUT DANCE FES supported by AI Tech Solutions
DESCRIPTION:◼️タイトル：SPROUT DANCE FES supported by AI Tech Solutions\n◼️日程：2025年9月15日(祝月)\n◼️会場：名古屋栄Zephyr Hall\n◼️時間：12:00~18:00頃\n◼️料金：一般3\,500円/中学生以下1\,000円(各1D込)\n※小学生以上チケット必要 \n・SPROUT DANCE FES supported by AI Tech Solutions(8/18、18時発売）\n https://t.livepocket.jp/e/hbbrs
URL:https://zephyrhall.xyz/event/sprout-dance-fes-supported-by-ai-tech-solutions/
LOCATION:Zephyr Hall\, 愛知県名古屋市中区錦3丁目14-21\, 日本
ATTACH;FMTTYPE=image/jpeg:https://zephyrhall.xyz/wp-content/uploads/2025/09/jHxII6HrQgVDXh1HJfSZpOl48AZkBOBlB7171qbKruMNtNRt3fUSJrNskMu89fmP-scaled.jpeg
END:VEVENT
BEGIN:VEVENT
DTSTART;TZID=Asia/Tokyo:20250918T170000
DTEND;TZID=Asia/Tokyo:20250918T213000
DTSTAMP:20260425T122552
CREATED:20250918T063217Z
LAST-MODIFIED:20250918T063217Z
UID:1987-1758214800-1758231000@zephyrhall.xyz
SUMMARY:大須コンカフェスタ4
DESCRIPTION:出演者	mofu/mofu \, project muse \, リボンの宮殿カフェ \, リボンの古城カフェ \, シャルロッテ \, SHUGAR&SPICE \, EclaiR \, DcD\n日　程\n2025/9/18(木)\n開演日時 17:30　\n会　場\nzephyr hall (愛知県)\n販売元\nmofu/mofu \nhttps://t.livepocket.jp/e/va37u
URL:https://zephyrhall.xyz/event/%e5%a4%a7%e9%a0%88%e3%82%b3%e3%83%b3%e3%82%ab%e3%83%95%e3%82%a7%e3%82%b9%e3%82%bf4/
LOCATION:Zephyr Hall\, 愛知県名古屋市中区錦3丁目14-21\, 日本
ATTACH;FMTTYPE=image/jpeg:https://zephyrhall.xyz/wp-content/uploads/2025/09/QyOCvhUyhPUeUsMvCpQ6Ctx9tW7sO06hG96Hm3ayLy4HBmXuBujlMGpplpaqstAQ-scaled.jpeg
END:VEVENT
BEGIN:VEVENT
DTSTART;TZID=Asia/Tokyo:20250919T180000
DTEND;TZID=Asia/Tokyo:20250919T210000
DTSTAMP:20260425T122552
CREATED:20250918T115957Z
LAST-MODIFIED:20250918T115957Z
UID:1990-1758304800-1758315600@zephyrhall.xyz
SUMMARY:OS☆U 定期LIVE at Zephyr Hall〜INISHIE〜
DESCRIPTION:【日時】\n9月19日(金)\n18:15　OPEN\n18:45　START  \n【会場】\nZephyr Hall\n〒460-0003\n愛知県名古屋市中区錦３丁目１４−２１ \n【チケット】\n前方エリア\n2\,000円(別途1D) \n一般\n0円(別途1D) \n【当日券】\n前方エリア\n3\,000円(別途1D) \n一般\n500円(別途1D) \n入場順\n前方エリア→一般 \nチケットはこちら\nhttps://t.livepocket.jp/e/60nmo \n販売期間\n2025年07月23日(水) 21:00  〜  2025年09月19日(金) 18:00 \n【OS☆U 出演メンバー】\n香田リン/ 出雲やえ/水沢桃々 / 幸村望叶/ 秋原かなみ/ 佐伯茉菜美/ 桃川ひの/幸村一花/橘華夜/花咲璃里華\n※メンバーは急遽変更になる場合がございます。
URL:https://zephyrhall.xyz/event/os%e2%98%86u-%e5%ae%9a%e6%9c%9flive-at-zephyr-hall%e3%80%9cinishie%e3%80%9c/
LOCATION:Zephyr Hall\, 愛知県名古屋市中区錦3丁目14-21\, 日本
ATTACH;FMTTYPE=image/jpeg:https://zephyrhall.xyz/wp-content/uploads/2025/09/XnWKY1chPbm9RFBsNwSRpswwCDVHEm1rJ3sQfpAR2iZxY0fWCwjtII7LkumgfpEW.jpeg
END:VEVENT
BEGIN:VEVENT
DTSTART;TZID=Asia/Tokyo:20250920T110000
DTEND;TZID=Asia/Tokyo:20250920T213000
DTSTAMP:20260425T122552
CREATED:20250920T004255Z
LAST-MODIFIED:20250920T004255Z
UID:1993-1758366000-1758403800@zephyrhall.xyz
SUMMARY:GIRLS☆DELIGHT#357
DESCRIPTION:『GIRLS☆DELIGHT#357』 \n会場：Zephyr Hall\n時間：開場11:00/開演11:20\n料金：S(前方エリア)¥3\,000/A(後方エリア)︎¥1\,000/各当日+¥1\,000\n※入場時別途1D代必要\n※ご本人様確認書類必須\n※再入場可\n※録画・録音・撮影禁止\n※入場順：①S整理番号順→②S当日券整列順→③A整理番号順→④A当日券整列順 \n出演者(五十音順)：アステリア / UPローチ / Ep:ChouChou / OS☆U / Ｏ₂ / カリスマめんざいふっ！ / Qu♡Aly / 金星☆ジュリエッタ / CLEAR’S / サクヤコノハナ / 新生★大阪24区ガールズ / Cent Heaven / DREAMING MONSTER / ナト☆カン / NEO BREAK / HIGH SPIRITS / P-Loco / マイノリティアラート / めっ！ / Y∀KiN / 4次元コンパス / Re:Clash  / LOTUS MARRY / Lollipop♡CHU \n※開場30分前頃より整列開始。\n※お一人様お申込みは1回のみ \nチケット：https://t.livepocket.jp/e/girls_delight357\n販売期間：9月4日(木)22:00〜9月20日(土)8:00
URL:https://zephyrhall.xyz/event/girls%e2%98%86delight357/
LOCATION:Zephyr Hall\, 愛知県名古屋市中区錦3丁目14-21\, 日本
ATTACH;FMTTYPE=image/jpeg:https://zephyrhall.xyz/wp-content/uploads/2025/09/G046YbYaQAIUopg-scaled.jpeg
END:VEVENT
BEGIN:VEVENT
DTSTART;TZID=Asia/Tokyo:20250921T100000
DTEND;TZID=Asia/Tokyo:20250921T190000
DTSTAMP:20260425T122552
CREATED:20250920T004430Z
LAST-MODIFIED:20250920T004430Z
UID:1996-1758448800-1758481200@zephyrhall.xyz
SUMMARY:名古屋事変
DESCRIPTION:公演日時\n2025/9/21(日)\n開場時刻 10:10 / 開演時刻 10:30\n会場\nZephyr Hall\n出演\nマーキュロ / ベロティカ / ギミック / セクト / テンシンランマン / マザリ / めっ！ / STARRY×NIGHT↗︎ / SHOWDOWN / 蜜兎 / 夏空のオリオン / AQA / 逆転ねこぱんちっ！ / MATANAGOYA / SnowComp/ex \nhttps://ticketdive.com/event/250921n
URL:https://zephyrhall.xyz/event/%e5%90%8d%e5%8f%a4%e5%b1%8b%e4%ba%8b%e5%a4%89-4/
LOCATION:Zephyr Hall\, 愛知県名古屋市中区錦3丁目14-21\, 日本
ATTACH;FMTTYPE=image/png:https://zephyrhall.xyz/wp-content/uploads/2025/09/スクリーンショット-2025-09-20-9.43.56.png
END:VEVENT
BEGIN:VEVENT
DTSTART;TZID=Asia/Tokyo:20250921T180000
DTEND;TZID=Asia/Tokyo:20250921T213000
DTSTAMP:20260425T122552
CREATED:20250920T004557Z
LAST-MODIFIED:20250920T004557Z
UID:1999-1758477600-1758490200@zephyrhall.xyz
SUMMARY:サークルライチ主催『サブカル』
DESCRIPTION:公演日時\n2025/9/21(日)\n開場時刻 17:40 / 開演時刻 18:00\n会場\nZephyr Hall\n出演\nマーキュロ / ベロティカ / ギミック / セクト \nhttps://ticketdive.com/event/250921z
URL:https://zephyrhall.xyz/event/%e3%82%b5%e3%83%bc%e3%82%af%e3%83%ab%e3%83%a9%e3%82%a4%e3%83%81%e4%b8%bb%e5%82%ac%e3%80%8e%e3%82%b5%e3%83%96%e3%82%ab%e3%83%ab%e3%80%8f-4/
LOCATION:Zephyr Hall\, 愛知県名古屋市中区錦3丁目14-21\, 日本
ATTACH;FMTTYPE=image/jpeg:https://zephyrhall.xyz/wp-content/uploads/2025/09/S__7028743_0.jpg
END:VEVENT
BEGIN:VEVENT
DTSTART;TZID=Asia/Tokyo:20250923T110000
DTEND;TZID=Asia/Tokyo:20250923T213000
DTSTAMP:20260425T122552
CREATED:20250921T015940Z
LAST-MODIFIED:20250921T015940Z
UID:2002-1758625200-1758663000@zephyrhall.xyz
SUMMARY:iDOL BANQUET in ZephyrHall
DESCRIPTION:9月23日（火祝）\n「iDOL BANQUET in ZephyrHall」\n【出演】\n《BOYS》UNWHITE／カラフルダイヤモンド／STELLAθ／ボイメンエリア研究生／Merry Bad End／LIT／\n《GIRLS》IDOL★ST∀R MINE／アクリム／Ep:ChouChou／Ｏ₂／お願い!!フルハウス／きっと大切だった／グランダルメ／CLEAR’S／SAKURA GRADUATION／Star☆T／SnowComp/ex／溺愛／dela／ブルーなままで／MERUCHU／Lovelys／らじお女子／Re:Clash／Lollipop♡CHU\n【料金】\n◆前方優先エリア入場前売￥4\,000\n（前方優先エリア入場販売開始日：9月2日（火）20:00～9月23日（火祝）11:00）\n◆一般エリア入場前売￥2\,000\n（前方優先エリア入場販売開始日：9月2日（火）20:30～9月23日（火祝）11:00）\n◆当日各エリア＋￥1\,000\n【会場】Zephyr Hall（〒460-0003 名古屋市中区錦3-14-21） \nhttps://t.livepocket.jp/e/j24n6
URL:https://zephyrhall.xyz/event/idol-banquet-in-zephyrhall/
LOCATION:Zephyr Hall\, 愛知県名古屋市中区錦3丁目14-21\, 日本
ATTACH;FMTTYPE=image/jpeg:https://zephyrhall.xyz/wp-content/uploads/2025/09/S__46227498_0_0.jpg
END:VEVENT
BEGIN:VEVENT
DTSTART;TZID=Asia/Tokyo:20250927T110000
DTEND;TZID=Asia/Tokyo:20250927T163000
DTSTAMP:20260425T122552
CREATED:20250926T120033Z
LAST-MODIFIED:20250926T120033Z
UID:2009-1758970800-1758990600@zephyrhall.xyz
SUMMARY:兎月りん生誕祭2025
DESCRIPTION:兎月りん生誕祭2025\n9月27日(土) in Zephyrhall\n11:00　OPEN / 11:50 START\n?\n・生誕VIPチケット　¥15\,000+D\n(特典：さおりんユニットチェキ、20秒動画、フォトブック、さおりんコラボREC音源)\n・優先エリア ¥2\,400+D\n・一般チケット ￥1\,000+D \nhttps://t.livepocket.jp/e/rin0927
URL:https://zephyrhall.xyz/event/%e5%85%8e%e6%9c%88%e3%82%8a%e3%82%93%e7%94%9f%e8%aa%95%e7%a5%ad2025/
LOCATION:Zephyr Hall\, 愛知県名古屋市中区錦3丁目14-21\, 日本
ATTACH;FMTTYPE=image/jpeg:https://zephyrhall.xyz/wp-content/uploads/2025/09/S__15351868_0.jpg
END:VEVENT
BEGIN:VEVENT
DTSTART;TZID=Asia/Tokyo:20250927T170000
DTEND;TZID=Asia/Tokyo:20250927T220000
DTSTAMP:20260425T122552
CREATED:20250926T115927Z
LAST-MODIFIED:20250926T115927Z
UID:2006-1758992400-1759010400@zephyrhall.xyz
SUMMARY:AMOmillion定期公演vol.6 ~塩味のい誕生日SP~
DESCRIPTION:AMOmillion定期公演vol.6\n塩味のいちゃん誕生日SP\n9月27日(土) in Zephyrhall\n16:45　OPEN / 17:10 START \n・生誕VIPチケット　¥10\,000+D\n(特典：最前エリア、あもみり集合チェキ（ランダム）、20秒動画、のいちゃんからのメセカ)\n・優先エリア ¥3\,000+D\n・一般チケット ￥900+D \nhttps://t.livepocket.jp/e/noi0927
URL:https://zephyrhall.xyz/event/amomillion%e5%ae%9a%e6%9c%9f%e5%85%ac%e6%bc%94vol-6-%e5%a1%a9%e5%91%b3%e3%81%ae%e3%81%84%e8%aa%95%e7%94%9f%e6%97%a5sp/
LOCATION:Zephyr Hall\, 愛知県名古屋市中区錦3丁目14-21\, 日本
ATTACH;FMTTYPE=image/jpeg:https://zephyrhall.xyz/wp-content/uploads/2025/09/S__15351869_0.jpg
END:VEVENT
BEGIN:VEVENT
DTSTART;TZID=Asia/Tokyo:20250928T120000
DTEND;TZID=Asia/Tokyo:20250928T203000
DTSTAMP:20260425T122552
CREATED:20250926T120304Z
LAST-MODIFIED:20250926T120304Z
UID:2012-1759060800-1759091400@zephyrhall.xyz
SUMMARY:Road to Kanadevia Hall ツアー 「Beat Rush」
DESCRIPTION:愛知公演1部 2マン：THE ENCORE\n日時\n2025/9/28(日)\n開場時刻 12:00 / 開演時刻 12:30\n会場\nZephyr Hall\n出演\nなみだ色の消しごむ/THE ENCORE \n愛知公演2部 菜森未咲プロデュース公演\n日時\n2025/9/28(日)\n開場時刻 16:30 / 開演時刻 17:00\n会場\nZephyr Hall\n出演\nなみだ色の消しごむ \nhttps://ticketdive.com/event/namikeshi2025
URL:https://zephyrhall.xyz/event/road-to-kanadevia-hall-%e3%83%84%e3%82%a2%e3%83%bc-%e3%80%8cbeat-rush%e3%80%8d/
LOCATION:Zephyr Hall\, 愛知県名古屋市中区錦3丁目14-21\, 日本
ATTACH;FMTTYPE=image/jpeg:https://zephyrhall.xyz/wp-content/uploads/2025/09/S__17432664_0-scaled.jpg
END:VEVENT
BEGIN:VEVENT
DTSTART;TZID=Asia/Tokyo:20250929T170000
DTEND;TZID=Asia/Tokyo:20250929T220000
DTSTAMP:20260425T122552
CREATED:20250928T101928Z
LAST-MODIFIED:20250928T101928Z
UID:2015-1759165200-1759183200@zephyrhall.xyz
SUMMARY:PULSAR_CLIMAX 天吏れんげ卒業LIVE
DESCRIPTION:9/29 (月)\n天吏れんげ卒業LIVE\nZephyrHall\nSチケ￥15\,000\n優先￥2\,500 一般￥500 (+1D) \n17:10 オープン\n17:40-18:00 あすとりーのうさぎ 並行A17:45-18:45\n18:00-18:20 NO♡AF 並行A18:45-19:45\n18:20-18:30 コラボコーナー\n18:30-18:50 世界で1番シンデレラ\n18:50-19:10 GRiED\n19:10-19:30 YAKiN\n19:30-19:50 Beloved\n19:50-20:30 PULSAR_CLIMAX\n20:40-22:10 終演後特典会 \nSチケ特典\n・最優先入場\n・特典会ファストパス\n・メッセージ動画\n・生誕Tシャツ\n・オリジナルブロマイド\n・オリジナル缶バッチ \nhttps://t.livepocket.jp/e/rengegraduation
URL:https://zephyrhall.xyz/event/pulsar_climax-%e5%a4%a9%e5%90%8f%e3%82%8c%e3%82%93%e3%81%92%e5%8d%92%e6%a5%adlive/
LOCATION:Zephyr Hall\, 愛知県名古屋市中区錦3丁目14-21\, 日本
ATTACH;FMTTYPE=image/jpeg:https://zephyrhall.xyz/wp-content/uploads/2025/09/HlvVVM3RiMP308M2vkrFvJe7EbWiUieZhBHzogPEXzQS879WRv1mVts7AM53DRaS.jpeg
END:VEVENT
BEGIN:VEVENT
DTSTART;TZID=Asia/Tokyo:20250930T183000
DTEND;TZID=Asia/Tokyo:20250930T220000
DTSTAMP:20260425T122552
CREATED:20250929T105721Z
LAST-MODIFIED:20250929T105721Z
UID:2018-1759257000-1759269600@zephyrhall.xyz
SUMMARY:名古屋合同定期公演vol.2
DESCRIPTION:名古屋合同定期公演vol.2 \n■日程　2025月9月30日(火)\n■時間　開場18:30・開演18:55\n■会場　Zephyr Hall\n■料金　前方チケット 2\,000円/前売券500円/当日＋500円(各別途1D代) \n■出演　手羽先センセーション/カラフルスクリーム/君に、胸キュン \n■タイムテーブル\n18:30 開場\n18:55~19:00 出番決め\n19:00~19:25 LIVE1\n19:25~19:50 LIVE2\n19:50~20:15 LIVE3\n20:15~20:25 エンディング\n20:30~21:45 特典会 \n■販売方法\n一般先着:8月28日(木)22:30～9月29日(月)23:59 \n■入場順\n前方チケット→前売券→当日券 \nhttps://ticketdive.com/event/nagoyagodo_vol2
URL:https://zephyrhall.xyz/event/%e5%90%8d%e5%8f%a4%e5%b1%8b%e5%90%88%e5%90%8c%e5%ae%9a%e6%9c%9f%e5%85%ac%e6%bc%94vol-2/
LOCATION:Zephyr Hall\, 愛知県名古屋市中区錦3丁目14-21\, 日本
ATTACH;FMTTYPE=image/jpeg:https://zephyrhall.xyz/wp-content/uploads/2025/09/GzXEXDya4AU0nO_-scaled.jpg
END:VEVENT
END:VCALENDAR