BEGIN:VCALENDAR
VERSION:2.0
PRODID:-//ZephyrHall【ゼファーホール】 - ECPv6.15.20//NONSGML v1.0//EN
CALSCALE:GREGORIAN
METHOD:PUBLISH
X-WR-CALNAME:ZephyrHall【ゼファーホール】
X-ORIGINAL-URL:https://zephyrhall.xyz
X-WR-CALDESC:ZephyrHall【ゼファーホール】 のイベント
REFRESH-INTERVAL;VALUE=DURATION:PT1H
X-Robots-Tag:noindex
X-PUBLISHED-TTL:PT1H
BEGIN:VTIMEZONE
TZID:Asia/Tokyo
BEGIN:STANDARD
TZOFFSETFROM:+0900
TZOFFSETTO:+0900
TZNAME:JST
DTSTART:20240101T000000
END:STANDARD
END:VTIMEZONE
BEGIN:VEVENT
DTSTART;TZID=Asia/Tokyo:20251004T110000
DTEND;TZID=Asia/Tokyo:20251004T150000
DTSTAMP:20260425T122413
CREATED:20251003T102815Z
LAST-MODIFIED:20251003T102815Z
UID:2029-1759575600-1759590000@zephyrhall.xyz
SUMMARY:ッスッゴイライブ〜3マンSP〜
DESCRIPTION:【ッスッゴイライブ〜3マンSP〜】\n■開催日：2025年10月4日(土)\n■会場：Zephyr Hall\n■時間：11:00 OPEN / 11:45 START\n■出演：JamsCollection / 手羽先センセーション / THE ENCORE \n■料金：前方¥4\,000 / 一般¥2\,000(D代別)\n※当日券情報は公式Xより別途アナウンスいたします\n⇨https://x.com/ssuggoi_live \nhttps://ticketdive.com/event/ssuggoi_3man\n【チケット券売日時】\n前方 9月23日（火） 20:00〜10月3日（金） 23:59まで\n一般 9月23日（火） 20:30〜10月3日（金） 23:59まで
URL:https://zephyrhall.xyz/event/%e3%83%83%e3%82%b9%e3%83%83%e3%82%b4%e3%82%a4%e3%83%a9%e3%82%a4%e3%83%96%e3%80%9c3%e3%83%9e%e3%83%b3sp%e3%80%9c/
LOCATION:Zephyr Hall\, 愛知県名古屋市中区錦3丁目14-21\, 日本
ATTACH;FMTTYPE=image/jpeg:https://zephyrhall.xyz/wp-content/uploads/2025/10/S__819937298_0.jpg
END:VEVENT
BEGIN:VEVENT
DTSTART;TZID=Asia/Tokyo:20251004T170000
DTEND;TZID=Asia/Tokyo:20251004T220000
DTSTAMP:20260425T122413
CREATED:20251003T102702Z
LAST-MODIFIED:20251003T102702Z
UID:2026-1759597200-1759615200@zephyrhall.xyz
SUMMARY:野々咲実希 生誕祭 2025
DESCRIPTION:日程：10/4(土)\n時間：OPEN17:00 / START17:30\n会場：Zephyr Hall\n料金：Sチケット10000円 / Aチケット 5000円 / Bチケット1500円 / 当日券+500円\n入場順：①Sチケット整理番号順→②Aチケット整理番号順→③Bチケット整理番号順→④当日券(整列順) \n【チケット購入特典内容】\nhttps://ticketdive.com/event/miki_hpb2025 \n■ Sチケット\n・最優先入場権（優先エリア）\n・直筆サイン入り生誕Tシャツ\n・トレカ2種\n・撮影ファストパス（当日限り有効・メンバー自由） \n■ Aチケット\n・優先入場権（一般エリア）\n・生誕Tシャツ \n※来場者全員に生誕イラストステッカープレゼント \n【タイムテーブル】\n15:00-16:00 野々咲実希生誕Tシャツチェキ会・グッズ先行販売(一部のみ)\n※3F特典会スペース \n17:00 開場\n17:30-18:40 ライブ\n18:50- 特典会(列が途切れたメンバーより終了します)
URL:https://zephyrhall.xyz/event/%e9%87%8e%e3%80%85%e5%92%b2%e5%ae%9f%e5%b8%8c-%e7%94%9f%e8%aa%95%e7%a5%ad-2025/
LOCATION:Zephyr Hall\, 愛知県名古屋市中区錦3丁目14-21\, 日本
ATTACH;FMTTYPE=image/jpeg:https://zephyrhall.xyz/wp-content/uploads/2025/10/Gz62cH7bUAAZS3m_0.jpg
END:VEVENT
END:VCALENDAR