BEGIN:VCALENDAR
VERSION:2.0
PRODID:-//ZephyrHall【ゼファーホール】 - ECPv6.15.20//NONSGML v1.0//EN
CALSCALE:GREGORIAN
METHOD:PUBLISH
X-WR-CALNAME:ZephyrHall【ゼファーホール】
X-ORIGINAL-URL:https://zephyrhall.xyz
X-WR-CALDESC:ZephyrHall【ゼファーホール】 のイベント
REFRESH-INTERVAL;VALUE=DURATION:PT1H
X-Robots-Tag:noindex
X-PUBLISHED-TTL:PT1H
BEGIN:VTIMEZONE
TZID:Asia/Tokyo
BEGIN:STANDARD
TZOFFSETFROM:+0900
TZOFFSETTO:+0900
TZNAME:JST
DTSTART:20240101T000000
END:STANDARD
END:VTIMEZONE
BEGIN:VEVENT
DTSTART;TZID=Asia/Tokyo:20251007T173000
DTEND;TZID=Asia/Tokyo:20251007T220000
DTSTAMP:20260425T122342
CREATED:20251005T024928Z
LAST-MODIFIED:20251005T024928Z
UID:2038-1759858200-1759874400@zephyrhall.xyz
SUMMARY:NEO:UNIVERSE -4th Anniversary記念ワンマンライブ-
DESCRIPTION:【表題】NEO:UNIVERSE  -4th Anniversary記念ワンマンライブ-\n【日程】１０月７日\n【会場】Zephyr Hall\n【時間】OPEN17:30/START18:30\n【チケット】Sチケット¥30000（オリジナルTシャツ、靴下、ネックストラップ、ファストパス2枚、定点映像、最前確保）/前方Tシャツ付き¥10000（オリジナルTシャツ、ファストパス1枚）/前方¥3000/一般＆手売り¥500/当日券+¥500/+1D\n https://t.livepocket.jp/e/zerostart \n入場者全員にステッカー配布 \n【出演】\nぜろから☆すた→と  \n【タイムテーブル】 \nOPEN17:30〜 \n17:30〜18:30 ロビーにて前販売 \n18:30〜20:00 ぜろから☆すた→と  \n20:10～22:00 終演後特典会
URL:https://zephyrhall.xyz/event/neouniverse-4th-anniversary%e8%a8%98%e5%bf%b5%e3%83%af%e3%83%b3%e3%83%9e%e3%83%b3%e3%83%a9%e3%82%a4%e3%83%96/
LOCATION:Zephyr Hall\, 愛知県名古屋市中区錦3丁目14-21\, 日本
ATTACH;FMTTYPE=image/jpeg:https://zephyrhall.xyz/wp-content/uploads/2025/10/S__133824543.jpg
END:VEVENT
END:VCALENDAR