BEGIN:VCALENDAR
VERSION:2.0
PRODID:-//ZephyrHall【ゼファーホール】 - ECPv6.15.20//NONSGML v1.0//EN
CALSCALE:GREGORIAN
METHOD:PUBLISH
X-WR-CALNAME:ZephyrHall【ゼファーホール】
X-ORIGINAL-URL:https://zephyrhall.xyz
X-WR-CALDESC:ZephyrHall【ゼファーホール】 のイベント
REFRESH-INTERVAL;VALUE=DURATION:PT1H
X-Robots-Tag:noindex
X-PUBLISHED-TTL:PT1H
BEGIN:VTIMEZONE
TZID:Asia/Tokyo
BEGIN:STANDARD
TZOFFSETFROM:+0900
TZOFFSETTO:+0900
TZNAME:JST
DTSTART:20240101T000000
END:STANDARD
END:VTIMEZONE
BEGIN:VEVENT
DTSTART;TZID=Asia/Tokyo:20251008T123000
DTEND;TZID=Asia/Tokyo:20251008T213000
DTSTAMP:20260425T122413
CREATED:20251005T025250Z
LAST-MODIFIED:20251005T025250Z
UID:2041-1759926600-1759959000@zephyrhall.xyz
SUMMARY:夢喰NEON Free Live Tour 我武者羅ツアー2025-2026
DESCRIPTION:10/8(水)『夢喰NEON Free Live Tour 我武者羅ツアー2025-2026 【TikTok撮影会】』（1部）\n◾会場:Zephyr Hall\n◾時間:OPEN12:45\n◾料金:6600円※ドリンク代含む(当日、ドリンク代を頂戴することはございません。）\n◾入場順：ライブポケット番号順（抽選→先着）\nhttps://t.livepocket.jp/e/gamushara_1008_1 \n10/8(水)『夢喰NEON Free Live Tour 我武者羅ツアー2025-2026』（2部）\n◾会場:Zephyr Hall\n◾時間:OPEN17:00 START 17:45\n◾料金:FC入会者限定優先入場チケット¥4\,600円/一般チケット¥600※ドリンク代含む(当日、ドリンク代を頂戴することはございません。）\n◾入場順：FC限定優先入場チケットライブポケット番号順（抽選→先着）→一般チケットライブポケット番号順（抽選→先着）\nhttps://t.livepocket.jp/e/gamushara_1008_2
URL:https://zephyrhall.xyz/event/%e5%a4%a2%e5%96%b0neon-free-live-tour-%e6%88%91%e6%ad%a6%e8%80%85%e7%be%85%e3%83%84%e3%82%a2%e3%83%bc2025-2026/
LOCATION:Zephyr Hall\, 愛知県名古屋市中区錦3丁目14-21\, 日本
ATTACH;FMTTYPE=image/jpeg:https://zephyrhall.xyz/wp-content/uploads/2025/10/G0UcZU8bwAEsv6g_0_0.jpg
END:VEVENT
END:VCALENDAR