BEGIN:VCALENDAR
VERSION:2.0
PRODID:-//ZephyrHall【ゼファーホール】 - ECPv6.15.20//NONSGML v1.0//EN
CALSCALE:GREGORIAN
METHOD:PUBLISH
X-WR-CALNAME:ZephyrHall【ゼファーホール】
X-ORIGINAL-URL:https://zephyrhall.xyz
X-WR-CALDESC:ZephyrHall【ゼファーホール】 のイベント
REFRESH-INTERVAL;VALUE=DURATION:PT1H
X-Robots-Tag:noindex
X-PUBLISHED-TTL:PT1H
BEGIN:VTIMEZONE
TZID:Asia/Tokyo
BEGIN:STANDARD
TZOFFSETFROM:+0900
TZOFFSETTO:+0900
TZNAME:JST
DTSTART:20240101T000000
END:STANDARD
END:VTIMEZONE
BEGIN:VEVENT
DTSTART;TZID=Asia/Tokyo:20251009T120000
DTEND;TZID=Asia/Tokyo:20251009T213000
DTSTAMP:20260425T122444
CREATED:20251005T025706Z
LAST-MODIFIED:20251005T025706Z
UID:2044-1760011200-1760045400@zephyrhall.xyz
SUMMARY:▷ せーぶぽいんと 2025 Autumn Tour - とけないお呪いは消えない。- in 名古屋
DESCRIPTION:10/9（木）『▷ せーぶぽいんと 2025 Autumn Tour in 名古屋 (1部)』\n◾会場：Zephyr hall\n◾時間：OPEN12:15 START13:00\n◾料金：前売5000円(+1D)　当日券5500円(+1D)\n◾入場順：ライブポケット番号順→当日\nチケットはライブポケットでの販売と当日券となります。取り置きはございません。\n※前売り券完売の場合は当日券の販売はございません。\nhttps://t.livepocket.jp/e/svpt20251009_01 \n10/9（木）『▷ せーぶぽいんと 2025 Autumn Tour in 名古屋 (2部)』\n◾会場：Zephyr hall\n◾時間：OPEN17:00 START17:45\n◾料金：前売5000円(+1D)　当日券5500円(+1D)\n◾入場順：ライブポケット番号順→当日\nチケットはライブポケットでの販売と当日券となります。取り置きはございません。\n※前売り券完売の場合は当日券の販売はございません。\nhttps://t.livepocket.jp/e/svpt20251009_02
URL:https://zephyrhall.xyz/event/%e2%96%b7-%e3%81%9b%e3%83%bc%e3%81%b6%e3%81%bd%e3%81%84%e3%82%93%e3%81%a8-2025-autumn-tour-%e3%81%a8%e3%81%91%e3%81%aa%e3%81%84%e3%81%8a%e5%91%aa%e3%81%84%e3%81%af%e6%b6%88%e3%81%88%e3%81%aa/
LOCATION:Zephyr Hall\, 愛知県名古屋市中区錦3丁目14-21\, 日本
ATTACH;FMTTYPE=image/jpeg:https://zephyrhall.xyz/wp-content/uploads/2025/10/Gz10c9bboAAjiUj_0_0.jpg
END:VEVENT
END:VCALENDAR