BEGIN:VCALENDAR
VERSION:2.0
PRODID:-//ZephyrHall【ゼファーホール】 - ECPv6.15.20//NONSGML v1.0//EN
CALSCALE:GREGORIAN
METHOD:PUBLISH
X-ORIGINAL-URL:https://zephyrhall.xyz
X-WR-CALDESC:ZephyrHall【ゼファーホール】 のイベント
REFRESH-INTERVAL;VALUE=DURATION:PT1H
X-Robots-Tag:noindex
X-PUBLISHED-TTL:PT1H
BEGIN:VTIMEZONE
TZID:Asia/Tokyo
BEGIN:STANDARD
TZOFFSETFROM:+0900
TZOFFSETTO:+0900
TZNAME:JST
DTSTART:20240101T000000
END:STANDARD
END:VTIMEZONE
BEGIN:VEVENT
DTSTART;TZID=Asia/Tokyo:20251019T103000
DTEND;TZID=Asia/Tokyo:20251019T120000
DTSTAMP:20260425T122519
CREATED:20251019T024459Z
LAST-MODIFIED:20251019T032455Z
UID:2092-1760869800-1760875200@zephyrhall.xyz
SUMMARY:Lollipop♡AQA -朝練SP-
DESCRIPTION:10月19日(日)\n『Lollipop♡AQA -朝練SP-』\n場所:Zephyr Hall\n料金:前方 ¥2\,000/一般 ¥0/別途1D\n出演:AQA/Lollipop♡CHU \n10:30 OPEN\n10:45-11:00 1.AQA(終演後 11:20-12:20)\n11:00-11:15 2.Lollipop♡CHU(終演後 11:20-12:20)\n11:20-12:20 終演後特典会 \n【注意事項】\n・公演中止以外のいかなる場合も返金不可となります。\n・ステージや特典会につきまして各グループ様のレギュレーションに従ってください。\n・スタッフの指示に従っていただけない場合はご退場とさせていただく場合がございます。
URL:https://zephyrhall.xyz/event/lollipop%e2%99%a1aqa-%e6%9c%9d%e7%b7%b4sp/
ATTACH;FMTTYPE=image/jpeg:https://zephyrhall.xyz/wp-content/uploads/2025/10/erkdn1019-z.jpg
END:VEVENT
BEGIN:VEVENT
DTSTART;TZID=Asia/Tokyo:20251019T123000
DTEND;TZID=Asia/Tokyo:20251019T170000
DTSTAMP:20260425T122519
CREATED:20251016T104420Z
LAST-MODIFIED:20251016T105058Z
UID:2086-1760877000-1760893200@zephyrhall.xyz
SUMMARY:『IDOL♡PARTY -Autumn⑨-』
DESCRIPTION:10月19日(日)\n『IDOL♡PARTY -Autumn⑨-』\n場所:Zephyr Hall\n料金:前方 ¥3\,500/一般¥1\,500/別途1D\n出演:夏空のオリオン/あたまのなかは8ビット!?/ミラクルファンファーレ！/世界で1番シンデレラ/輝きぱにっく/メリーミューズ \nhttps://ticketdive.com/event/idolparty_aut_9 \n12:40 OPEN\n13:00-13:25 1.輝きぱにっく(並行A 13:35-14:35)\n13:25-13:50 2.メリーミューズ(並行B 14:00-15:00)\n13:50-14:15 3.ミラクルファンファーレ(終演後フロア上手)\n14:15-14:20 調整\n14:20-14:45 4.世界で1番シンデレラ(終演後ステージ前)\n14:45-15:10 5.夏空のオリオン(終演後フロア下手)\n15:10-15:35 6.あたまのなかは8ビット!?(終演後ステージ前)\n15:40-16:40 終演後特典会 \n【注意事項】\n・公演中止以外のいかなる場合も返金不可となります。\n・ステージや特典会につきまして各グループ様のレギュレーションに従ってください。\n・スタッフの指示に従っていただけない場合はご退場とさせていただく場合がございます。
URL:https://zephyrhall.xyz/event/%e3%80%8eidol%e2%99%a1party-autumn%e2%91%a8-%e3%80%8f/
ATTACH;FMTTYPE=image/webp:https://zephyrhall.xyz/wp-content/uploads/2025/10/1019-z.webp
END:VEVENT
BEGIN:VEVENT
DTSTART;TZID=Asia/Tokyo:20251019T173000
DTEND;TZID=Asia/Tokyo:20251019T213000
DTSTAMP:20260425T122519
CREATED:20251016T105506Z
LAST-MODIFIED:20251016T105506Z
UID:2089-1760895000-1760909400@zephyrhall.xyz
SUMMARY:『IDOL♡PARTY -Autumn⑩-』
DESCRIPTION:10月19日(日)\n『IDOL♡PARTY -Autumn⑩-』\n場所:Zephyr Hall\n料金:前方 ¥3\,500/一般¥1\,500/別途1D\n出演:Lollipop♡CHU/OS☆U/AQA/きっと大切だった/ぜろから☆すた→と/SiLENT←NOiSE/ \nhttps://ticketdive.com/event/idolparty_aut_10 \n17:30-17:50 OPEN\n17:50-18:15 1.SiLENT←NOiSE(並行A 18:25-19:25)\n18:15-18:40 2.きっと大切だった(並行B 18:50-19:50)\n18:40-19:05 3.AQA(終演後ロビー)\n19:05-19:10 調整\n19:10-19:35 4.ぜろから☆すた→と(終演後フロア上手)\n19:35-20:00 5.OS☆U(終演後フロア下手)\n20:00-20:25 6.Lollipop♡CHU(終演後ステージ前)\n20:30-21:30 終演後特典会 \n【注意事項】\n・公演中止以外のいかなる場合も返金不可となります。\n・ステージや特典会につきまして各グループ様のレギュレーションに従ってください。\n・スタッフの指示に従っていただけない場合はご退場とさせていただく場合がございます。
URL:https://zephyrhall.xyz/event/%e3%80%8eidol%e2%99%a1party-autumn%e2%91%a9-%e3%80%8f/
ATTACH;FMTTYPE=image/webp:https://zephyrhall.xyz/wp-content/uploads/2025/10/1019-2部-z.webp
END:VEVENT
END:VCALENDAR