BEGIN:VCALENDAR
VERSION:2.0
PRODID:-//ZephyrHall【ゼファーホール】 - ECPv6.15.20//NONSGML v1.0//EN
CALSCALE:GREGORIAN
METHOD:PUBLISH
X-WR-CALNAME:ZephyrHall【ゼファーホール】
X-ORIGINAL-URL:https://zephyrhall.xyz
X-WR-CALDESC:ZephyrHall【ゼファーホール】 のイベント
REFRESH-INTERVAL;VALUE=DURATION:PT1H
X-Robots-Tag:noindex
X-PUBLISHED-TTL:PT1H
BEGIN:VTIMEZONE
TZID:Asia/Tokyo
BEGIN:STANDARD
TZOFFSETFROM:+0900
TZOFFSETTO:+0900
TZNAME:JST
DTSTART:20240101T000000
END:STANDARD
END:VTIMEZONE
BEGIN:VEVENT
DTSTART;TZID=Asia/Tokyo:20251020T000000
DTEND;TZID=Asia/Tokyo:20251020T213000
DTSTAMP:20260425T122418
CREATED:20251020T021055Z
LAST-MODIFIED:20251020T025652Z
UID:2100-1760918400-1760995800@zephyrhall.xyz
SUMMARY:「XP!A A/W TOUR 2025 〜狂愛カニバリズム ×全細胞キミと同化したい×〜」
DESCRIPTION:10月20日(月)\n『XP!A A/W TOUR 2025 〜狂愛カニバリズム ×全細胞キミと同化したい×〜』\n場所:Zephyr Hall\n料金:前方 ¥4\,000/一般¥4\,500/別途1D\n出演:XP!A \n【1部】\n12:15-13:00 OPEN\n14:30-16:30 特典会 \nhttps://t.livepocket.jp/e/xpia251020_1 \n【2部】\n17:15-18:00 OPEN\n19:30-21:30 特典会 \nhttps://t.livepocket.jp/e/xpia251020__2 \nドリンクボトルウォーターのみ\n再入場禁止/公演終了後のみ可能別途1D
URL:https://zephyrhall.xyz/event/%e3%80%8cxpa-a-w-tour-2025-%e3%80%9c%e7%8b%82%e6%84%9b%e3%82%ab%e3%83%8b%e3%83%90%e3%83%aa%e3%82%ba%e3%83%a0-x%e5%85%a8%e7%b4%b0%e8%83%9e%e3%82%ad%e3%83%9f%e3%81%a8%e5%90%8c%e5%8c%96%e3%81%97-2/
LOCATION:Zephyr Hall\, 愛知県名古屋市中区錦3丁目14-21\, 日本
ATTACH;FMTTYPE=image/jpeg:https://zephyrhall.xyz/wp-content/uploads/2025/10/1020-z-scaled.jpg
END:VEVENT
END:VCALENDAR