BEGIN:VCALENDAR
VERSION:2.0
PRODID:-//ZephyrHall【ゼファーホール】 - ECPv6.15.20//NONSGML v1.0//EN
CALSCALE:GREGORIAN
METHOD:PUBLISH
X-ORIGINAL-URL:https://zephyrhall.xyz
X-WR-CALDESC:ZephyrHall【ゼファーホール】 のイベント
REFRESH-INTERVAL;VALUE=DURATION:PT1H
X-Robots-Tag:noindex
X-PUBLISHED-TTL:PT1H
BEGIN:VTIMEZONE
TZID:Asia/Tokyo
BEGIN:STANDARD
TZOFFSETFROM:+0900
TZOFFSETTO:+0900
TZNAME:JST
DTSTART:20240101T000000
END:STANDARD
END:VTIMEZONE
BEGIN:VEVENT
DTSTART;TZID=Asia/Tokyo:20251021T123000
DTEND;TZID=Asia/Tokyo:20251021T210000
DTSTAMP:20260425T122541
CREATED:20251020T023942Z
LAST-MODIFIED:20251020T030355Z
UID:2110-1761049800-1761080400@zephyrhall.xyz
SUMMARY:「LuvCode:001」
DESCRIPTION:10月21日(火)\n『LuvCode:001』\n場所:Zephyr Hall\n料金:前売 ¥4\,000/当日¥4\,500/別途1D\n出演:LuvCode \n【1部】\n12:30-13:15 OPEN\n14:30-16:30 特典会 \nhttps://t.livepocket.jp/e/luvless20251021 \n【2部】\n17:00-17:45 OPEN\n19:00-21:00 特典会 \nhttps://t.livepocket.jp/e/luvless20251021_2 \nアルコール提供無し\n再入場禁止/公演終了後のみ可能別途1D
URL:https://zephyrhall.xyz/event/%e3%80%8cluvcode001%e3%80%8d/
LOCATION:Zephyr Hall\, 愛知県名古屋市中区錦3丁目14-21\, 日本
ATTACH;FMTTYPE=image/jpeg:https://zephyrhall.xyz/wp-content/uploads/2025/10/1021.jpg
END:VEVENT
END:VCALENDAR