BEGIN:VCALENDAR
VERSION:2.0
PRODID:-//ZephyrHall【ゼファーホール】 - ECPv6.15.20//NONSGML v1.0//EN
CALSCALE:GREGORIAN
METHOD:PUBLISH
X-WR-CALNAME:ZephyrHall【ゼファーホール】
X-ORIGINAL-URL:https://zephyrhall.xyz
X-WR-CALDESC:ZephyrHall【ゼファーホール】 のイベント
REFRESH-INTERVAL;VALUE=DURATION:PT1H
X-Robots-Tag:noindex
X-PUBLISHED-TTL:PT1H
BEGIN:VTIMEZONE
TZID:Asia/Tokyo
BEGIN:STANDARD
TZOFFSETFROM:+0900
TZOFFSETTO:+0900
TZNAME:JST
DTSTART:20240101T000000
END:STANDARD
END:VTIMEZONE
BEGIN:VEVENT
DTSTART;TZID=Asia/Tokyo:20251022T183000
DTEND;TZID=Asia/Tokyo:20251022T213000
DTSTAMP:20260425T122342
CREATED:20251022T083816Z
LAST-MODIFIED:20251022T083816Z
UID:2119-1761157800-1761168600@zephyrhall.xyz
SUMMARY:OS☆U 定期LIVE at Zephyr Hall
DESCRIPTION:【日時】\n10月22日(水)\n18:40　OPEN\n19:00　START  \n【会場】\nZephyr Hall\n〒460-0003\n愛知県名古屋市中区錦３丁目１４−２１ \n【チケット】\n前方エリア\n2\,000円(別途1D) \n一般\n0円(別途1D) \n【当日券】\n前方エリア\n3\,000円(別途1D) \n一般\n500円(別途1D) \n入場順\n前方エリア→一般 \nチケットはこちら\nhttps://t.livepocket.jp/e/iccq4 \n販売期間\n2025年10月02日(木) 21:00  〜  2025年10月22日(水) 18:00 \n【OS☆U 出演メンバー】\n香田リン/ 出雲やえ/水沢桃々/幸村望叶/ 秋原かなみ/ 佐伯茉菜美/ 桃川ひの/幸村一花/橘華夜/花咲璃里華\n※メンバーは急遽変更になる場合がございます。
URL:https://zephyrhall.xyz/event/os%e2%98%86u-%e5%ae%9a%e6%9c%9flive-at-zephyr-hall-11/
LOCATION:Zephyr Hall\, 愛知県名古屋市中区錦3丁目14-21\, 日本
ATTACH;FMTTYPE=image/jpeg:https://zephyrhall.xyz/wp-content/uploads/2025/10/fmzsiuY4y0IO1pOl41u7DggOjY3stsj6BHqaMhKkzwkrDTt8j0AwEB7Yz0ZTSwBY.jpeg
END:VEVENT
END:VCALENDAR