BEGIN:VCALENDAR
VERSION:2.0
PRODID:-//ZephyrHall【ゼファーホール】 - ECPv6.15.20//NONSGML v1.0//EN
CALSCALE:GREGORIAN
METHOD:PUBLISH
X-WR-CALNAME:ZephyrHall【ゼファーホール】
X-ORIGINAL-URL:https://zephyrhall.xyz
X-WR-CALDESC:ZephyrHall【ゼファーホール】 のイベント
REFRESH-INTERVAL;VALUE=DURATION:PT1H
X-Robots-Tag:noindex
X-PUBLISHED-TTL:PT1H
BEGIN:VTIMEZONE
TZID:Asia/Tokyo
BEGIN:STANDARD
TZOFFSETFROM:+0900
TZOFFSETTO:+0900
TZNAME:JST
DTSTART:20240101T000000
END:STANDARD
END:VTIMEZONE
BEGIN:VEVENT
DTSTART;TZID=Asia/Tokyo:20251023T173000
DTEND;TZID=Asia/Tokyo:20251023T220000
DTSTAMP:20260425T122413
CREATED:20251023T072022Z
LAST-MODIFIED:20251023T072022Z
UID:2123-1761240600-1761256800@zephyrhall.xyz
SUMMARY:HAPPY LUCKY LIVE!!-EXTRA!!-
DESCRIPTION:出演者	世界で1番シンデレラ \, Beloved \, PULSAR_CLIMAX \, あすとりーのうさぎ \, Y∀KiN \, ミラクルファンファーレ！ \, Nine chocolates \, アクリム \, 炭酸メリリエット\n日　程\n2025/10/23(木)\n開場日時 17:30　 開演日時 17:55　\n会　場\nZephyrHall (愛知県)\n販売元\n合同会社HLL \nhttps://t.livepocket.jp/e/nxwgk
URL:https://zephyrhall.xyz/event/happy-lucky-live-extra/
LOCATION:Zephyr Hall\, 愛知県名古屋市中区錦3丁目14-21\, 日本
ATTACH;FMTTYPE=image/jpeg:https://zephyrhall.xyz/wp-content/uploads/2025/10/S__71221307.jpg
END:VEVENT
END:VCALENDAR