BEGIN:VCALENDAR
VERSION:2.0
PRODID:-//ZephyrHall【ゼファーホール】 - ECPv6.15.20//NONSGML v1.0//EN
CALSCALE:GREGORIAN
METHOD:PUBLISH
X-ORIGINAL-URL:https://zephyrhall.xyz
X-WR-CALDESC:ZephyrHall【ゼファーホール】 のイベント
REFRESH-INTERVAL;VALUE=DURATION:PT1H
X-Robots-Tag:noindex
X-PUBLISHED-TTL:PT1H
BEGIN:VTIMEZONE
TZID:Asia/Tokyo
BEGIN:STANDARD
TZOFFSETFROM:+0900
TZOFFSETTO:+0900
TZNAME:JST
DTSTART:20240101T000000
END:STANDARD
END:VTIMEZONE
BEGIN:VEVENT
DTSTART;TZID=Asia/Tokyo:20251024T183000
DTEND;TZID=Asia/Tokyo:20251024T203000
DTSTAMP:20260425T122519
CREATED:20251024T094137Z
LAST-MODIFIED:20251024T095440Z
UID:2126-1761330600-1761337800@zephyrhall.xyz
SUMMARY:「USAGI-LUCID presents 兎に呪われたマザリ」
DESCRIPTION:日　程\n2025/10/24(金)\n開場日時 18:15　 開演日時 19:00　\n会　場\nZephyrHall (愛知県) \nhttps://t.livepocket.jp/e/usagi1024
URL:https://zephyrhall.xyz/event/%e3%80%8cusagi-lucid-presents-%e5%85%8e%e3%81%ab%e5%91%aa%e3%82%8f%e3%82%8c%e3%81%9f%e3%83%9e%e3%82%b6%e3%83%aa%e3%80%8d/
LOCATION:Zephyr Hall\, 愛知県名古屋市中区錦3丁目14-21\, 日本
ATTACH;FMTTYPE=image/jpeg:https://zephyrhall.xyz/wp-content/uploads/2025/10/1024-z.jpg
END:VEVENT
END:VCALENDAR