BEGIN:VCALENDAR
VERSION:2.0
PRODID:-//ZephyrHall【ゼファーホール】 - ECPv6.15.20//NONSGML v1.0//EN
CALSCALE:GREGORIAN
METHOD:PUBLISH
X-WR-CALNAME:ZephyrHall【ゼファーホール】
X-ORIGINAL-URL:https://zephyrhall.xyz
X-WR-CALDESC:ZephyrHall【ゼファーホール】 のイベント
REFRESH-INTERVAL;VALUE=DURATION:PT1H
X-Robots-Tag:noindex
X-PUBLISHED-TTL:PT1H
BEGIN:VTIMEZONE
TZID:Asia/Tokyo
BEGIN:STANDARD
TZOFFSETFROM:+0900
TZOFFSETTO:+0900
TZNAME:JST
DTSTART:20240101T000000
END:STANDARD
END:VTIMEZONE
BEGIN:VEVENT
DTSTART;TZID=Asia/Tokyo:20251025T150000
DTEND;TZID=Asia/Tokyo:20251025T200000
DTSTAMP:20260425T122418
CREATED:20251025T021125Z
LAST-MODIFIED:20251025T021125Z
UID:2132-1761404400-1761422400@zephyrhall.xyz
SUMMARY:透色の秋 全国ツアー2025-愛知-
DESCRIPTION:【ライブ情報】 \n『透色の秋 全国ツアー2025-愛知-』 \n日程 2025年10月25日(土) \n会場 Zephyr Hall【愛知】\n(https://zephyrhall.xyz/) \n開場15:00/開演15:30 \n公演チケット【エリア内自由席】\n前方チケット¥5000/一般チケット¥3500\nhttps://t.livepocket.jp/e/sukiironoaki2025aichi\nFC限定前方抽選受付 2025年7月19日20:00-7月21日23:59(結果発表7月23日予定)\n前方抽選受付 2025年7月23日20:00-7月27日23:59(結果発表7月29日予定)\n一般発売 2025年7月31日22:00-10月25日15:30
URL:https://zephyrhall.xyz/event/%e9%80%8f%e8%89%b2%e3%81%ae%e7%a7%8b-%e5%85%a8%e5%9b%bd%e3%83%84%e3%82%a2%e3%83%bc2025-%e6%84%9b%e7%9f%a5/
LOCATION:Zephyr Hall\, 愛知県名古屋市中区錦3丁目14-21\, 日本
ATTACH;FMTTYPE=image/png:https://zephyrhall.xyz/wp-content/uploads/2025/10/f5dUEsGEHsCTZNrKQlrcgXlqARBfXchQ4ouzDJdnMBu4dcs3p7Ix7PostDf1YH2m-scaled.png
END:VEVENT
END:VCALENDAR