BEGIN:VCALENDAR
VERSION:2.0
PRODID:-//ZephyrHall【ゼファーホール】 - ECPv6.15.20//NONSGML v1.0//EN
CALSCALE:GREGORIAN
METHOD:PUBLISH
X-ORIGINAL-URL:https://zephyrhall.xyz
X-WR-CALDESC:ZephyrHall【ゼファーホール】 のイベント
REFRESH-INTERVAL;VALUE=DURATION:PT1H
X-Robots-Tag:noindex
X-PUBLISHED-TTL:PT1H
BEGIN:VTIMEZONE
TZID:Asia/Tokyo
BEGIN:STANDARD
TZOFFSETFROM:+0900
TZOFFSETTO:+0900
TZNAME:JST
DTSTART:20240101T000000
END:STANDARD
END:VTIMEZONE
BEGIN:VEVENT
DTSTART;TZID=Asia/Tokyo:20251030T180000
DTEND;TZID=Asia/Tokyo:20251030T230000
DTSTAMP:20260425T104648
CREATED:20251029T100915Z
LAST-MODIFIED:20251029T101442Z
UID:2150-1761847200-1761865200@zephyrhall.xyz
SUMMARY:「cute or treat 2025」
DESCRIPTION:「cute or treat 2025」\n日時 2025.10.30(木)\n会場 Zephyer Hall\nOPEN/START 18:00/18:25 \nhttps://t.livepocket.jp/e/jxjpx \n前方エリア¥2\,400\n一般エリア¥1\,000 \n出演者\n愛※ぱんでみっく！\nsweet♡union\nAMO million\nTwilight BlooM.\nPLYDE\nmofu/mofu\n輝きぱにっく
URL:https://zephyrhall.xyz/event/%e3%80%8ccute-or-treat-2025%e3%80%8d/
LOCATION:Zephyr Hall\, 愛知県名古屋市中区錦3丁目14-21\, 日本
ATTACH;FMTTYPE=image/jpeg:https://zephyrhall.xyz/wp-content/uploads/2025/10/1030-z.jpg
END:VEVENT
END:VCALENDAR