BEGIN:VCALENDAR
VERSION:2.0
PRODID:-//ZephyrHall【ゼファーホール】 - ECPv6.15.20//NONSGML v1.0//EN
CALSCALE:GREGORIAN
METHOD:PUBLISH
X-WR-CALNAME:ZephyrHall【ゼファーホール】
X-ORIGINAL-URL:https://zephyrhall.xyz
X-WR-CALDESC:ZephyrHall【ゼファーホール】 のイベント
REFRESH-INTERVAL;VALUE=DURATION:PT1H
X-Robots-Tag:noindex
X-PUBLISHED-TTL:PT1H
BEGIN:VTIMEZONE
TZID:Asia/Tokyo
BEGIN:STANDARD
TZOFFSETFROM:+0900
TZOFFSETTO:+0900
TZNAME:JST
DTSTART:20240101T000000
END:STANDARD
END:VTIMEZONE
BEGIN:VEVENT
DTSTART;TZID=Asia/Tokyo:20251101T110000
DTEND;TZID=Asia/Tokyo:20251101T210000
DTSTAMP:20260425T105441
CREATED:20251029T105056Z
LAST-MODIFIED:20251101T023037Z
UID:2160-1761994800-1762030800@zephyrhall.xyz
SUMMARY:『GIRLS☆DELIGHT#365』
DESCRIPTION:『GIRLS☆DELIGHT#365』\n日時 2025.11.1(土)\n会場 Zephyer Hall\nOPEN/START 11:30/11:50 \nhttps://t.livepocket.jp/e/girls_delight365 \nS(前方エリア)¥3\,000\nA(後方エリア)¥1\,000 \n出演者\nアイアール\nあたまのなかは8ビット⁉\nEp:ChouChou\nOS☆U\nカリスマめんざいふっ！\n金星☆ジュリエッタ\n逆転ねこぱんちっ！\nCLEAR’S\nサクヤコノハナ\nStar☆T\nSnowComp/ex\nCent Heaven\nDREAMING MONSTER\nHIGH SPIRITS\nハニースパイスRe.\neloved\nP-Loco\nふぇありーているず！\nMATANAGOYA\nRe:Clash\nLOTUS MARRY\nLollipop♡CHU
URL:https://zephyrhall.xyz/event/%e3%80%8egirls%e2%98%86delight365%e3%80%8f/
LOCATION:Zephyr Hall\, 愛知県名古屋市中区錦3丁目14-21\, 日本
ATTACH;FMTTYPE=image/jpeg:https://zephyrhall.xyz/wp-content/uploads/2025/10/111-z-scaled.jpg
END:VEVENT
END:VCALENDAR