BEGIN:VCALENDAR
VERSION:2.0
PRODID:-//ZephyrHall【ゼファーホール】 - ECPv6.15.20//NONSGML v1.0//EN
CALSCALE:GREGORIAN
METHOD:PUBLISH
X-ORIGINAL-URL:https://zephyrhall.xyz
X-WR-CALDESC:ZephyrHall【ゼファーホール】 のイベント
REFRESH-INTERVAL;VALUE=DURATION:PT1H
X-Robots-Tag:noindex
X-PUBLISHED-TTL:PT1H
BEGIN:VTIMEZONE
TZID:Asia/Tokyo
BEGIN:STANDARD
TZOFFSETFROM:+0900
TZOFFSETTO:+0900
TZNAME:JST
DTSTART:20240101T000000
END:STANDARD
END:VTIMEZONE
BEGIN:VEVENT
DTSTART;TZID=Asia/Tokyo:20251102T110000
DTEND;TZID=Asia/Tokyo:20251102T210000
DTSTAMP:20260425T105604
CREATED:20251031T083013Z
LAST-MODIFIED:20251101T023147Z
UID:2167-1762081200-1762117200@zephyrhall.xyz
SUMMARY:「GIRLS☆DELIGHT#366-ハロウィン公演名古屋SP-」
DESCRIPTION:「GIRLS☆DELIGHT#366-ハロウィン公演名古屋SP-」\n日時 2025.11.2(日)\n会場 Zephyer Hall\nOPEN/START 11:30/11:50 \nhttps://t.livepocket.jp/e/girls_delight366 \nS(前方エリア)¥3\,000\nA(後方エリア)¥1\,000 \n出演者\nアイアール\nAISTEAL\nアクリム\nEp:ChouChou\nお願い!!フルハウス\nカリスマめんざいふっ！\n金星☆ジュリエッタ\nCLEAR’S\nサクヤコノハナ\nSHIROMIZAKANA\nSnowComp/ex\nCent Heaven\nDREAMING MONSTER\nHIGH SPIRITS\nP-Loco\nMATANAGOYA\nMeMeQ\nLOTUS MARRY\nLollipop♡CHU\nアステリア\n究極人形\nきっと大切だった
URL:https://zephyrhall.xyz/event/%e3%80%8cgirls%e2%98%86delight366-%e3%83%8f%e3%83%ad%e3%82%a6%e3%82%a3%e3%83%b3%e5%85%ac%e6%bc%94%e5%90%8d%e5%8f%a4%e5%b1%8bsp-%e3%80%8d/
LOCATION:Zephyr Hall\, 愛知県名古屋市中区錦3丁目14-21\, 日本
ATTACH;FMTTYPE=image/png:https://zephyrhall.xyz/wp-content/uploads/2025/10/GIRLS☆DELIGHT_366_ハロウィン名古屋SP-scaled.png
END:VEVENT
END:VCALENDAR