BEGIN:VCALENDAR
VERSION:2.0
PRODID:-//ZephyrHall【ゼファーホール】 - ECPv6.15.20//NONSGML v1.0//EN
CALSCALE:GREGORIAN
METHOD:PUBLISH
X-ORIGINAL-URL:https://zephyrhall.xyz
X-WR-CALDESC:ZephyrHall【ゼファーホール】 のイベント
REFRESH-INTERVAL;VALUE=DURATION:PT1H
X-Robots-Tag:noindex
X-PUBLISHED-TTL:PT1H
BEGIN:VTIMEZONE
TZID:Asia/Tokyo
BEGIN:STANDARD
TZOFFSETFROM:+0900
TZOFFSETTO:+0900
TZNAME:JST
DTSTART:20240101T000000
END:STANDARD
END:VTIMEZONE
BEGIN:VEVENT
DTSTART;TZID=Asia/Tokyo:20251107T170000
DTEND;TZID=Asia/Tokyo:20251107T220000
DTSTAMP:20260425T104601
CREATED:20251107T072556Z
LAST-MODIFIED:20251107T072648Z
UID:2186-1762534800-1762552800@zephyrhall.xyz
SUMMARY:「EMOFES 2025 〜OSU FES mini〜」
DESCRIPTION:「EMOFES 2025 〜OSU FES mini〜」\n日時 2025.11.7(金)\n会場 Zephyer Hall\nOPEN/START 17:00/17:30 \nhttps://t.livepocket.jp/e/mafkl \n前方エリア¥3\,500\n一般エリア¥1\,500 \n出演者\nOS☆G\nOS☆U\nO-STAR研究生\nＯ₂\nおちゃメンタル☆パーティー\nサクヤコノハナ\nティラミス\n手羽先センセーション\nテンシンランマン\n蜜兎\n逆転ねこぱんちっ！
URL:https://zephyrhall.xyz/event/%e3%80%8cemofes-2025-%e3%80%9cosu-fes-mini%e3%80%9c%e3%80%8d/
LOCATION:Zephyr Hall\, 愛知県名古屋市中区錦3丁目14-21\, 日本
ATTACH;FMTTYPE=image/jpeg:https://zephyrhall.xyz/wp-content/uploads/2025/11/117-z.jpg
END:VEVENT
END:VCALENDAR