BEGIN:VCALENDAR
VERSION:2.0
PRODID:-//ZephyrHall【ゼファーホール】 - ECPv6.15.20//NONSGML v1.0//EN
CALSCALE:GREGORIAN
METHOD:PUBLISH
X-WR-CALNAME:ZephyrHall【ゼファーホール】
X-ORIGINAL-URL:https://zephyrhall.xyz
X-WR-CALDESC:ZephyrHall【ゼファーホール】 のイベント
REFRESH-INTERVAL;VALUE=DURATION:PT1H
X-Robots-Tag:noindex
X-PUBLISHED-TTL:PT1H
BEGIN:VTIMEZONE
TZID:Asia/Tokyo
BEGIN:STANDARD
TZOFFSETFROM:+0900
TZOFFSETTO:+0900
TZNAME:JST
DTSTART:20240101T000000
END:STANDARD
END:VTIMEZONE
BEGIN:VEVENT
DTSTART;TZID=Asia/Tokyo:20251108T103000
DTEND;TZID=Asia/Tokyo:20251108T160000
DTSTAMP:20260425T104445
CREATED:20251107T115513Z
LAST-MODIFIED:20251107T120238Z
UID:2206-1762597800-1762617600@zephyrhall.xyz
SUMMARY:「DERA MAXIMAM JAM」
DESCRIPTION:「DERA MAXIMAM JAM」\n日時 2025.11.8(土)\n会場 Zephyer Hall\nOPEN/START 11:00/11:30 \nhttps://t.livepocket.jp/t/deraxjam \n前方¥10\,000\n前売¥6\,500
URL:https://zephyrhall.xyz/event/%e3%80%8cdera-maximam-jam%e3%80%8d/
LOCATION:Zephyr Hall\, 愛知県名古屋市中区錦3丁目14-21\, 日本
ATTACH;FMTTYPE=image/jpeg:https://zephyrhall.xyz/wp-content/uploads/2025/11/day1解禁画像-scaled.jpg
END:VEVENT
BEGIN:VEVENT
DTSTART;TZID=Asia/Tokyo:20251108T160000
DTEND;TZID=Asia/Tokyo:20251108T223000
DTSTAMP:20260425T104445
CREATED:20251108T022517Z
LAST-MODIFIED:20251108T023504Z
UID:2215-1762617600-1762641000@zephyrhall.xyz
SUMMARY:「Merry BAD TUNE.FOATING EVA TOUR2025→2026-NAGOYA-」
DESCRIPTION:「Merry BAD TUNE.FOATING EVA TOUR2025→2026-NAGOYA-」\n日時 2025.11.8(土)\n会場 Zephyer Hall\nOPEN/START 17:45/18:30 \nhttps://ticketvillage.jp/events/13572 \n前方¥6\,000\n一般¥3\,000
URL:https://zephyrhall.xyz/event/%e3%80%8cmerry-bad-tune-foating-eva-tour2025%e2%86%922026-nagoya-%e3%80%8d/
LOCATION:Zephyr Hall\, 愛知県名古屋市中区錦3丁目14-21\, 日本
ATTACH;FMTTYPE=image/jpeg:https://zephyrhall.xyz/wp-content/uploads/2025/11/119-2部.jpeg
END:VEVENT
END:VCALENDAR