BEGIN:VCALENDAR
VERSION:2.0
PRODID:-//ZephyrHall【ゼファーホール】 - ECPv6.15.20//NONSGML v1.0//EN
CALSCALE:GREGORIAN
METHOD:PUBLISH
X-WR-CALNAME:ZephyrHall【ゼファーホール】
X-ORIGINAL-URL:https://zephyrhall.xyz
X-WR-CALDESC:ZephyrHall【ゼファーホール】 のイベント
REFRESH-INTERVAL;VALUE=DURATION:PT1H
X-Robots-Tag:noindex
X-PUBLISHED-TTL:PT1H
BEGIN:VTIMEZONE
TZID:Asia/Tokyo
BEGIN:STANDARD
TZOFFSETFROM:+0900
TZOFFSETTO:+0900
TZNAME:JST
DTSTART:20240101T000000
END:STANDARD
END:VTIMEZONE
BEGIN:VEVENT
DTSTART;TZID=Asia/Tokyo:20251109T100000
DTEND;TZID=Asia/Tokyo:20251109T203000
DTSTAMP:20260425T105452
CREATED:20251108T024158Z
LAST-MODIFIED:20251108T124248Z
UID:2220-1762682400-1762720200@zephyrhall.xyz
SUMMARY:「DERA MAXIMAM JAM」
DESCRIPTION:「DERA MAXIMAM JAM」\n日時 2025.11.8(土)\n会場 Zephyer Hall\nOPEN/START 11:00/11:30 \nhttps://t.livepocket.jp/t/deraxjam \n前方¥10\,000\n前売¥6\,500
URL:https://zephyrhall.xyz/event/%e3%80%8cdera-maximam-jam%e3%80%8d-2/
LOCATION:Zephyr Hall\, 愛知県名古屋市中区錦3丁目14-21\, 日本
ATTACH;FMTTYPE=image/jpeg:https://zephyrhall.xyz/wp-content/uploads/2025/11/day2解禁画像-scaled.jpg
END:VEVENT
END:VCALENDAR