BEGIN:VCALENDAR
VERSION:2.0
PRODID:-//ZephyrHall【ゼファーホール】 - ECPv6.15.20//NONSGML v1.0//EN
CALSCALE:GREGORIAN
METHOD:PUBLISH
X-ORIGINAL-URL:https://zephyrhall.xyz
X-WR-CALDESC:ZephyrHall【ゼファーホール】 のイベント
REFRESH-INTERVAL;VALUE=DURATION:PT1H
X-Robots-Tag:noindex
X-PUBLISHED-TTL:PT1H
BEGIN:VTIMEZONE
TZID:Asia/Tokyo
BEGIN:STANDARD
TZOFFSETFROM:+0900
TZOFFSETTO:+0900
TZNAME:JST
DTSTART:20240101T000000
END:STANDARD
END:VTIMEZONE
BEGIN:VEVENT
DTSTART;TZID=Asia/Tokyo:20251111T183000
DTEND;TZID=Asia/Tokyo:20251111T213000
DTSTAMP:20260425T104719
CREATED:20251108T130422Z
LAST-MODIFIED:20251108T130522Z
UID:2234-1762885800-1762896600@zephyrhall.xyz
SUMMARY:「名古屋合同定期公演vol.4」
DESCRIPTION:「名古屋合同定期公演vol.4」\n日時 2025.11.11(火)\n会場 Zephyer Hall\nOPEN/START 18:30/18:55 \nhttps://ticketdive.com/event/nagoyagodo_vol4 \n前方¥2\,000\n前売¥1\,000
URL:https://zephyrhall.xyz/event/%e3%80%8c%e5%90%8d%e5%8f%a4%e5%b1%8b%e5%90%88%e5%90%8c%e5%ae%9a%e6%9c%9f%e5%85%ac%e6%bc%94vol-4%e3%80%8d/
LOCATION:Zephyr Hall\, 愛知県名古屋市中区錦3丁目14-21\, 日本
ATTACH;FMTTYPE=image/jpeg:https://zephyrhall.xyz/wp-content/uploads/2025/11/1111合同定期-scaled.jpg
END:VEVENT
END:VCALENDAR