BEGIN:VCALENDAR
VERSION:2.0
PRODID:-//ZephyrHall【ゼファーホール】 - ECPv6.15.20//NONSGML v1.0//EN
CALSCALE:GREGORIAN
METHOD:PUBLISH
X-WR-CALNAME:ZephyrHall【ゼファーホール】
X-ORIGINAL-URL:https://zephyrhall.xyz
X-WR-CALDESC:ZephyrHall【ゼファーホール】 のイベント
REFRESH-INTERVAL;VALUE=DURATION:PT1H
X-Robots-Tag:noindex
X-PUBLISHED-TTL:PT1H
BEGIN:VTIMEZONE
TZID:Asia/Tokyo
BEGIN:STANDARD
TZOFFSETFROM:+0900
TZOFFSETTO:+0900
TZNAME:JST
DTSTART:20240101T000000
END:STANDARD
END:VTIMEZONE
BEGIN:VEVENT
DTSTART;TZID=Asia/Tokyo:20251113T180000
DTEND;TZID=Asia/Tokyo:20251113T213000
DTSTAMP:20260425T105441
CREATED:20251112T100938Z
LAST-MODIFIED:20251112T101434Z
UID:2243-1763056800-1763069400@zephyrhall.xyz
SUMMARY:「KENNY Birthday Happy LIVE - 53rd Anniversary」
DESCRIPTION:「KENNY Birthday Happy LIVE – 53rd Anniversary」\n日時 2025.11.13(木)\n会場 Zephyer Hall\nOPEN/START 18:00/18:30 \nhttps://t.livepocket.jp/e/8_dcu \nFC¥1\,600 \n出演者\nCool-X\nOS☆U\nＯ₂
URL:https://zephyrhall.xyz/event/%e3%80%8ckenny-birthday-happy-live-53rd-anniversary%e3%80%8d/
LOCATION:Zephyr Hall\, 愛知県名古屋市中区錦3丁目14-21\, 日本
ATTACH;FMTTYPE=image/png:https://zephyrhall.xyz/wp-content/uploads/2025/11/1.png
END:VEVENT
END:VCALENDAR