BEGIN:VCALENDAR
VERSION:2.0
PRODID:-//ZephyrHall【ゼファーホール】 - ECPv6.15.20//NONSGML v1.0//EN
CALSCALE:GREGORIAN
METHOD:PUBLISH
X-WR-CALNAME:ZephyrHall【ゼファーホール】
X-ORIGINAL-URL:https://zephyrhall.xyz
X-WR-CALDESC:ZephyrHall【ゼファーホール】 のイベント
REFRESH-INTERVAL;VALUE=DURATION:PT1H
X-Robots-Tag:noindex
X-PUBLISHED-TTL:PT1H
BEGIN:VTIMEZONE
TZID:Asia/Tokyo
BEGIN:STANDARD
TZOFFSETFROM:+0900
TZOFFSETTO:+0900
TZNAME:JST
DTSTART:20240101T000000
END:STANDARD
END:VTIMEZONE
BEGIN:VEVENT
DTSTART;TZID=Asia/Tokyo:20251115T093000
DTEND;TZID=Asia/Tokyo:20251115T223000
DTSTAMP:20260425T104551
CREATED:20251112T103835Z
LAST-MODIFIED:20251113T112632Z
UID:2197-1763199000-1763245800@zephyrhall.xyz
SUMMARY:「アイドルアラモードプチVol.103～名古屋出張2DAYS SP～」
DESCRIPTION:「アイドルアラモードプチVol.103～名古屋出張2DAYS SP～」\n日時 2025.11.15(土)\n会場 Zephyer Hall\nOPEN/START 9:50/10:20 \nhttps://ticketdive.com/event/alamodepetite_121 \n前方¥6\,000\n一般¥3\,500 \n出演者\n手羽先センセーション\nSweet Alley\nPeel the Apple\n月に足跡を残した6人の少女達は一体何を見たのか…\nテラテラ\nルージュブック\nRoot mimi\nI MY ME MINE\nブルーなままで\nI’mew（あいみゅう）\nあまいものつめあわせ\nイイトコドリ\nDrug&Drop\nRe:♡\nなないろ∞ミルキーウェイ\nきっと大切だった\nなみだ色の消しごむ\nラブアグレッション\nTHE ENCORE\n強がりセンセーション\nAerolipop\nあの日見たラッキースター\n未完成のキャラメル\nY∀KiN\nミラクルファンファーレ！\nワガママなラストノート\nルミナスシンフォニー\nさくら色のカレンダー
URL:https://zephyrhall.xyz/event/%e3%80%8c%e3%82%a2%e3%82%a4%e3%83%89%e3%83%ab%e3%82%a2%e3%83%a9%e3%83%a2%e3%83%bc%e3%83%89%e3%83%97%e3%83%81vol-103%ef%bd%9e%e5%90%8d%e5%8f%a4%e5%b1%8b%e5%87%ba%e5%bc%b52days-sp%ef%bd%9e%e3%80%8d/
LOCATION:Zephyr Hall\, 愛知県名古屋市中区錦3丁目14-21\, 日本
ATTACH;FMTTYPE=image/jpeg:https://zephyrhall.xyz/wp-content/uploads/2025/11/1115z.jpg
END:VEVENT
END:VCALENDAR