BEGIN:VCALENDAR
VERSION:2.0
PRODID:-//ZephyrHall【ゼファーホール】 - ECPv6.15.20//NONSGML v1.0//EN
CALSCALE:GREGORIAN
METHOD:PUBLISH
X-WR-CALNAME:ZephyrHall【ゼファーホール】
X-ORIGINAL-URL:https://zephyrhall.xyz
X-WR-CALDESC:ZephyrHall【ゼファーホール】 のイベント
REFRESH-INTERVAL;VALUE=DURATION:PT1H
X-Robots-Tag:noindex
X-PUBLISHED-TTL:PT1H
BEGIN:VTIMEZONE
TZID:Asia/Tokyo
BEGIN:STANDARD
TZOFFSETFROM:+0900
TZOFFSETTO:+0900
TZNAME:JST
DTSTART:20240101T000000
END:STANDARD
END:VTIMEZONE
BEGIN:VEVENT
DTSTART;TZID=Asia/Tokyo:20251116T103000
DTEND;TZID=Asia/Tokyo:20251116T213000
DTSTAMP:20260425T105441
CREATED:20251112T105454Z
LAST-MODIFIED:20251112T105954Z
UID:2194-1763289000-1763328600@zephyrhall.xyz
SUMMARY:「フレオ祭2025 in 名古屋」
DESCRIPTION:「フレオ祭2025 in 名古屋」\n日時 2025.11.16(日)\n会場 Zephyer Hall\nOPEN/START 10:40/11:40 \nhttps://ticketdive.com/event/freosai2025_nagoya \nS¥20\,000\nA¥1\,000 \n出演者\nなみだ色の消しごむ\nTHE ENCORE\nラブアグレッション\n未完成のキャラメル\nあの日見たラッキースター\n強がりセンセーション\nY∀KiN\nミラクルファンファーレ！\nワガママなラストノート\nさくら色のカレンダー\nルミナスシンフォニー\nAerolipop\n君のメインヒロイン
URL:https://zephyrhall.xyz/event/%e3%80%8c%e3%83%95%e3%83%ac%e3%82%aa%e7%a5%ad2025-in-%e5%90%8d%e5%8f%a4%e5%b1%8b%e3%80%8d/
LOCATION:Zephyr Hall\, 愛知県名古屋市中区錦3丁目14-21\, 日本
ATTACH;FMTTYPE=image/jpeg:https://zephyrhall.xyz/wp-content/uploads/2025/11/1116-z.jpg
END:VEVENT
END:VCALENDAR