BEGIN:VCALENDAR
VERSION:2.0
PRODID:-//ZephyrHall【ゼファーホール】 - ECPv6.15.20//NONSGML v1.0//EN
CALSCALE:GREGORIAN
METHOD:PUBLISH
X-WR-CALNAME:ZephyrHall【ゼファーホール】
X-ORIGINAL-URL:https://zephyrhall.xyz
X-WR-CALDESC:ZephyrHall【ゼファーホール】 のイベント
REFRESH-INTERVAL;VALUE=DURATION:PT1H
X-Robots-Tag:noindex
X-PUBLISHED-TTL:PT1H
BEGIN:VTIMEZONE
TZID:Asia/Tokyo
BEGIN:STANDARD
TZOFFSETFROM:+0900
TZOFFSETTO:+0900
TZNAME:JST
DTSTART:20240101T000000
END:STANDARD
END:VTIMEZONE
BEGIN:VEVENT
DTSTART;TZID=Asia/Tokyo:20251117T180000
DTEND;TZID=Asia/Tokyo:20251117T210000
DTSTAMP:20260425T105441
CREATED:20251116T100325Z
LAST-MODIFIED:20251117T081741Z
UID:2199-1763402400-1763413200@zephyrhall.xyz
SUMMARY:「Ladybug vol.1」
DESCRIPTION:「Ladybug vol.1」\n日時 2025.11.17(月)\n会場 Zephyer Hall\nOPEN/START 18:00/18:20 \nhttps://t.livepocket.jp/e/k8qz5 \n前方¥3\,000\n一般¥1\,500 \n出演者\nTHE ENCORE\nimage\nOS☆U\n逆転ねこぱんちっ！\nなないろ∞ミルキーウェイ\nなみだ色の消しごむ\n手羽先センセーション\nBeloved
URL:https://zephyrhall.xyz/event/%e3%80%8cladybug-vol-1%e3%80%8d/
LOCATION:Zephyr Hall\, 愛知県名古屋市中区錦3丁目14-21\, 日本
ATTACH;FMTTYPE=image/jpeg:https://zephyrhall.xyz/wp-content/uploads/2025/11/1117-z-scaled.jpg
END:VEVENT
END:VCALENDAR