BEGIN:VCALENDAR
VERSION:2.0
PRODID:-//ZephyrHall【ゼファーホール】 - ECPv6.15.20//NONSGML v1.0//EN
CALSCALE:GREGORIAN
METHOD:PUBLISH
X-WR-CALNAME:ZephyrHall【ゼファーホール】
X-ORIGINAL-URL:https://zephyrhall.xyz
X-WR-CALDESC:ZephyrHall【ゼファーホール】 のイベント
REFRESH-INTERVAL;VALUE=DURATION:PT1H
X-Robots-Tag:noindex
X-PUBLISHED-TTL:PT1H
BEGIN:VTIMEZONE
TZID:Asia/Tokyo
BEGIN:STANDARD
TZOFFSETFROM:+0900
TZOFFSETTO:+0900
TZNAME:JST
DTSTART:20240101T000000
END:STANDARD
END:VTIMEZONE
BEGIN:VEVENT
DTSTART;TZID=Asia/Tokyo:20251124T103000
DTEND;TZID=Asia/Tokyo:20251124T150000
DTSTAMP:20260425T105453
CREATED:20251120T085121Z
LAST-MODIFIED:20251120T123712Z
UID:2291-1763980200-1763996400@zephyrhall.xyz
SUMMARY:「Live For Badass vol.5」
DESCRIPTION:「Live For Badass vol.5」\n日時 2025.11.24(月)\n会場 Zephyer Hall\nOPEN/START 10:30/10:50 \nhttps://ticketdive.com/event/kEm5DsBgOQ8YLive \n優先¥3\,500\n一般¥1\,500\n女性¥1\,000 \n出演者\nミラクルファンファーレ！\nBeloved\nなないろ∞ミルキーウェイ\nアクリム\nCosmoslay\nめっ！\nY∀KiN\nぜろから☆すた→と\nOS☆U\n蜜兎
URL:https://zephyrhall.xyz/event/%e3%80%8clive-for-badass-vol-5%e3%80%8d/
LOCATION:Zephyr Hall\, 愛知県名古屋市中区錦3丁目14-21\, 日本
ATTACH;FMTTYPE=image/png:https://zephyrhall.xyz/wp-content/uploads/2025/11/フレオ.png
END:VEVENT
BEGIN:VEVENT
DTSTART;TZID=Asia/Tokyo:20251124T170000
DTEND;TZID=Asia/Tokyo:20251124T210000
DTSTAMP:20260425T105453
CREATED:20251120T090158Z
LAST-MODIFIED:20251120T090601Z
UID:2298-1764003600-1764018000@zephyrhall.xyz
SUMMARY:「羽乃りんの 生誕祭2025」
DESCRIPTION:「羽乃りんの 生誕祭2025」\n日時 2025.11.24(月)\n会場 Zephyer Hall\nOPEN/START 17:00/17:30 \nhttps://ticketdive.com/event/rinno_hpb2025 \nS¥10\,000\nA¥5\,000\nB¥1\,500 \n出演者\nTHE ENCORE
URL:https://zephyrhall.xyz/event/%e3%80%8c%e7%be%bd%e4%b9%83%e3%82%8a%e3%82%93%e3%81%ae-%e7%94%9f%e8%aa%95%e7%a5%ad2025%e3%80%8d/
LOCATION:Zephyr Hall\, 愛知県名古屋市中区錦3丁目14-21\, 日本
ATTACH;FMTTYPE=image/jpeg:https://zephyrhall.xyz/wp-content/uploads/2025/11/1124z.jpg
END:VEVENT
END:VCALENDAR