BEGIN:VCALENDAR
VERSION:2.0
PRODID:-//ZephyrHall【ゼファーホール】 - ECPv6.15.20//NONSGML v1.0//EN
CALSCALE:GREGORIAN
METHOD:PUBLISH
X-WR-CALNAME:ZephyrHall【ゼファーホール】
X-ORIGINAL-URL:https://zephyrhall.xyz
X-WR-CALDESC:ZephyrHall【ゼファーホール】 のイベント
REFRESH-INTERVAL;VALUE=DURATION:PT1H
X-Robots-Tag:noindex
X-PUBLISHED-TTL:PT1H
BEGIN:VTIMEZONE
TZID:Asia/Tokyo
BEGIN:STANDARD
TZOFFSETFROM:+0900
TZOFFSETTO:+0900
TZNAME:JST
DTSTART:20240101T000000
END:STANDARD
END:VTIMEZONE
BEGIN:VEVENT
DTSTART;TZID=Asia/Tokyo:20251125T140000
DTEND;TZID=Asia/Tokyo:20251125T213000
DTSTAMP:20260425T105453
CREATED:20251120T091316Z
LAST-MODIFIED:20251120T092759Z
UID:2303-1764079200-1764106200@zephyrhall.xyz
SUMMARY:「でらでらデラックス～沸かせてみせよう。日本の真ん中で！～」
DESCRIPTION:「でらでらデラックス～沸かせてみせよう。日本の真ん中で！～」\n日時 2025.11.25(火)\n会場 Zephyer Hall\nOPEN/START 17:00/18:00 \nhttps://ticketdive.com/event/tenran_HalfAnniversary \nVIP¥20\,000\nS¥8\,000\nA¥5\,000\n一般¥3\,000\nお試し¥500 \n出演者\nテンシンランマン
URL:https://zephyrhall.xyz/event/%e3%80%8c%e3%81%a7%e3%82%89%e3%81%a7%e3%82%89%e3%83%87%e3%83%a9%e3%83%83%e3%82%af%e3%82%b9%ef%bd%9e%e6%b2%b8%e3%81%8b%e3%81%9b%e3%81%a6%e3%81%bf%e3%81%9b%e3%82%88%e3%81%86%e3%80%82%e6%97%a5%e6%9c%ac/
LOCATION:Zephyr Hall\, 愛知県名古屋市中区錦3丁目14-21\, 日本
ATTACH;FMTTYPE=image/jpeg:https://zephyrhall.xyz/wp-content/uploads/2025/11/1125-z-scaled.jpg
END:VEVENT
END:VCALENDAR