BEGIN:VCALENDAR
VERSION:2.0
PRODID:-//ZephyrHall【ゼファーホール】 - ECPv6.15.20//NONSGML v1.0//EN
CALSCALE:GREGORIAN
METHOD:PUBLISH
X-ORIGINAL-URL:https://zephyrhall.xyz
X-WR-CALDESC:ZephyrHall【ゼファーホール】 のイベント
REFRESH-INTERVAL;VALUE=DURATION:PT1H
X-Robots-Tag:noindex
X-PUBLISHED-TTL:PT1H
BEGIN:VTIMEZONE
TZID:Asia/Tokyo
BEGIN:STANDARD
TZOFFSETFROM:+0900
TZOFFSETTO:+0900
TZNAME:JST
DTSTART:20240101T000000
END:STANDARD
END:VTIMEZONE
BEGIN:VEVENT
DTSTART;TZID=Asia/Tokyo:20251127T053000
DTEND;TZID=Asia/Tokyo:20251127T213000
DTSTAMP:20260425T104713
CREATED:20251126T081023Z
LAST-MODIFIED:20251128T070721Z
UID:2312-1764221400-1764279000@zephyrhall.xyz
SUMMARY:「OS☆U 定期LIVE at Zephyr Hall」
DESCRIPTION:「OS☆U 定期LIVE at Zephyr Hall」\n日時 2025.11.27(木)\n会場 Zephyer Hall\nOPEN/START 18:40/19:00 \nhttps://t.livepocket.jp/e/8_s6c \n前方¥2\,000\n一般¥0 \n出演者\nOS☆U
URL:https://zephyrhall.xyz/event/%e3%80%8cos%e2%98%86u-%e5%ae%9a%e6%9c%9flive-at-zephyr-hall%e3%80%8d/
LOCATION:Zephyr Hall\, 愛知県名古屋市中区錦3丁目14-21\, 日本
ATTACH;FMTTYPE=image/jpeg:https://zephyrhall.xyz/wp-content/uploads/2025/11/1127-z-.jpg
END:VEVENT
END:VCALENDAR