BEGIN:VCALENDAR
VERSION:2.0
PRODID:-//ZephyrHall【ゼファーホール】 - ECPv6.15.20//NONSGML v1.0//EN
CALSCALE:GREGORIAN
METHOD:PUBLISH
X-WR-CALNAME:ZephyrHall【ゼファーホール】
X-ORIGINAL-URL:https://zephyrhall.xyz
X-WR-CALDESC:ZephyrHall【ゼファーホール】 のイベント
REFRESH-INTERVAL;VALUE=DURATION:PT1H
X-Robots-Tag:noindex
X-PUBLISHED-TTL:PT1H
BEGIN:VTIMEZONE
TZID:Asia/Tokyo
BEGIN:STANDARD
TZOFFSETFROM:+0900
TZOFFSETTO:+0900
TZNAME:JST
DTSTART:20240101T000000
END:STANDARD
END:VTIMEZONE
BEGIN:VEVENT
DTSTART;TZID=Asia/Tokyo:20251217T173000
DTEND;TZID=Asia/Tokyo:20251217T213000
DTSTAMP:20260425T091757
CREATED:20251213T091956Z
LAST-MODIFIED:20251213T091956Z
UID:2415-1765992600-1766007000@zephyrhall.xyz
SUMMARY:降RINフェス〜卒業直前SP〜
DESCRIPTION:降RINフェス〜卒業直前SP〜\n日時 2025.12.17(水)\n会場 Zephyer Hall\nOPEN/START 17:30/18:00 \nhttps://ticketdive.com/event/kouRINfes2025 \n前方¥3\,000\n一般¥900 \n出演者\nOS☆U\nO-STAR研究生\nアクリム\nＯ₂\nおちゃメンタル☆パーティー\nテンシンランマン
URL:https://zephyrhall.xyz/event/%e9%99%8drin%e3%83%95%e3%82%a7%e3%82%b9%e3%80%9c%e5%8d%92%e6%a5%ad%e7%9b%b4%e5%89%8dsp%e3%80%9c/
LOCATION:Zephyr Hall\, 愛知県名古屋市中区錦3丁目14-21\, 日本
ATTACH;FMTTYPE=image/jpeg:https://zephyrhall.xyz/wp-content/uploads/2025/12/1217-z.jpg
END:VEVENT
END:VCALENDAR