BEGIN:VCALENDAR
VERSION:2.0
PRODID:-//ZephyrHall【ゼファーホール】 - ECPv6.15.20//NONSGML v1.0//EN
CALSCALE:GREGORIAN
METHOD:PUBLISH
X-WR-CALNAME:ZephyrHall【ゼファーホール】
X-ORIGINAL-URL:https://zephyrhall.xyz
X-WR-CALDESC:ZephyrHall【ゼファーホール】 のイベント
REFRESH-INTERVAL;VALUE=DURATION:PT1H
X-Robots-Tag:noindex
X-PUBLISHED-TTL:PT1H
BEGIN:VTIMEZONE
TZID:Asia/Tokyo
BEGIN:STANDARD
TZOFFSETFROM:+0900
TZOFFSETTO:+0900
TZNAME:JST
DTSTART:20240101T000000
END:STANDARD
END:VTIMEZONE
BEGIN:VEVENT
DTSTART;TZID=Asia/Tokyo:20251220T113000
DTEND;TZID=Asia/Tokyo:20251220T170000
DTSTAMP:20260425T091756
CREATED:20251217T112451Z
LAST-MODIFIED:20251217T112850Z
UID:2423-1766230200-1766250000@zephyrhall.xyz
SUMMARY:『名古屋事変』1日目
DESCRIPTION:『名古屋事変』1日目\n日時 2025.12.20(土)\n会場 Zephyer Hall\nOPEN/START 11:30/11:50 \nhttps://ticketdive.com/event/251220n \n前方¥5\,000\n一般¥0 \n出演者\nマーキュロ\nクララ・マグラ\nVILLAINS HOUSE\nギミック\nクライセカイ\nサークルライチ塾生二期\nMADMED\nマザリ\nTwilight BlooM.\n愛※ぱんでみっく！\nきっと大切だった\nSHIROMIZAKANA
URL:https://zephyrhall.xyz/event/%e3%80%8e%e5%90%8d%e5%8f%a4%e5%b1%8b%e4%ba%8b%e5%a4%89%e3%80%8f1%e6%97%a5%e7%9b%ae/
LOCATION:Zephyr Hall\, 愛知県名古屋市中区錦3丁目14-21\, 日本
ATTACH;FMTTYPE=image/jpeg:https://zephyrhall.xyz/wp-content/uploads/2025/12/1220-z-1部-scaled.jpg
END:VEVENT
BEGIN:VEVENT
DTSTART;TZID=Asia/Tokyo:20251220T163000
DTEND;TZID=Asia/Tokyo:20251220T223000
DTSTAMP:20260425T091756
CREATED:20251217T113030Z
LAST-MODIFIED:20251217T113408Z
UID:2428-1766248200-1766269800@zephyrhall.xyz
SUMMARY:サークルライチ&MAD'S iNK主催『アウトロー』
DESCRIPTION:サークルライチ&MAD’S iNK主催『アウトロー』\n日時 2025.12.20(土)\n会場 Zephyer Hall\nOPEN/START 16:25/16:45 \nhttps://ticketdive.com/event/251220z \n前方¥5\,000\n一般¥2\,000 \n出演者\nマーキュロ\nベロティカ\nクララ・マグラ\nVILLAINS HOUSE\nクライセカイ\nギミック\nセクト\nサークルライチ塾生二期\nMADMED\nマザリ\nめっ！
URL:https://zephyrhall.xyz/event/%e3%82%b5%e3%83%bc%e3%82%af%e3%83%ab%e3%83%a9%e3%82%a4%e3%83%81mads-ink%e4%b8%bb%e5%82%ac%e3%80%8e%e3%82%a2%e3%82%a6%e3%83%88%e3%83%ad%e3%83%bc%e3%80%8f/
LOCATION:Zephyr Hall\, 愛知県名古屋市中区錦3丁目14-21\, 日本
ATTACH;FMTTYPE=image/jpeg:https://zephyrhall.xyz/wp-content/uploads/2025/12/1220-z-2部.jpg
END:VEVENT
END:VCALENDAR