BEGIN:VCALENDAR
VERSION:2.0
PRODID:-//ZephyrHall【ゼファーホール】 - ECPv6.15.20//NONSGML v1.0//EN
CALSCALE:GREGORIAN
METHOD:PUBLISH
X-WR-CALNAME:ZephyrHall【ゼファーホール】
X-ORIGINAL-URL:https://zephyrhall.xyz
X-WR-CALDESC:ZephyrHall【ゼファーホール】 のイベント
REFRESH-INTERVAL;VALUE=DURATION:PT1H
X-Robots-Tag:noindex
X-PUBLISHED-TTL:PT1H
BEGIN:VTIMEZONE
TZID:Asia/Tokyo
BEGIN:STANDARD
TZOFFSETFROM:+0900
TZOFFSETTO:+0900
TZNAME:JST
DTSTART:20240101T000000
END:STANDARD
END:VTIMEZONE
BEGIN:VEVENT
DTSTART;TZID=Asia/Tokyo:20251224T143000
DTEND;TZID=Asia/Tokyo:20251224T223000
DTSTAMP:20260425T091756
CREATED:20251219T120222Z
LAST-MODIFIED:20251219T120612Z
UID:2450-1766586600-1766615400@zephyrhall.xyz
SUMMARY:NNGF ~ X'mas SP!! Day1
DESCRIPTION:NNGF ~ X’mas SP!! Day1\n日時 2025.12.24(水)\n会場 Zephyer Hall\nOPEN/START 14:30/15:00 \nhttps://livepocket.jp/e/nngf251224 \n前方¥6\,000\n一般¥3\,000\n女性¥2\,000 \n出演者\nシンデレラ宣言！\nシュレーディンガーの犬\nAlcute！\n君に、胸キュン。\nマザリ\nめっ！\nぜろから☆すた→と\nSTARRY×NIGHT↗\nシャニムニ＝パレード\n逆転ねこぱんちっ！\nLollipop♡CHU\nTwilight BlooM.\nSWDN
URL:https://zephyrhall.xyz/event/nngf-xmas-sp-day1/
LOCATION:Zephyr Hall\, 愛知県名古屋市中区錦3丁目14-21\, 日本
ATTACH;FMTTYPE=image/png:https://zephyrhall.xyz/wp-content/uploads/2025/12/1224-z-scaled.png
END:VEVENT
END:VCALENDAR