BEGIN:VCALENDAR
VERSION:2.0
PRODID:-//ZephyrHall【ゼファーホール】 - ECPv6.15.20//NONSGML v1.0//EN
CALSCALE:GREGORIAN
METHOD:PUBLISH
X-ORIGINAL-URL:https://zephyrhall.xyz
X-WR-CALDESC:ZephyrHall【ゼファーホール】 のイベント
REFRESH-INTERVAL;VALUE=DURATION:PT1H
X-Robots-Tag:noindex
X-PUBLISHED-TTL:PT1H
BEGIN:VTIMEZONE
TZID:Asia/Tokyo
BEGIN:STANDARD
TZOFFSETFROM:+0900
TZOFFSETTO:+0900
TZNAME:JST
DTSTART:20240101T000000
END:STANDARD
END:VTIMEZONE
BEGIN:VEVENT
DTSTART;TZID=Asia/Tokyo:20251227T120000
DTEND;TZID=Asia/Tokyo:20251227T140000
DTSTAMP:20260425T091807
CREATED:20251225T071145Z
LAST-MODIFIED:20251225T071547Z
UID:2465-1766836800-1766844000@zephyrhall.xyz
SUMMARY:BANDSET EDITION ~2025感謝祭~
DESCRIPTION:BANDSET EDITION ~2025感謝祭~\n日時 2025.12.27(土)\n会場 Zephyer Hall\nOPEN/START 12:10/12:40 \nhttps://livepocket.jp/e/bandamo1227 \n最優先¥10\,000 (アモミリサイン色紙)　\n優先¥3\,000\n後方¥0 \n出演者\n橋本さおり\nAMOmillion\nLoneMarch
URL:https://zephyrhall.xyz/event/bandset-edition-2025%e6%84%9f%e8%ac%9d%e7%a5%ad/
LOCATION:Zephyr Hall\, 愛知県名古屋市中区錦3丁目14-21\, 日本
ATTACH;FMTTYPE=image/jpeg:https://zephyrhall.xyz/wp-content/uploads/2025/12/1227-z-1部.jpg
END:VEVENT
BEGIN:VEVENT
DTSTART;TZID=Asia/Tokyo:20251227T153000
DTEND;TZID=Asia/Tokyo:20251227T213000
DTSTAMP:20260425T091807
CREATED:20251225T072145Z
LAST-MODIFIED:20251225T072727Z
UID:2471-1766849400-1766871000@zephyrhall.xyz
SUMMARY:橋本さおり生誕祭2025
DESCRIPTION:橋本さおり生誕祭2025\n日時 2025.12.27(土)\n会場 Zephyer Hall\nOPEN/START 15:30/16:30 \nhttps://t.livepocket.jp/e/saoriamo1227 \n優先¥3\,000\n一般¥1\,000 \n出演者\nSINGULARITY\n今日から推しじゃだめですか?\nAmaryllis\nsweet♡union\nLove it ice\n来る日も、藍色。\nmofu/mofu\nNO♡AF\nAMO million\n橋本さおり
URL:https://zephyrhall.xyz/event/%e6%a9%8b%e6%9c%ac%e3%81%95%e3%81%8a%e3%82%8a%e7%94%9f%e8%aa%95%e7%a5%ad2025/
LOCATION:Zephyr Hall\, 愛知県名古屋市中区錦3丁目14-21\, 日本
ATTACH;FMTTYPE=image/png:https://zephyrhall.xyz/wp-content/uploads/2025/12/1227-z-2部.png
END:VEVENT
END:VCALENDAR