BEGIN:VCALENDAR
VERSION:2.0
PRODID:-//ZephyrHall【ゼファーホール】 - ECPv6.15.20//NONSGML v1.0//EN
CALSCALE:GREGORIAN
METHOD:PUBLISH
X-WR-CALNAME:ZephyrHall【ゼファーホール】
X-ORIGINAL-URL:https://zephyrhall.xyz
X-WR-CALDESC:ZephyrHall【ゼファーホール】 のイベント
REFRESH-INTERVAL;VALUE=DURATION:PT1H
X-Robots-Tag:noindex
X-PUBLISHED-TTL:PT1H
BEGIN:VTIMEZONE
TZID:Asia/Tokyo
BEGIN:STANDARD
TZOFFSETFROM:+0900
TZOFFSETTO:+0900
TZNAME:JST
DTSTART:20240101T000000
END:STANDARD
END:VTIMEZONE
BEGIN:VEVENT
DTSTART;TZID=Asia/Tokyo:20251229T103000
DTEND;TZID=Asia/Tokyo:20251229T140000
DTSTAMP:20260425T075137
CREATED:20251225T074935Z
LAST-MODIFIED:20251229T045419Z
UID:2485-1767004200-1767016800@zephyrhall.xyz
SUMMARY:降RINフェス〜卒業直前SP〜
DESCRIPTION:降RINフェス〜卒業直前SP〜\n日時 2025.12.29(月)\n会場 Zephyer Hall\nOPEN/START 10:40/11:10 \nhttps://t.livepocket.jp/e/elvki \n前方¥3\,500\n一般¥900 \n出演者\nOS☆U\nＯ₂\nアクリム\nGenesis Girl\nO-STAR研究生
URL:https://zephyrhall.xyz/event/%e9%99%8drin%e3%83%95%e3%82%a7%e3%82%b9%e3%80%9c%e5%8d%92%e6%a5%ad%e7%9b%b4%e5%89%8dsp%e3%80%9c-2/
LOCATION:Zephyr Hall\, 愛知県名古屋市中区錦3丁目14-21\, 日本
ATTACH;FMTTYPE=image/jpeg:https://zephyrhall.xyz/wp-content/uploads/2025/12/1229-z-TT.jpg
END:VEVENT
BEGIN:VEVENT
DTSTART;TZID=Asia/Tokyo:20251229T153000
DTEND;TZID=Asia/Tokyo:20251229T220000
DTSTAMP:20260425T075137
CREATED:20251225T081215Z
LAST-MODIFIED:20251229T045451Z
UID:2491-1767022200-1767045600@zephyrhall.xyz
SUMMARY:香田リン卒業公演 〜Brandnewdays〜
DESCRIPTION:香田リン卒業公演 〜Brandnewdays〜\n日時 2025.12.29(月)\n会場 Zephyer Hall\nOPEN/START 17:00/18:00 \nhttps://t.livepocket.jp/e/5813q \nVIP¥28\,000\nFC¥5\,000\n撮影可能席¥10\,000\n前方¥5\,000\n一般¥2\,400 \n出演者\n出雲やえ\n香田リン\n水沢桃々\n幸村望叶\n桃川ひの\n秋原かなみ\n佐伯茉菜美\n幸村一花\n花咲璃里華\n橘華夜
URL:https://zephyrhall.xyz/event/%e9%a6%99%e7%94%b0%e3%83%aa%e3%83%b3%e5%8d%92%e6%a5%ad%e5%85%ac%e6%bc%94-%e3%80%9cbrandnewdays%e3%80%9c/
LOCATION:Zephyr Hall\, 愛知県名古屋市中区錦3丁目14-21\, 日本
ATTACH;FMTTYPE=image/jpeg:https://zephyrhall.xyz/wp-content/uploads/2025/12/1229-z-scaled.jpg
END:VEVENT
END:VCALENDAR