BEGIN:VCALENDAR
VERSION:2.0
PRODID:-//ZephyrHall【ゼファーホール】 - ECPv6.15.20//NONSGML v1.0//EN
CALSCALE:GREGORIAN
METHOD:PUBLISH
X-ORIGINAL-URL:https://zephyrhall.xyz
X-WR-CALDESC:ZephyrHall【ゼファーホール】 のイベント
REFRESH-INTERVAL;VALUE=DURATION:PT1H
X-Robots-Tag:noindex
X-PUBLISHED-TTL:PT1H
BEGIN:VTIMEZONE
TZID:Asia/Tokyo
BEGIN:STANDARD
TZOFFSETFROM:+0900
TZOFFSETTO:+0900
TZNAME:JST
DTSTART:20250101T000000
END:STANDARD
END:VTIMEZONE
BEGIN:VEVENT
DTSTART;TZID=Asia/Tokyo:20260102T120000
DTEND;TZID=Asia/Tokyo:20260102T160000
DTSTAMP:20260425T075237
CREATED:20251229T055316Z
LAST-MODIFIED:20260330T101236Z
UID:2516-1767355200-1767369600@zephyrhall.xyz
SUMMARY:GMG歌謡祭-2026-
DESCRIPTION:GMG歌謡祭-2026-\n日時 2026.1.2(金)\n会場 Zephyer Hall\nOPEN/START 12:00/12:20 \nhttps://ticketdive.com/event/ccTkRdgtu9dgtWezxjjT \n優先¥2\,500\n一般¥1\,000 \n出演者\nぜろから☆すた→と\nSTARRY×NIGHT↗
URL:https://zephyrhall.xyz/event/gmg%e6%ad%8c%e8%ac%a1%e7%a5%ad-2026/
LOCATION:Zephyr Hall\, 愛知県名古屋市中区錦3丁目14-21\, 日本
ATTACH;FMTTYPE=image/jpeg:https://zephyrhall.xyz/wp-content/uploads/2025/12/12-z.jpg
END:VEVENT
BEGIN:VEVENT
DTSTART;TZID=Asia/Tokyo:20260102T180000
DTEND;TZID=Asia/Tokyo:20260102T220000
DTSTAMP:20260425T075237
CREATED:20251229T062039Z
LAST-MODIFIED:20260330T101309Z
UID:2521-1767376800-1767391200@zephyrhall.xyz
SUMMARY:NOISE NEVER DIES 　〜 New Chapter 1st Anniversary Show〜
DESCRIPTION:NOISE NEVER DIES 　〜 New Chapter 1st Anniversary Show〜\n日時 2026.1.2(金)\n会場 Zephyer Hall\nOPEN/START 18:00/18:30 \nhttps://ticketdive.com/event/QyQ4A2WuvOQKxBn7vBQg \nS¥12\,600\n優先¥3\,600\n無銭¥600 \n出演者\nSiLENT←NOiSE
URL:https://zephyrhall.xyz/event/noise-never-dies-%e3%80%80%e3%80%9c-new-chapter-1st-anniversary-show%e3%80%9c/
LOCATION:Zephyr Hall\, 愛知県名古屋市中区錦3丁目14-21\, 日本
ATTACH;FMTTYPE=image/jpeg:https://zephyrhall.xyz/wp-content/uploads/2025/12/12-2部.jpg
END:VEVENT
END:VCALENDAR