BEGIN:VCALENDAR
VERSION:2.0
PRODID:-//ZephyrHall【ゼファーホール】 - ECPv6.15.20//NONSGML v1.0//EN
CALSCALE:GREGORIAN
METHOD:PUBLISH
X-ORIGINAL-URL:https://zephyrhall.xyz
X-WR-CALDESC:ZephyrHall【ゼファーホール】 のイベント
REFRESH-INTERVAL;VALUE=DURATION:PT1H
X-Robots-Tag:noindex
X-PUBLISHED-TTL:PT1H
BEGIN:VTIMEZONE
TZID:Asia/Tokyo
BEGIN:STANDARD
TZOFFSETFROM:+0900
TZOFFSETTO:+0900
TZNAME:JST
DTSTART:20250101T000000
END:STANDARD
END:VTIMEZONE
BEGIN:VEVENT
DTSTART;TZID=Asia/Tokyo:20260104T130000
DTEND;TZID=Asia/Tokyo:20260104T163000
DTSTAMP:20260425T075232
CREATED:20251229T092134Z
LAST-MODIFIED:20260330T101410Z
UID:2531-1767531600-1767544200@zephyrhall.xyz
SUMMARY:南ことの生誕祭~ことちおめでとち~
DESCRIPTION:南ことの生誕祭~ことちおめでとち~\n日時 2026.1.4(日)\n会場 Zephyer Hall\nOPEN/START 13:00/13:30 \nhttps://ticketdive.com/event/minamikotonoBirthday2026 \nSS¥25\,000\nS¥10\,000\n一般¥1\,000 \n出演者\n君に、胸キュン。
URL:https://zephyrhall.xyz/event/%e5%8d%97%e3%81%93%e3%81%a8%e3%81%ae%e7%94%9f%e8%aa%95%e7%a5%ad%e3%81%93%e3%81%a8%e3%81%a1%e3%81%8a%e3%82%81%e3%81%a7%e3%81%a8%e3%81%a1/
LOCATION:Zephyr Hall\, 愛知県名古屋市中区錦3丁目14-21\, 日本
ATTACH;FMTTYPE=image/jpeg:https://zephyrhall.xyz/wp-content/uploads/2025/12/14-z.jpg
END:VEVENT
BEGIN:VEVENT
DTSTART;TZID=Asia/Tokyo:20260104T170000
DTEND;TZID=Asia/Tokyo:20260104T220000
DTSTAMP:20260425T075232
CREATED:20251230T085751Z
LAST-MODIFIED:20260330T101442Z
UID:2536-1767546000-1767564000@zephyrhall.xyz
SUMMARY:AUR FES-新春SP-
DESCRIPTION:AUR FES-新春SP-\n日時 2026.1.4(日)\n会場 Zephyer Hall\nOPEN/START 17:00/17:20 \nhttps://ticketdive.com/event/AURFES20260104 \n優先¥2\,026\n一般¥500 \n出演者\n逆転ねこぱんちっ！\n蜜兎\nAQA\nLollipop♡CHU\nあすとりーのうさぎ\nPULSAR_CLIMAX\nきゅーんず！\nimage\n輝きぱにっく\n天色のメロディー\nMATANAGOYA
URL:https://zephyrhall.xyz/event/aur-fes-%e6%96%b0%e6%98%a5sp/
LOCATION:Zephyr Hall\, 愛知県名古屋市中区錦3丁目14-21\, 日本
ATTACH;FMTTYPE=image/jpeg:https://zephyrhall.xyz/wp-content/uploads/2025/12/14-2部-z.jpg
END:VEVENT
END:VCALENDAR