BEGIN:VCALENDAR
VERSION:2.0
PRODID:-//ZephyrHall【ゼファーホール】 - ECPv6.15.20//NONSGML v1.0//EN
CALSCALE:GREGORIAN
METHOD:PUBLISH
X-ORIGINAL-URL:https://zephyrhall.xyz
X-WR-CALDESC:ZephyrHall【ゼファーホール】 のイベント
REFRESH-INTERVAL;VALUE=DURATION:PT1H
X-Robots-Tag:noindex
X-PUBLISHED-TTL:PT1H
BEGIN:VTIMEZONE
TZID:Asia/Tokyo
BEGIN:STANDARD
TZOFFSETFROM:+0900
TZOFFSETTO:+0900
TZNAME:JST
DTSTART:20250101T000000
END:STANDARD
END:VTIMEZONE
BEGIN:VEVENT
DTSTART;TZID=Asia/Tokyo:20260105T160000
DTEND;TZID=Asia/Tokyo:20260105T203000
DTSTAMP:20260425T075232
CREATED:20260104T013657Z
LAST-MODIFIED:20260330T101507Z
UID:2541-1767628800-1767645000@zephyrhall.xyz
SUMMARY:Seven.5
DESCRIPTION:Seven.5\n日時 2026.1.5(月)\n会場 Zephyer Hall\nOPEN/START 16:00/16:45 \nhttps://expg.jp/info/detail.php?info_id=8839&category_id=1 \n前売¥3\,000\n当日¥3\,500
URL:https://zephyrhall.xyz/event/seven-5-2/
LOCATION:Zephyr Hall\, 愛知県名古屋市中区錦3丁目14-21\, 日本
ATTACH;FMTTYPE=image/jpeg:https://zephyrhall.xyz/wp-content/uploads/2026/01/15-z.jpg
END:VEVENT
END:VCALENDAR