BEGIN:VCALENDAR
VERSION:2.0
PRODID:-//ZephyrHall【ゼファーホール】 - ECPv6.15.20//NONSGML v1.0//EN
CALSCALE:GREGORIAN
METHOD:PUBLISH
X-ORIGINAL-URL:https://zephyrhall.xyz
X-WR-CALDESC:ZephyrHall【ゼファーホール】 のイベント
REFRESH-INTERVAL;VALUE=DURATION:PT1H
X-Robots-Tag:noindex
X-PUBLISHED-TTL:PT1H
BEGIN:VTIMEZONE
TZID:Asia/Tokyo
BEGIN:STANDARD
TZOFFSETFROM:+0900
TZOFFSETTO:+0900
TZNAME:JST
DTSTART:20250101T000000
END:STANDARD
END:VTIMEZONE
BEGIN:VEVENT
DTSTART;TZID=Asia/Tokyo:20260107T050000
DTEND;TZID=Asia/Tokyo:20260107T210000
DTSTAMP:20260425T075146
CREATED:20260105T050245Z
LAST-MODIFIED:20260330T101612Z
UID:2556-1767762000-1767819600@zephyrhall.xyz
SUMMARY:テンラン会〜新年編〜DAY２
DESCRIPTION:テンラン会〜新年編〜DAY２\n日時 2026.1.7(水)\n会場 Zephyer Hall\nOPEN/START 17:00/17:50 \nhttps://ticketdive.com/event/tenran_newyear2 \n前方¥5\,000\n一般¥1\,000 \n出演者\nテンシンランマン\nMEGAFON\nラストシーン\nのんふぃく！
URL:https://zephyrhall.xyz/event/%e3%83%86%e3%83%b3%e3%83%a9%e3%83%b3%e4%bc%9a%e3%80%9c%e6%96%b0%e5%b9%b4%e7%b7%a8%e3%80%9cday%ef%bc%92/
LOCATION:Zephyr Hall\, 愛知県名古屋市中区錦3丁目14-21\, 日本
ATTACH;FMTTYPE=image/jpeg:https://zephyrhall.xyz/wp-content/uploads/2026/01/0107_TTあり告知画像_0-scaled.jpg
END:VEVENT
END:VCALENDAR