BEGIN:VCALENDAR
VERSION:2.0
PRODID:-//ZephyrHall【ゼファーホール】 - ECPv6.15.20//NONSGML v1.0//EN
CALSCALE:GREGORIAN
METHOD:PUBLISH
X-ORIGINAL-URL:https://zephyrhall.xyz
X-WR-CALDESC:ZephyrHall【ゼファーホール】 のイベント
REFRESH-INTERVAL;VALUE=DURATION:PT1H
X-Robots-Tag:noindex
X-PUBLISHED-TTL:PT1H
BEGIN:VTIMEZONE
TZID:Asia/Tokyo
BEGIN:STANDARD
TZOFFSETFROM:+0900
TZOFFSETTO:+0900
TZNAME:JST
DTSTART:20250101T000000
END:STANDARD
END:VTIMEZONE
BEGIN:VEVENT
DTSTART;TZID=Asia/Tokyo:20260111T110000
DTEND;TZID=Asia/Tokyo:20260111T150000
DTSTAMP:20260425T075237
CREATED:20260110T033314Z
LAST-MODIFIED:20260330T101838Z
UID:2581-1768129200-1768143600@zephyrhall.xyz
SUMMARY:iPASS TAKUMA生誕祭2026 前昼祭
DESCRIPTION:iPASS TAKUMA生誕祭2026 前昼祭\n日時 2026.1.11(土)\n会場 Zephyer Hall\nOPEN/START 11:00/11:20 \nhttps://tiget.net/events/453473 \nチケット¥2\,900 \n出演者\niPASS\nボクとキミ\nReborn\nLumi7’s\nミスティック•ドール
URL:https://zephyrhall.xyz/event/ipass-takuma%e7%94%9f%e8%aa%95%e7%a5%ad2026-%e5%89%8d%e6%98%bc%e7%a5%ad/
LOCATION:Zephyr Hall\, 愛知県名古屋市中区錦3丁目14-21\, 日本
ATTACH;FMTTYPE=image/jpeg:https://zephyrhall.xyz/wp-content/uploads/2026/01/111-z-1部-.jpg
END:VEVENT
BEGIN:VEVENT
DTSTART;TZID=Asia/Tokyo:20260111T153000
DTEND;TZID=Asia/Tokyo:20260111T220000
DTSTAMP:20260425T075237
CREATED:20260110T033830Z
LAST-MODIFIED:20260330T102348Z
UID:2587-1768145400-1768168800@zephyrhall.xyz
SUMMARY:iPASS TAKUMA生誕祭 2026
DESCRIPTION:iPASS TAKUMA生誕祭 2026\n日時 2026.1.11(土)\n会場 Zephyer Hall\nOPEN/START 15:40/16:00 \nhttps://tiget.net/events/453475 \nチケット¥3\,400 \n出演者\niPASS\nボクとキミ\nReborn\nUNWHITE\nLumi7’s\nミスティック・ドール
URL:https://zephyrhall.xyz/event/ipass-takuma%e7%94%9f%e8%aa%95%e7%a5%ad-2026/
LOCATION:Zephyr Hall\, 愛知県名古屋市中区錦3丁目14-21\, 日本
ATTACH;FMTTYPE=image/jpeg:https://zephyrhall.xyz/wp-content/uploads/2026/01/111-z-2部-.jpg
END:VEVENT
END:VCALENDAR