BEGIN:VCALENDAR
VERSION:2.0
PRODID:-//ZephyrHall【ゼファーホール】 - ECPv6.15.20//NONSGML v1.0//EN
CALSCALE:GREGORIAN
METHOD:PUBLISH
X-ORIGINAL-URL:https://zephyrhall.xyz
X-WR-CALDESC:ZephyrHall【ゼファーホール】 のイベント
REFRESH-INTERVAL;VALUE=DURATION:PT1H
X-Robots-Tag:noindex
X-PUBLISHED-TTL:PT1H
BEGIN:VTIMEZONE
TZID:Asia/Tokyo
BEGIN:STANDARD
TZOFFSETFROM:+0900
TZOFFSETTO:+0900
TZNAME:JST
DTSTART:20250101T000000
END:STANDARD
END:VTIMEZONE
BEGIN:VEVENT
DTSTART;TZID=Asia/Tokyo:20260117T140000
DTEND;TZID=Asia/Tokyo:20260117T183000
DTSTAMP:20260425T075232
CREATED:20260117T022942Z
LAST-MODIFIED:20260330T102510Z
UID:2604-1768658400-1768674600@zephyrhall.xyz
SUMMARY:Cool-X LIVE 2026 -ONE BY ONE-
DESCRIPTION:Cool-X LIVE 2026 -ONE BY ONE-\n日時 2026.1.17(土)\n会場 Zephyer Hall\nOPEN/START 14:00/15:00 \nhttps://ticketdive.com/event/2026onebyone \nS¥6\,900\nA¥3\,900 \n出演者\nCool-X
URL:https://zephyrhall.xyz/event/cool-x-live-2026-one-by-one/
LOCATION:Zephyr Hall\, 愛知県名古屋市中区錦3丁目14-21\, 日本
ATTACH;FMTTYPE=image/jpeg:https://zephyrhall.xyz/wp-content/uploads/2026/01/117-z-1部.jpeg
END:VEVENT
BEGIN:VEVENT
DTSTART;TZID=Asia/Tokyo:20260117T190000
DTEND;TZID=Asia/Tokyo:20260117T213000
DTSTAMP:20260425T075232
CREATED:20260117T023715Z
LAST-MODIFIED:20260330T102541Z
UID:2609-1768676400-1768685400@zephyrhall.xyz
SUMMARY:-ONE BY ONE- After Fan Meeting in Zephyr Hall
DESCRIPTION:-ONE BY ONE- After Fan Meeting in Zephyr Hall\n日時 2026.1.17(土)\n会場 Zephyer Hall\nOPEN/START 19:00/19:30 \nhttps://ticketdive.com/event/wu9Npy1KkaAdaiXQTnAY \nFC¥2\,900\n一般¥2\,900 \n出演者\nCool-X
URL:https://zephyrhall.xyz/event/one-by-one-after-fan-meeting-in-zephyr-hall/
LOCATION:Zephyr Hall\, 愛知県名古屋市中区錦3丁目14-21\, 日本
ATTACH;FMTTYPE=image/jpeg:https://zephyrhall.xyz/wp-content/uploads/2026/01/117-z-2部.jpeg
END:VEVENT
END:VCALENDAR