BEGIN:VCALENDAR
VERSION:2.0
PRODID:-//ZephyrHall【ゼファーホール】 - ECPv6.15.20//NONSGML v1.0//EN
CALSCALE:GREGORIAN
METHOD:PUBLISH
X-WR-CALNAME:ZephyrHall【ゼファーホール】
X-ORIGINAL-URL:https://zephyrhall.xyz
X-WR-CALDESC:ZephyrHall【ゼファーホール】 のイベント
REFRESH-INTERVAL;VALUE=DURATION:PT1H
X-Robots-Tag:noindex
X-PUBLISHED-TTL:PT1H
BEGIN:VTIMEZONE
TZID:Asia/Tokyo
BEGIN:STANDARD
TZOFFSETFROM:+0900
TZOFFSETTO:+0900
TZNAME:JST
DTSTART:20250101T000000
END:STANDARD
END:VTIMEZONE
BEGIN:VEVENT
DTSTART;TZID=Asia/Tokyo:20260201T100000
DTEND;TZID=Asia/Tokyo:20260201T153000
DTSTAMP:20260425T063635
CREATED:20260130T090324Z
LAST-MODIFIED:20260330T103352Z
UID:2660-1769940000-1769959800@zephyrhall.xyz
SUMMARY:RAD iD LIVE mode Z_1
DESCRIPTION:RAD iD LIVE mode Z_1\n日時 2026.2.1(日)\n会場 Zephyer Hall\nOPEN/START 10:00/10:20 \nhttps://livepocket.jp/e/0201_mode_1 \n前方¥3\,500\n通常¥2\,000 \n出演者\nTwilight BlooM.\nBOCCHI。\nプエラの絶対値\nLollipop♡CHU\nアイドルカレッジ\nあたまのなかは8ビット!?\nティラミス\nすてねこキャッツ\nテンシンランマン\nROY Limited GIRLFRIEND
URL:https://zephyrhall.xyz/event/rad-id-live-mode-z_1-2/
LOCATION:Zephyr Hall\, 愛知県名古屋市中区錦3丁目14-21\, 日本
ATTACH;FMTTYPE=image/jpeg:https://zephyrhall.xyz/wp-content/uploads/2026/01/2.1-裏イベ-01.jpg
END:VEVENT
BEGIN:VEVENT
DTSTART;TZID=Asia/Tokyo:20260201T160000
DTEND;TZID=Asia/Tokyo:20260201T213000
DTSTAMP:20260425T063635
CREATED:20260130T090906Z
LAST-MODIFIED:20260330T103415Z
UID:2665-1769961600-1769981400@zephyrhall.xyz
SUMMARY:RAD iD LIVE mode Z_2
DESCRIPTION:RAD iD LIVE mode Z_2\n日時 2026.2.1(日)\n会場 Zephyer Hall\nOPEN/START 16:00/16:20 \nhttps://livepocket.jp/e/0201_mode_z2 \n前方¥3\,500\n通常¥2\,000 \n出演者\nCherie!\nimage\nハニースパイス Re.\nO₂\n輝きぱにっく\nミラクルファンファーレ！\n逆転ねこぱんちっ！
URL:https://zephyrhall.xyz/event/rad-id-live-mode-z_2-2/
LOCATION:Zephyr Hall\, 愛知県名古屋市中区錦3丁目14-21\, 日本
ATTACH;FMTTYPE=image/jpeg:https://zephyrhall.xyz/wp-content/uploads/2026/01/2.1-裏イベ-22.jpg
END:VEVENT
END:VCALENDAR