BEGIN:VCALENDAR
VERSION:2.0
PRODID:-//ZephyrHall【ゼファーホール】 - ECPv6.15.20//NONSGML v1.0//EN
CALSCALE:GREGORIAN
METHOD:PUBLISH
X-WR-CALNAME:ZephyrHall【ゼファーホール】
X-ORIGINAL-URL:https://zephyrhall.xyz
X-WR-CALDESC:ZephyrHall【ゼファーホール】 のイベント
REFRESH-INTERVAL;VALUE=DURATION:PT1H
X-Robots-Tag:noindex
X-PUBLISHED-TTL:PT1H
BEGIN:VTIMEZONE
TZID:Asia/Tokyo
BEGIN:STANDARD
TZOFFSETFROM:+0900
TZOFFSETTO:+0900
TZNAME:JST
DTSTART:20250101T000000
END:STANDARD
END:VTIMEZONE
BEGIN:VEVENT
DTSTART;TZID=Asia/Tokyo:20260213T173000
DTEND;TZID=Asia/Tokyo:20260213T213000
DTSTAMP:20260425T063634
CREATED:20260208T064503Z
LAST-MODIFIED:20260330T103822Z
UID:2711-1771003800-1771018200@zephyrhall.xyz
SUMMARY:「MUSIC CONNECT-特別編」
DESCRIPTION:「MUSIC CONNECT-特別編」\n日時 2026.2.13(金)\n会場 Zephyer Hall\nOPEN/START 17:40/18:00 \nhttps://livepocket.jp/e/music_ex \n前売¥4\,000\n後方¥1\,000 \n出演者\nLIT\nReborn\nボクとキミ\nAOX\n20SI.\n19Si.
URL:https://zephyrhall.xyz/event/%e3%80%8cmusic-connect-%e7%89%b9%e5%88%a5%e7%b7%a8%e3%80%8d/
LOCATION:Zephyr Hall\, 愛知県名古屋市中区錦3丁目14-21\, 日本
ATTACH;FMTTYPE=image/jpeg:https://zephyrhall.xyz/wp-content/uploads/2026/02/213-z.jpg
END:VEVENT
END:VCALENDAR