BEGIN:VCALENDAR
VERSION:2.0
PRODID:-//ZephyrHall【ゼファーホール】 - ECPv6.15.20//NONSGML v1.0//EN
CALSCALE:GREGORIAN
METHOD:PUBLISH
X-WR-CALNAME:ZephyrHall【ゼファーホール】
X-ORIGINAL-URL:https://zephyrhall.xyz
X-WR-CALDESC:ZephyrHall【ゼファーホール】 のイベント
REFRESH-INTERVAL;VALUE=DURATION:PT1H
X-Robots-Tag:noindex
X-PUBLISHED-TTL:PT1H
BEGIN:VTIMEZONE
TZID:Asia/Tokyo
BEGIN:STANDARD
TZOFFSETFROM:+0900
TZOFFSETTO:+0900
TZNAME:JST
DTSTART:20250101T000000
END:STANDARD
END:VTIMEZONE
BEGIN:VEVENT
DTSTART;TZID=Asia/Tokyo:20260304T000000
DTEND;TZID=Asia/Tokyo:20260304T203000
DTSTAMP:20260425T051046
CREATED:20260227T063915Z
LAST-MODIFIED:20260330T095354Z
UID:2786-1772582400-1772656200@zephyrhall.xyz
SUMMARY:『 DTB TOUR LIVE in名古屋
DESCRIPTION:DTB TOUR LIVE in名古屋\n日時 2026.3.4(水)\n会場 Zephyer Hall\nOPEN/START 16:00/16:45 \nhttps://livepocket.jp/e/dtb20260304 \nS¥6\,000\nA¥4\,000\n当日¥5\,000 \n出演者\nDTB
URL:https://zephyrhall.xyz/event/%e3%80%8e-dtb-tour-live-in%e5%90%8d%e5%8f%a4%e5%b1%8b-%e3%80%8f/
LOCATION:Zephyr Hall\, 愛知県名古屋市中区錦3丁目14-21\, 日本
ATTACH;FMTTYPE=image/jpeg:https://zephyrhall.xyz/wp-content/uploads/2026/02/34-z.jpg
END:VEVENT
END:VCALENDAR