BEGIN:VCALENDAR
VERSION:2.0
PRODID:-//ZephyrHall【ゼファーホール】 - ECPv6.15.20//NONSGML v1.0//EN
CALSCALE:GREGORIAN
METHOD:PUBLISH
X-WR-CALNAME:ZephyrHall【ゼファーホール】
X-ORIGINAL-URL:https://zephyrhall.xyz
X-WR-CALDESC:ZephyrHall【ゼファーホール】 のイベント
REFRESH-INTERVAL;VALUE=DURATION:PT1H
X-Robots-Tag:noindex
X-PUBLISHED-TTL:PT1H
BEGIN:VTIMEZONE
TZID:Asia/Tokyo
BEGIN:STANDARD
TZOFFSETFROM:+0900
TZOFFSETTO:+0900
TZNAME:JST
DTSTART:20250101T000000
END:STANDARD
END:VTIMEZONE
BEGIN:VEVENT
DTSTART;TZID=Asia/Tokyo:20260307T123000
DTEND;TZID=Asia/Tokyo:20260307T210000
DTSTAMP:20260425T050431
CREATED:20260304T045839Z
LAST-MODIFIED:20260330T100122Z
UID:2811-1772886600-1772917200@zephyrhall.xyz
SUMMARY:『XP!A Spring TOUR2026～触れたら最後 逃がさない ずっと～』（名古屋サン公演）
DESCRIPTION:『XP!A Spring TOUR2026～触れたら最後 逃がさない ずっと～』（名古屋サン公演）\n日時 2026.3.7(土)\n会場 Zephyer Hall\n1部 OPEN/START 12:30/13:15\n2部 OPEN/START 17:00/17:45 \nhttps://livepocket.jp/e/xpia260307_1 \nhttps://livepocket.jp/e/xpia260307_2 \n前売¥4\,000\n当日¥4\,500 \n出演者\nXP!A
URL:https://zephyrhall.xyz/event/%e3%80%8expa-spring-tour2026%ef%bd%9e%e8%a7%a6%e3%82%8c%e3%81%9f%e3%82%89%e6%9c%80%e5%be%8c-%e9%80%83%e3%81%8c%e3%81%95%e3%81%aa%e3%81%84-%e3%81%9a%e3%81%a3%e3%81%a8%ef%bd%9e%e3%80%8f%ef%bc%88/
LOCATION:Zephyr Hall\, 愛知県名古屋市中区錦3丁目14-21\, 日本
ATTACH;FMTTYPE=image/jpeg:https://zephyrhall.xyz/wp-content/uploads/2026/03/37-z.jpg
END:VEVENT
END:VCALENDAR