BEGIN:VCALENDAR
VERSION:2.0
PRODID:-//ZephyrHall【ゼファーホール】 - ECPv6.15.20//NONSGML v1.0//EN
CALSCALE:GREGORIAN
METHOD:PUBLISH
X-WR-CALNAME:ZephyrHall【ゼファーホール】
X-ORIGINAL-URL:https://zephyrhall.xyz
X-WR-CALDESC:ZephyrHall【ゼファーホール】 のイベント
REFRESH-INTERVAL;VALUE=DURATION:PT1H
X-Robots-Tag:noindex
X-PUBLISHED-TTL:PT1H
BEGIN:VTIMEZONE
TZID:Asia/Tokyo
BEGIN:STANDARD
TZOFFSETFROM:+0900
TZOFFSETTO:+0900
TZNAME:JST
DTSTART:20250101T000000
END:STANDARD
END:VTIMEZONE
BEGIN:VEVENT
DTSTART;TZID=Asia/Tokyo:20260313T050000
DTEND;TZID=Asia/Tokyo:20260313T223000
DTSTAMP:20260425T045825
CREATED:20260310T101343Z
LAST-MODIFIED:20260330T100334Z
UID:2833-1773378000-1773441000@zephyrhall.xyz
SUMMARY:夢月琉稀生誕祭~0時過ぎても最上級プリンセス~
DESCRIPTION:夢月琉稀生誕祭~0時過ぎても最上級プリンセス~\n日時 2026.3.13(金)\n会場 Zephyer Hall\nOPEN/START 17:15/17:45 \nhttps://ticketdive.com/event/ruki_2026 \nS¥15\,000\n優先¥3\,000\n一般¥500 \n出演者\nBeloved\nimage\nきっと大切だった\nPULSAR_CLIMAX\nみるきーらんど\nあすとりーのうさぎ\n世界で1番シンデレラ\n天色のメロディー\nスコティッシュドール\nこえだきたせ\n輝きぱにっく
URL:https://zephyrhall.xyz/event/%e5%a4%a2%e6%9c%88%e7%90%89%e7%a8%80%e7%94%9f%e8%aa%95%e7%a5%ad0%e6%99%82%e9%81%8e%e3%81%8e%e3%81%a6%e3%82%82%e6%9c%80%e4%b8%8a%e7%b4%9a%e3%83%97%e3%83%aa%e3%83%b3%e3%82%bb%e3%82%b9/
LOCATION:Zephyr Hall\, 愛知県名古屋市中区錦3丁目14-21\, 日本
ATTACH;FMTTYPE=image/jpeg:https://zephyrhall.xyz/wp-content/uploads/2026/03/313-x.jpg
END:VEVENT
END:VCALENDAR