BEGIN:VCALENDAR
VERSION:2.0
PRODID:-//ZephyrHall【ゼファーホール】 - ECPv6.15.20//NONSGML v1.0//EN
CALSCALE:GREGORIAN
METHOD:PUBLISH
X-ORIGINAL-URL:https://zephyrhall.xyz
X-WR-CALDESC:ZephyrHall【ゼファーホール】 のイベント
REFRESH-INTERVAL;VALUE=DURATION:PT1H
X-Robots-Tag:noindex
X-PUBLISHED-TTL:PT1H
BEGIN:VTIMEZONE
TZID:Asia/Tokyo
BEGIN:STANDARD
TZOFFSETFROM:+0900
TZOFFSETTO:+0900
TZNAME:JST
DTSTART:20250101T000000
END:STANDARD
END:VTIMEZONE
BEGIN:VEVENT
DTSTART;TZID=Asia/Tokyo:20260327T160000
DTEND;TZID=Asia/Tokyo:20260327T213000
DTSTAMP:20260425T050026
CREATED:20260327T055238Z
LAST-MODIFIED:20260330T101046Z
UID:2896-1774627200-1774647000@zephyrhall.xyz
SUMMARY:AMOmillion１周年記念LIVE【NEW SEASON】
DESCRIPTION:AMOmillion１周年記念LIVE【NEW SEASON】\n日時 2026.3.27(金)\n会場 Zephyer Hall\nOPEN/START 16:00/17:10 \nhttps://livepocket.jp/e/newamo \nVIP¥15\,000\n優先¥3\,000\n一般¥100\n学生女性¥0 \n出演者\n橋本さおり\nAMOmillion\nLove it ice\nいざ参らん\nTiaraアイドルプロジェクト\n君へセレナーデ\nアクリム\nきっと大切だった\nPULSAR_CLIMAX\nメリズ
URL:https://zephyrhall.xyz/event/amomillion%ef%bc%91%e5%91%a8%e5%b9%b4%e8%a8%98%e5%bf%b5live%e3%80%90new-season%e3%80%91/
LOCATION:Zephyr Hall\, 愛知県名古屋市中区錦3丁目14-21\, 日本
ATTACH;FMTTYPE=image/jpeg:https://zephyrhall.xyz/wp-content/uploads/2026/03/327-z.jpg
END:VEVENT
END:VCALENDAR